Workbook

Sheet 認定申請書
A3: 認定権者記載欄
A6: 様式第５－（イ）－①
A7: 中小企業信用保険法第２条第５項第５号の規定による認定申請書（イ－①）
S8: 令和 | W8: 年 | Z8: 月 | AC8: 日
A9: 岸和田市長 殿
J10: 申請者 事業所 住 所 | M10: =売上高比較表兼理由書!H29 -> 0
J12: 氏 名 | M12: =売上高比較表兼理由書!H30 -> 0
J13: （名称及び代表者の氏名） | Q13: =売上高比較表兼理由書!H31 -> 0
A14: 私は、表に記載する行を営んでいるが、下記のとおり、（注２） 販売数量の減少 ・ 売上高の減少 が生じているため、経営の安定に支障が生じておりますので、中小企業信用保険法第２条第５項第５号の規定に基づき認定されるようお願いします。
A15: （表）
A16: 番号 | D16: 業種名
A17: =IF(売上高比較表兼理由書!A9="","",売上高比較表兼理由書!A9) | C17: =IF(売上高比較表兼理由書!E9="","",売上高比較表兼理由書!E9) | K17: =IF(売上高比較表兼理由書!A10="","",売上高比較表兼理由書!A10) | M17: =IF(売上高比較表兼理由書!E10="","",売上高比較表兼理由書!E10) | U17: =IF(売上高比較表兼理由書!A11="","",売上高比較表兼理由書!A11) | W17: =IF(売上高比較表兼理由書!E11="","",売上高比較表兼理由書!E11)
A18: =IF(売上高比較表兼理由書!A12="","",売上高比較表兼理由書!A12) | C18: =IF(売上高比較表兼理由書!E12="","",売上高比較表兼理由書!E12) | K18: =IF(売上高比較表兼理由書!A13="","",売上高比較表兼理由書!A13) | M18: =IF(売上高比較表兼理由書!E13="","",売上高比較表兼理由書!E13) | U18: =IF(売上高比較表兼理由書!A14="","",売上高比較表兼理由書!A14) | W18: =IF(売上高比較表兼理由書!E14="","",売上高比較表兼理由書!E14)
A19: ※表には営んでいる事業が属する業種（日本標準産業分類の細分類番号と細分類業種名）を全て記載（当該業種は全て指定業種であることが必要）。当該業種が複数ある場合には、その中で、最近１年間で最も売上高等が大きい事業が属する業種を左上の太枠に記載。
A20: 記
A21: １ 事業開始年月日 | W21: 年 | Z21: 月 | AC21: 日
A22: ２ 売上高等
D23: B－A | F23: ×100
D24: B | S24: 減少率 | V24: =売上高比較表兼理由書!X26 | AC24: ％
B25: A：申込時点における最近３か月間の売上高等
B26: （ | C26: 令和 | E26: =売上高比較表兼理由書!C18 -> 0 | F26: 年 | G26: =売上高比較表兼理由書!E18 -> 0 | I26: 月 | J26: ～ | K26: 令和 | M26: =売上高比較表兼理由書!Q18 -> 0 | N26: 年 | O26: =売上高比較表兼理由書!S18 -> 0 | Q26: 月 | R26: ） | S26: =売上高比較表兼理由書!V19 | AA26: 円（注３）
B27: B：Aの期間に対応する前年の３か月間の売上高等
B28: （ | C28: 令和 | E28: =売上高比較表兼理由書!C22 -> 0 | F28: 年 | G28: =売上高比較表兼理由書!E22 -> 0 | I28: 月 | J28: ～ | K28: 令和 | M28: =売上高比較表兼理由書!Q22 -> 0 | N28: 年 | O28: =売上高比較表兼理由書!S22 -> 0 | Q28: 月 | R28: ） | S28: =売上高比較表兼理由書!V23 | AA28: 円（注３）
A30: （注１）本様式は、１つの指定業種に属する事業のみを営んでいる場合、又は営んでいる複数の事業が全て指定業種に属する場合に使用する。
A31: （注２）「販売数量の減少」「売上高の減少」のいずれかに○をつける。
A32: （注３）企業全体の売上高等を記載。
A33: （留意事項）
A34: ① 本認定とは別に、金融機関及び信用保証協会による金融上の審査があります。
A35: ② 岸和田市長から認定を受けた日から30日以内に金融機関又は信用保証協会に対して、保証の申込みを行うことが必要です。
A36: 第 号
B37: 令和 年 月 日
B38: 申請のとおり、相違ないことを認定します。
Q39: 認定者 岸和田市長 佐野 英利

Sheet 売上高比較表兼理由書
A1: 売上高比較表兼理由書（５号：様式第５－（イ）－①）
A3: ・本様式は、営んでいる事業が全て指定業種である事業者のみ使用可能です。
A4: ・ご記入にあたっては、事前にご自身の営んでいる事業の分類を日本標準産業分類で確認してください。
A5: ・表には、営んでいる事業が属する業種（日本標準産業分類の細分類番号と細分類業種名）を全て記載してください。
A7: 業種及び最近１年間の売上げ高
A8: 産業分類番号 細分類（４桁） | E8: 業種 | L8: 指定業種・非指定業種の別 | S8: 最近１年間の売上げ高 | Z8: 構成比
L9: 指定業種 | Y9: 円 | Z9: =IFERROR(IF(A9="","",S9/$S$15*100),"") | AB9: ％
L10: 指定業種 | Y10: 円 | Z10: =IFERROR(IF(A10="","",S10/$S$15*100),"") | AB10: ％
L11: 指定業種 | Y11: 円 | Z11: =IFERROR(IF(A11="","",S11/$S$15*100),"") | AB11: ％
L12: 指定業種 | Y12: 円 | Z12: =IFERROR(IF(A12="","",S12/$S$15*100),"") | AB12: ％
L13: 指定業種 | Y13: 円 | Z13: =IFERROR(IF(A13="","",S13/$S$15*100),"") | AB13: ％
L14: 指定業種 | Y14: 円 | Z14: =IFERROR(IF(A14="","",S14/$S$15*100),"") | AB14: ％
A15: 合計 | S15: =IF(SUM(S9:X14)=0,"",SUM(S9:X14)) | Y15: 円 | Z15: 100 | AB15: ％
A17: 最近３か月間の全体売上高について
A18: 令和 | D18: 年 | G18: 月 | H18: 令和 | K18: 年 | N18: 月 | O18: 令和 | R18: 年 | U18: 月 | V18: 合計
G19: 円 | N19: 円 | U19: 円 | V19: =IF(A19+H19+O19=0,"",A19+H19+O19) | AB19: 円 Ａ
A21: Ａの期間に対応する前年同期の３か月間の全体売上高について
A22: 令和 | D22: 年 | G22: 月 | H22: 令和 | K22: 年 | N22: 月 | O22: 令和 | R22: 年 | U22: 月 | V22: 合計
G23: 円 | N23: 円 | U23: 円 | V23: =IF(A23+H23+O23=0,"",A23+H23+O23) | AB23: 円 Ｂ
AC25: 減少率 計算式（B-A）÷B×100≧５％ （小数点第２位以下切捨）
V26: 減少率 | X26: =IFERROR(ROUNDDOWN((V23-V19)/V23*100,1),"") | AC26: ％
A28: 以上の内容は、売上台帳・法人概況説明書・仕入帳・試算表等の原本及び申請者の状況と相違ないことを証します。
A29: 申請者住所
A30: 名称（屋号・法人名）
A31: 代表者名
