Workbook

Sheet 認定申請書
B3: 認定権者記載欄
B6: 様式第５－（イ）－②
B7: 中小企業信用保険法第２条第５項第５号の規定による認定申請書（イ－②）
T8: 令和 | X8: 年 | AA8: 月 | AD8: 日
B9: 岸和田市長 殿
K10: 申請者 事業所 住 所
K12: 氏 名
K13: （名称及び代表者の氏名）
B14: 私は、表に記載する行を営んでいるが、下記のとおり、（注２） 販売数量の減少 ・ 売上高の減少 が生じているため、経営の安定に支障が生じておりますので、中小企業信用保険法第２条第５項第５号の規定に基づき認定されるようお願いします。
B15: （表）
B16: 番号 | E16: 業種名
B19: ※表には営んでいる事業が属する業種（日本標準産業分類の細分類番号と細分類業種名）を全て記載（当該業種は全て指定業種であることが必要）。当該業種が複数ある場合には、その中で、最近１年間で最も売上高等が大きい事業が属する業種を左上の太枠に記載。
B20: 記
B21: １ 事業開始年月日 | X21: 年 | AA21: 月 | AD21: 日
B22: ２ 売上高等
E23: B－A | G23: ×100 | Q23: 指定業種の減少率 | W23: =売上高比較表兼理由書!X31 | AD23: ％
E24: B | Q24: 全体の減少率 | W24: =売上高比較表兼理由書!X34 | AD24: ％
C26: 最近３か月間における全体の売上高等に占める指定業種の売上高等の割合 | W26: =売上高比較表兼理由書!V28 | AD26: ％
C28: A：申込時点における最近３か月間の売上高等 | O28: （令和 | Q28: =売上高比較表兼理由書!E18 -> 0 | R28: 年 | S28: =売上高比較表兼理由書!G18 -> 0 | U28: 月 | V28: ～ | W28: 令和 | Y28: =売上高比較表兼理由書!S18 -> 0 | Z28: 年 | AA28: =売上高比較表兼理由書!U18 -> 0 | AC28: 月）
Q29: 指定業種の売上高等 | W29: =売上高比較表兼理由書!X19 | AD29: 円
Q30: 全体の売上高等 | W30: =売上高比較表兼理由書!X20 | AD30: 円
C31: B：Aの期間に対応する前年の３か月間の売上高等 | P31: （令和 | R31: =売上高比較表兼理由書!E23 -> 0 | S31: 年 | T31: =売上高比較表兼理由書!G23 -> 0 | V31: 月 | W31: ～ | X31: 令和 | Z31: =売上高比較表兼理由書!S23 -> 0 | AA31: 年 | AB31: =売上高比較表兼理由書!U23 -> 0 | AD31: 月）
Q32: 指定業種の売上高等 | W32: =売上高比較表兼理由書!X24 | AD32: 円
Q33: 全体の売上高等 | W33: =売上高比較表兼理由書!X25 | AD33: 円
B35: （注１）本様式は、指定業種と非指定業種を兼業している場合であって、全体の売上高等に占める指定事業の売上高等の割合、指定業種及び申請者全体双方の売上高等の減少率が認定基準を満たす場合に使用する。
B36: （注２）「販売数量の減少」「売上高の減少」のいずれかに○をつける。
B37: （注３）企業全体の売上高等を記載。
B38: （留意事項）
B39: ①本認定とは別に、金融機関及び信用保証協会による金融上の審査があります。
B40: ②岸和田市長から認定を受けた日から30日以内に金融機関又は信用保証協会に対して、保証の申込みを行うことが必要です。
B41: 第 号
C42: 令和 年 月 日
C43: 申請のとおり、相違ないことを認定します。
R44: 認定者 岸和田市長 佐野 英利

Sheet 売上高比較表兼理由書
A1: 売上高比較表兼理由書（５号：様式第５－（イ）－②）
A3: ・本様式は、指定業種及び非指定業種を営んでいる事業者が使用する様式です。
A4: ・ご記入にあたっては、事前にご自身の営んでいる事業の分類を日本標準産業分類で確認してください。
A5: ・表には、営んでいる事業が属する業種（日本標準産業分類の細分類番号と細分類業種名）を全て記入してください。
A7: 業種及び最近１年間の売上高
A8: 産業分類番号 細分類（４桁） | E8: 細分類業種 | L8: 指定業種・非指定業種の別 （指定業種・非指定業種を記入） | S8: 最近１年間の売上げ高 | Z8: 構成比
Y9: 円 | Z9: =IFERROR(IF(A9="","",S9/$S$15),"") | AB9: ％
Y10: 円 | Z10: =IFERROR(IF(A10="","",S10/$S$15),"") | AB10: ％
Y11: 円 | Z11: =IFERROR(IF(A11="","",S11/$S$15),"") | AB11: ％
Y12: 円 | Z12: =IFERROR(IF(A12="","",S12/$S$15),"") | AB12: ％
Y13: 円 | Z13: =IFERROR(IF(A13="","",S13/$S$15),"") | AB13: ％
Y14: 円 | Z14: =IFERROR(IF(A14="","",S14/$S$15),"") | AB14: ％
A15: 合計 | S15: =IF(SUM(S9:X14)=0,"",SUM(S9:X14)) | Y15: 円 | Z15: 100 | AB15: ％
A17: 最近３か月間の売上高について
C18: 令和 | F18: 年 | I18: 月 | J18: 令和 | M18: 年 | P18: 月 | Q18: 令和 | T18: 年 | W18: 月 | X18: 合計
A19: 指定業種 | I19: 円 | P19: 円 | W19: 円 | X19: =IF(SUM(C19,J19,Q19)=0,"",SUM(C19,J19,Q19)) | AB19: 円 Ａ
A20: 全 体 | I20: 円 | P20: 円 | Q20: fd | W20: 円 | X20: =IF(SUM(C20,J20,Q20)=0,"",SUM(C20,J20,Q20)) | AB20: 円 Ｃ
A22: Ａの期間に対応する前年同期の３か月間の売上高について
C23: 令和 | F23: 年 | I23: 月 | J23: 令和 | M23: 年 | P23: 月 | Q23: 令和 | T23: 年 | W23: 月 | X23: 合計
A24: 指定業種 | I24: 円 | P24: 円 | W24: 円 | X24: =IF(SUM(C24,J24,Q24)=0,"",SUM(C24,J24,Q24)) | AB24: 円 Ｂ
A25: 全 体 | I25: 円 | P25: 円 | W25: 円 | X25: =IF(SUM(C25,J25,Q25)=0,"",SUM(C25,J25,Q25)) | AB25: 円 Ｄ
AC27: 最近３か月間における全体の売上高に占める指定業種の売上高の割合（Ａ÷Ｃ）×100≧５％ （小数点第２位以下切捨）
V28: =IFERROR(IF(X20=0,"",ROUNDDOWN(X19/X20*100,1)),"") | AB28: ％
AC30: 指定業種の減少率 計算式（Ｂ－Ａ）÷Ｂ×100 ≧５％ （小数点第２位以下切捨）
V31: 減少率 | X31: =IFERROR(IF(X24=0,"",ROUNDDOWN((X24-X19)/X24*100,1)),"") | AB31: ％
AC33: 全体売上の減少率 計算式（Ｄ－Ｃ）÷Ｄ×100≧５％ （小数点第２位以下切捨）
V34: 減少率 | X34: =IFERROR(IF(X25=0,"",ROUNDDOWN((X25-X20)/X25*100,1)),"") | AB34: ％
A36: 以上の内容は、売上台帳・法人概況説明書・仕入帳・試算表等の原本及び申請者の状況と相違ないことを証します。
A37: 申請者住所
A38: 名称（屋号・法人名）
A39: 代表者名
