Workbook

Sheet まとめ
A1: 洋画 | B1: 洋画出品人数 | C1: 初出品人数 | D1: 洋画平均年齢 | E1: 40歳未満人数 | F1: 20歳未満 | G1: 20歳以上 30歳未満 | H1: 30歳以上 40歳未満 | I1: 40歳以上 50歳未満 | J1: 50歳以上 60歳未満 | K1: 60歳以上 70歳未満 | L1: 70歳以上 80歳未満 | M1: 80歳以上 | N1: 70歳以上の人数 | O1: 70歳以上の割合 | P1: 岸和田市内 在住の人数 | Q1: 岸和田市内 在住の割合
A2: H19 | B2: =COUNTIFS([1]統計用!A:A,A2,[1]統計用!B:B,"洋画") -> 108 | C2: 22 | D2: =AVERAGEIFS([1]統計用!E:E,[1]統計用!A:A,A2,[1]統計用!B:B,"*洋画*") -> 64.768519 | E2: =COUNTIFS([1]統計用!A:A,A2,[1]統計用!B:B,"*洋画*",[1]統計用!E:E,"<40") -> 4 | F2: =COUNTIFS([1]統計用!A:A,A2,[1]統計用!B:B,"*洋画*",[1]統計用!E:E,"<20") -> 0 | G2: =COUNTIFS([1]統計用!A:A,A2,[1]統計用!B:B,"*洋画*",[1]統計用!E:E,">=20",[1]統計用!E:E,"<30") -> 0 | H2: =COUNTIFS([1]統計用!A:A,A2,[1]統計用!B:B,"*洋画*",[1]統計用!E:E,">=30",[1]統計用!E:E,"<40") -> 4 | I2: =COUNTIFS([1]統計用!A:A,A2,[1]統計用!B:B,"*洋画*",[1]統計用!E:E,">=40",[1]統計用!E:E,"<50") -> 2 | J2: =COUNTIFS([1]統計用!A:A,A2,[1]統計用!B:B,"*洋画*",[1]統計用!E:E,">=50",[1]統計用!E:E,"<60") -> 26 | K2: =COUNTIFS([1]統計用!A:A,A2,[1]統計用!B:B,"*洋画*",[1]統計用!E:E,">=60",[1]統計用!E:E,"<70") -> 42 | L2: =COUNTIFS([1]統計用!A:A,A2,[1]統計用!B:B,"*洋画*",[1]統計用!E:E,">=70",[1]統計用!E:E,"<80") -> 29 | M2: =COUNTIFS([1]統計用!A:A,A2,[1]統計用!B:B,"*洋画*",[1]統計用!E:E,">=80") -> 5 | N2: =L2+M2 -> 34 | O2: =N2/B2 -> 0.31481481 | P2: =COUNTIFS([1]統計用!A:A,A2,[1]統計用!B:B,"*洋画*",[1]統計用!D:D,"*岸和田*") -> 72 | Q2: =P2/B2 -> 0.66666667
A3: H20 | B3: =COUNTIFS([1]統計用!A:A,A3,[1]統計用!B:B,"洋画") -> 114 | C3: 32 | D3: =AVERAGEIFS([1]統計用!E:E,[1]統計用!A:A,A3,[1]統計用!B:B,"*洋画*") -> 65.473684 | E3: =COUNTIFS([1]統計用!A:A,A3,[1]統計用!B:B,"*洋画*",[1]統計用!E:E,"<40") -> 4 | F3: =COUNTIFS([1]統計用!A:A,A3,[1]統計用!B:B,"*洋画*",[1]統計用!E:E,"<20") -> 0 | G3: =COUNTIFS([1]統計用!A:A,A3,[1]統計用!B:B,"*洋画*",[1]統計用!E:E,">=20",[1]統計用!E:E,"<30") -> 0 | H3: =COUNTIFS([1]統計用!A:A,A3,[1]統計用!B:B,"*洋画*",[1]統計用!E:E,">=30",[1]統計用!E:E,"<40") -> 4 | I3: =COUNTIFS([1]統計用!A:A,A3,[1]統計用!B:B,"*洋画*",[1]統計用!E:E,">=40",[1]統計用!E:E,"<50") -> 2 | J3: =COUNTIFS([1]統計用!A:A,A3,[1]統計用!B:B,"*洋画*",[1]統計用!E:E,">=50",[1]統計用!E:E,"<60") -> 23 | K3: =COUNTIFS([1]統計用!A:A,A3,[1]統計用!B:B,"*洋画*",[1]統計用!E:E,">=60",[1]統計用!E:E,"<70") -> 43 | L3: =COUNTIFS([1]統計用!A:A,A3,[1]統計用!B:B,"*洋画*",[1]統計用!E:E,">=70",[1]統計用!E:E,"<80") -> 35 | M3: =COUNTIFS([1]統計用!A:A,A3,[1]統計用!B:B,"*洋画*",[1]統計用!E:E,">=80") -> 7 | N3: =L3+M3 -> 42 | O3: =N3/B3 -> 0.36842105 | P3: =COUNTIFS([1]統計用!A:A,A3,[1]統計用!B:B,"*洋画*",[1]統計用!D:D,"*岸和田*") -> 63 | Q3: =P3/B3 -> 0.55263158
A4: H21 | B4: =COUNTIFS([1]統計用!A:A,A4,[1]統計用!B:B,"洋画") -> 112 | C4: 22 | D4: =AVERAGEIFS([1]統計用!E:E,[1]統計用!A:A,A4,[1]統計用!B:B,"*洋画*") -> 64.455357 | E4: =COUNTIFS([1]統計用!A:A,A4,[1]統計用!B:B,"*洋画*",[1]統計用!E:E,"<40") -> 7 | F4: =COUNTIFS([1]統計用!A:A,A4,[1]統計用!B:B,"*洋画*",[1]統計用!E:E,"<20") -> 3 | G4: =COUNTIFS([1]統計用!A:A,A4,[1]統計用!B:B,"*洋画*",[1]統計用!E:E,">=20",[1]統計用!E:E,"<30") -> 2 | H4: =COUNTIFS([1]統計用!A:A,A4,[1]統計用!B:B,"*洋画*",[1]統計用!E:E,">=30",[1]統計用!E:E,"<40") -> 2 | I4: =COUNTIFS([1]統計用!A:A,A4,[1]統計用!B:B,"*洋画*",[1]統計用!E:E,">=40",[1]統計用!E:E,"<50") -> 4 | J4: =COUNTIFS([1]統計用!A:A,A4,[1]統計用!B:B,"*洋画*",[1]統計用!E:E,">=50",[1]統計用!E:E,"<60") -> 11 | K4: =COUNTIFS([1]統計用!A:A,A4,[1]統計用!B:B,"*洋画*",[1]統計用!E:E,">=60",[1]統計用!E:E,"<70") -> 52 | L4: =COUNTIFS([1]統計用!A:A,A4,[1]統計用!B:B,"*洋画*",[1]統計用!E:E,">=70",[1]統計用!E:E,"<80") -> 30 | M4: =COUNTIFS([1]統計用!A:A,A4,[1]統計用!B:B,"*洋画*",[1]統計用!E:E,">=80") -> 8 | N4: =L4+M4 -> 38 | O4: =N4/B4 -> 0.33928571 | P4: =COUNTIFS([1]統計用!A:A,A4,[1]統計用!B:B,"*洋画*",[1]統計用!D:D,"*岸和田*") -> 65 | Q4: =P4/B4 -> 0.58035714
A5: H22 | B5: =COUNTIFS([1]統計用!A:A,A5,[1]統計用!B:B,"洋画") -> 105 | C5: 27 | D5: =AVERAGEIFS([1]統計用!E:E,[1]統計用!A:A,A5,[1]統計用!B:B,"*洋画*") -> 67.209524 | E5: =COUNTIFS([1]統計用!A:A,A5,[1]統計用!B:B,"*洋画*",[1]統計用!E:E,"<40") -> 0 | F5: =COUNTIFS([1]統計用!A:A,A5,[1]統計用!B:B,"*洋画*",[1]統計用!E:E,"<20") -> 0 | G5: =COUNTIFS([1]統計用!A:A,A5,[1]統計用!B:B,"*洋画*",[1]統計用!E:E,">=20",[1]統計用!E:E,"<30") -> 0 | H5: =COUNTIFS([1]統計用!A:A,A5,[1]統計用!B:B,"*洋画*",[1]統計用!E:E,">=30",[1]統計用!E:E,"<40") -> 0 | I5: =COUNTIFS([1]統計用!A:A,A5,[1]統計用!B:B,"*洋画*",[1]統計用!E:E,">=40",[1]統計用!E:E,"<50") -> 2 | J5: =COUNTIFS([1]統計用!A:A,A5,[1]統計用!B:B,"*洋画*",[1]統計用!E:E,">=50",[1]統計用!E:E,"<60") -> 14 | K5: =COUNTIFS([1]統計用!A:A,A5,[1]統計用!B:B,"*洋画*",[1]統計用!E:E,">=60",[1]統計用!E:E,"<70") -> 53 | L5: =COUNTIFS([1]統計用!A:A,A5,[1]統計用!B:B,"*洋画*",[1]統計用!E:E,">=70",[1]統計用!E:E,"<80") -> 28 | M5: =COUNTIFS([1]統計用!A:A,A5,[1]統計用!B:B,"*洋画*",[1]統計用!E:E,">=80") -> 8 | N5: =L5+M5 -> 36 | O5: =N5/B5 -> 0.34285714 | P5: =COUNTIFS([1]統計用!A:A,A5,[1]統計用!B:B,"*洋画*",[1]統計用!D:D,"*岸和田*") -> 55 | Q5: =P5/B5 -> 0.52380952
A6: H23 | B6: =COUNTIFS([1]統計用!A:A,A6,[1]統計用!B:B,"洋画") -> 102 | C6: 17 | D6: =AVERAGEIFS([1]統計用!E:E,[1]統計用!A:A,A6,[1]統計用!B:B,"*洋画*") -> 68.754902 | E6: =COUNTIFS([1]統計用!A:A,A6,[1]統計用!B:B,"*洋画*",[1]統計用!E:E,"<40") -> 0 | F6: =COUNTIFS([1]統計用!A:A,A6,[1]統計用!B:B,"*洋画*",[1]統計用!E:E,"<20") -> 0 | G6: =COUNTIFS([1]統計用!A:A,A6,[1]統計用!B:B,"*洋画*",[1]統計用!E:E,">=20",[1]統計用!E:E,"<30") -> 0 | H6: =COUNTIFS([1]統計用!A:A,A6,[1]統計用!B:B,"*洋画*",[1]統計用!E:E,">=30",[1]統計用!E:E,"<40") -> 0 | I6: =COUNTIFS([1]統計用!A:A,A6,[1]統計用!B:B,"*洋画*",[1]統計用!E:E,">=40",[1]統計用!E:E,"<50") -> 0 | J6: =COUNTIFS([1]統計用!A:A,A6,[1]統計用!B:B,"*洋画*",[1]統計用!E:E,">=50",[1]統計用!E:E,"<60") -> 10 | K6: =COUNTIFS([1]統計用!A:A,A6,[1]統計用!B:B,"*洋画*",[1]統計用!E:E,">=60",[1]統計用!E:E,"<70") -> 49 | L6: =COUNTIFS([1]統計用!A:A,A6,[1]統計用!B:B,"*洋画*",[1]統計用!E:E,">=70",[1]統計用!E:E,"<80") -> 34 | M6: =COUNTIFS([1]統計用!A:A,A6,[1]統計用!B:B,"*洋画*",[1]統計用!E:E,">=80") -> 9 | N6: =L6+M6 -> 43 | O6: =N6/B6 -> 0.42156863 | P6: =COUNTIFS([1]統計用!A:A,A6,[1]統計用!B:B,"*洋画*",[1]統計用!D:D,"*岸和田*") -> 54 | Q6: =P6/B6 -> 0.52941176
A7: H24 | B7: =COUNTIFS([1]統計用!A:A,A7,[1]統計用!B:B,"洋画") -> 100 | C7: 11 | D7: =AVERAGEIFS([1]統計用!E:E,[1]統計用!A:A,A7,[1]統計用!B:B,"*洋画*") -> 68.38 | E7: =COUNTIFS([1]統計用!A:A,A7,[1]統計用!B:B,"*洋画*",[1]統計用!E:E,"<40") -> 2 | F7: =COUNTIFS([1]統計用!A:A,A7,[1]統計用!B:B,"*洋画*",[1]統計用!E:E,"<20") -> 0 | G7: =COUNTIFS([1]統計用!A:A,A7,[1]統計用!B:B,"*洋画*",[1]統計用!E:E,">=20",[1]統計用!E:E,"<30") -> 2 | H7: =COUNTIFS([1]統計用!A:A,A7,[1]統計用!B:B,"*洋画*",[1]統計用!E:E,">=30",[1]統計用!E:E,"<40") -> 0 | I7: =COUNTIFS([1]統計用!A:A,A7,[1]統計用!B:B,"*洋画*",[1]統計用!E:E,">=40",[1]統計用!E:E,"<50") -> 0 | J7: =COUNTIFS([1]統計用!A:A,A7,[1]統計用!B:B,"*洋画*",[1]統計用!E:E,">=50",[1]統計用!E:E,"<60") -> 8 | K7: =COUNTIFS([1]統計用!A:A,A7,[1]統計用!B:B,"*洋画*",[1]統計用!E:E,">=60",[1]統計用!E:E,"<70") -> 44 | L7: =COUNTIFS([1]統計用!A:A,A7,[1]統計用!B:B,"*洋画*",[1]統計用!E:E,">=70",[1]統計用!E:E,"<80") -> 38 | M7: =COUNTIFS([1]統計用!A:A,A7,[1]統計用!B:B,"*洋画*",[1]統計用!E:E,">=80") -> 8 | N7: =L7+M7 -> 46 | O7: =N7/B7 -> 0.46 | P7: =COUNTIFS([1]統計用!A:A,A7,[1]統計用!B:B,"*洋画*",[1]統計用!D:D,"*岸和田*") -> 49 | Q7: =P7/B7 -> 0.49
A8: H25 | B8: =COUNTIFS([1]統計用!A:A,A8,[1]統計用!B:B,"洋画") -> 105 | C8: 18 | D8: =AVERAGEIFS([1]統計用!E:E,[1]統計用!A:A,A8,[1]統計用!B:B,"*洋画*") -> 69.742857 | E8: =COUNTIFS([1]統計用!A:A,A8,[1]統計用!B:B,"*洋画*",[1]統計用!E:E,"<40") -> 0 | F8: =COUNTIFS([1]統計用!A:A,A8,[1]統計用!B:B,"*洋画*",[1]統計用!E:E,"<20") -> 0 | G8: =COUNTIFS([1]統計用!A:A,A8,[1]統計用!B:B,"*洋画*",[1]統計用!E:E,">=20",[1]統計用!E:E,"<30") -> 0 | H8: =COUNTIFS([1]統計用!A:A,A8,[1]統計用!B:B,"*洋画*",[1]統計用!E:E,">=30",[1]統計用!E:E,"<40") -> 0 | I8: =COUNTIFS([1]統計用!A:A,A8,[1]統計用!B:B,"*洋画*",[1]統計用!E:E,">=40",[1]統計用!E:E,"<50") -> 0 | J8: =COUNTIFS([1]統計用!A:A,A8,[1]統計用!B:B,"*洋画*",[1]統計用!E:E,">=50",[1]統計用!E:E,"<60") -> 7 | K8: =COUNTIFS([1]統計用!A:A,A8,[1]統計用!B:B,"*洋画*",[1]統計用!E:E,">=60",[1]統計用!E:E,"<70") -> 45 | L8: =COUNTIFS([1]統計用!A:A,A8,[1]統計用!B:B,"*洋画*",[1]統計用!E:E,">=70",[1]統計用!E:E,"<80") -> 45 | M8: =COUNTIFS([1]統計用!A:A,A8,[1]統計用!B:B,"*洋画*",[1]統計用!E:E,">=80") -> 8 | N8: =L8+M8 -> 53 | O8: =N8/B8 -> 0.5047619 | P8: =COUNTIFS([1]統計用!A:A,A8,[1]統計用!B:B,"*洋画*",[1]統計用!D:D,"*岸和田*") -> 45 | Q8: =P8/B8 -> 0.42857143
A9: H26 | B9: =COUNTIFS([1]統計用!A:A,A9,[1]統計用!B:B,"洋画") -> 100 | C9: 7 | D9: =AVERAGEIFS([1]統計用!E:E,[1]統計用!A:A,A9,[1]統計用!B:B,"*洋画*") -> 70.28 | E9: =COUNTIFS([1]統計用!A:A,A9,[1]統計用!B:B,"*洋画*",[1]統計用!E:E,"<40") -> 1 | F9: =COUNTIFS([1]統計用!A:A,A9,[1]統計用!B:B,"*洋画*",[1]統計用!E:E,"<20") -> 0 | G9: =COUNTIFS([1]統計用!A:A,A9,[1]統計用!B:B,"*洋画*",[1]統計用!E:E,">=20",[1]統計用!E:E,"<30") -> 0 | H9: =COUNTIFS([1]統計用!A:A,A9,[1]統計用!B:B,"*洋画*",[1]統計用!E:E,">=30",[1]統計用!E:E,"<40") -> 1 | I9: =COUNTIFS([1]統計用!A:A,A9,[1]統計用!B:B,"*洋画*",[1]統計用!E:E,">=40",[1]統計用!E:E,"<50") -> 0 | J9: =COUNTIFS([1]統計用!A:A,A9,[1]統計用!B:B,"*洋画*",[1]統計用!E:E,">=50",[1]統計用!E:E,"<60") -> 3 | K9: =COUNTIFS([1]統計用!A:A,A9,[1]統計用!B:B,"*洋画*",[1]統計用!E:E,">=60",[1]統計用!E:E,"<70") -> 41 | L9: =COUNTIFS([1]統計用!A:A,A9,[1]統計用!B:B,"*洋画*",[1]統計用!E:E,">=70",[1]統計用!E:E,"<80") -> 47 | M9: =COUNTIFS([1]統計用!A:A,A9,[1]統計用!B:B,"*洋画*",[1]統計用!E:E,">=80") -> 8 | N9: =L9+M9 -> 55 | O9: =N9/B9 -> 0.55 | P9: =COUNTIFS([1]統計用!A:A,A9,[1]統計用!B:B,"*洋画*",[1]統計用!D:D,"*岸和田*") -> 47 | Q9: =P9/B9 -> 0.47
A10: H27 | B10: =COUNTIFS([1]統計用!A:A,A10,[1]統計用!B:B,"洋画") -> 106 | C10: 18 | D10: =AVERAGEIFS([1]統計用!E:E,[1]統計用!A:A,A10,[1]統計用!B:B,"*洋画*") -> 69.632075 | E10: =COUNTIFS([1]統計用!A:A,A10,[1]統計用!B:B,"*洋画*",[1]統計用!E:E,"<40") -> 0 | F10: =COUNTIFS([1]統計用!A:A,A10,[1]統計用!B:B,"*洋画*",[1]統計用!E:E,"<20") -> 0 | G10: =COUNTIFS([1]統計用!A:A,A10,[1]統計用!B:B,"*洋画*",[1]統計用!E:E,">=20",[1]統計用!E:E,"<30") -> 0 | H10: =COUNTIFS([1]統計用!A:A,A10,[1]統計用!B:B,"*洋画*",[1]統計用!E:E,">=30",[1]統計用!E:E,"<40") -> 0 | I10: =COUNTIFS([1]統計用!A:A,A10,[1]統計用!B:B,"*洋画*",[1]統計用!E:E,">=40",[1]統計用!E:E,"<50") -> 1 | J10: =COUNTIFS([1]統計用!A:A,A10,[1]統計用!B:B,"*洋画*",[1]統計用!E:E,">=50",[1]統計用!E:E,"<60") -> 5 | K10: =COUNTIFS([1]統計用!A:A,A10,[1]統計用!B:B,"*洋画*",[1]統計用!E:E,">=60",[1]統計用!E:E,"<70") -> 41 | L10: =COUNTIFS([1]統計用!A:A,A10,[1]統計用!B:B,"*洋画*",[1]統計用!E:E,">=70",[1]統計用!E:E,"<80") -> 53 | M10: =COUNTIFS([1]統計用!A:A,A10,[1]統計用!B:B,"*洋画*",[1]統計用!E:E,">=80") -> 6 | N10: =L10+M10 -> 59 | O10: =N10/B10 -> 0.55660377 | P10: =COUNTIFS([1]統計用!A:A,A10,[1]統計用!B:B,"*洋画*",[1]統計用!D:D,"*岸和田*") -> 51 | Q10: =P10/B10 -> 0.48113208
A11: H28 | B11: =COUNTIFS([1]統計用!A:A,A11,[1]統計用!B:B,"洋画") -> 93 | C11: 8 | D11: =AVERAGEIFS([1]統計用!E:E,[1]統計用!A:A,A11,[1]統計用!B:B,"*洋画*") -> 70.763441 | E11: =COUNTIFS([1]統計用!A:A,A11,[1]統計用!B:B,"*洋画*",[1]統計用!E:E,"<40") -> 1 | F11: =COUNTIFS([1]統計用!A:A,A11,[1]統計用!B:B,"*洋画*",[1]統計用!E:E,"<20") -> 0 | G11: =COUNTIFS([1]統計用!A:A,A11,[1]統計用!B:B,"*洋画*",[1]統計用!E:E,">=20",[1]統計用!E:E,"<30") -> 0 | H11: =COUNTIFS([1]統計用!A:A,A11,[1]統計用!B:B,"*洋画*",[1]統計用!E:E,">=30",[1]統計用!E:E,"<40") -> 1 | I11: =COUNTIFS([1]統計用!A:A,A11,[1]統計用!B:B,"*洋画*",[1]統計用!E:E,">=40",[1]統計用!E:E,"<50") -> 0 | J11: =COUNTIFS([1]統計用!A:A,A11,[1]統計用!B:B,"*洋画*",[1]統計用!E:E,">=50",[1]統計用!E:E,"<60") -> 2 | K11: =COUNTIFS([1]統計用!A:A,A11,[1]統計用!B:B,"*洋画*",[1]統計用!E:E,">=60",[1]統計用!E:E,"<70") -> 38 | L11: =COUNTIFS([1]統計用!A:A,A11,[1]統計用!B:B,"*洋画*",[1]統計用!E:E,">=70",[1]統計用!E:E,"<80") -> 44 | M11: =COUNTIFS([1]統計用!A:A,A11,[1]統計用!B:B,"*洋画*",[1]統計用!E:E,">=80") -> 8 | N11: =L11+M11 -> 52 | O11: =N11/B11 -> 0.55913978 | P11: =COUNTIFS([1]統計用!A:A,A11,[1]統計用!B:B,"*洋画*",[1]統計用!D:D,"*岸和田*") -> 44 | Q11: =P11/B11 -> 0.47311828
A12: H29 | B12: =COUNTIFS([1]統計用!A:A,A12,[1]統計用!B:B,"洋画") -> 92 | C12: 6 | D12: =AVERAGEIFS([1]統計用!E:E,[1]統計用!A:A,A12,[1]統計用!B:B,"*洋画*") -> 70.891304 | E12: =COUNTIFS([1]統計用!A:A,A12,[1]統計用!B:B,"*洋画*",[1]統計用!E:E,"<40") -> 1 | F12: =COUNTIFS([1]統計用!A:A,A12,[1]統計用!B:B,"*洋画*",[1]統計用!E:E,"<20") -> 0 | G12: =COUNTIFS([1]統計用!A:A,A12,[1]統計用!B:B,"*洋画*",[1]統計用!E:E,">=20",[1]統計用!E:E,"<30") -> 0 | H12: =COUNTIFS([1]統計用!A:A,A12,[1]統計用!B:B,"*洋画*",[1]統計用!E:E,">=30",[1]統計用!E:E,"<40") -> 1 | I12: =COUNTIFS([1]統計用!A:A,A12,[1]統計用!B:B,"*洋画*",[1]統計用!E:E,">=40",[1]統計用!E:E,"<50") -> 0 | J12: =COUNTIFS([1]統計用!A:A,A12,[1]統計用!B:B,"*洋画*",[1]統計用!E:E,">=50",[1]統計用!E:E,"<60") -> 3 | K12: =COUNTIFS([1]統計用!A:A,A12,[1]統計用!B:B,"*洋画*",[1]統計用!E:E,">=60",[1]統計用!E:E,"<70") -> 36 | L12: =COUNTIFS([1]統計用!A:A,A12,[1]統計用!B:B,"*洋画*",[1]統計用!E:E,">=70",[1]統計用!E:E,"<80") -> 42 | M12: =COUNTIFS([1]統計用!A:A,A12,[1]統計用!B:B,"*洋画*",[1]統計用!E:E,">=80") -> 10 | N12: =L12+M12 -> 52 | O12: =N12/B12 -> 0.56521739 | P12: =COUNTIFS([1]統計用!A:A,A12,[1]統計用!B:B,"*洋画*",[1]統計用!D:D,"*岸和田*") -> 43 | Q12: =P12/B12 -> 0.4673913
A13: H30 | B13: =COUNTIFS([1]統計用!A:A,A13,[1]統計用!B:B,"洋画") -> 91 | C13: 13 | D13: =AVERAGEIFS([1]統計用!E:E,[1]統計用!A:A,A13,[1]統計用!B:B,"*洋画*") -> 70.955556 | E13: =COUNTIFS([1]統計用!A:A,A13,[1]統計用!B:B,"*洋画*",[1]統計用!E:E,"<40") -> 1 | F13: =COUNTIFS([1]統計用!A:A,A13,[1]統計用!B:B,"*洋画*",[1]統計用!E:E,"<20") -> 0 | G13: =COUNTIFS([1]統計用!A:A,A13,[1]統計用!B:B,"*洋画*",[1]統計用!E:E,">=20",[1]統計用!E:E,"<30") -> 0 | H13: =COUNTIFS([1]統計用!A:A,A13,[1]統計用!B:B,"*洋画*",[1]統計用!E:E,">=30",[1]統計用!E:E,"<40") -> 1 | I13: =COUNTIFS([1]統計用!A:A,A13,[1]統計用!B:B,"*洋画*",[1]統計用!E:E,">=40",[1]統計用!E:E,"<50") -> 2 | J13: =COUNTIFS([1]統計用!A:A,A13,[1]統計用!B:B,"*洋画*",[1]統計用!E:E,">=50",[1]統計用!E:E,"<60") -> 1 | K13: =COUNTIFS([1]統計用!A:A,A13,[1]統計用!B:B,"*洋画*",[1]統計用!E:E,">=60",[1]統計用!E:E,"<70") -> 33 | L13: =COUNTIFS([1]統計用!A:A,A13,[1]統計用!B:B,"*洋画*",[1]統計用!E:E,">=70",[1]統計用!E:E,"<80") -> 43 | M13: =COUNTIFS([1]統計用!A:A,A13,[1]統計用!B:B,"*洋画*",[1]統計用!E:E,">=80") -> 10 | N13: =L13+M13 -> 53 | O13: =N13/B13 -> 0.58241758 | P13: =COUNTIFS([1]統計用!A:A,A13,[1]統計用!B:B,"*洋画*",[1]統計用!D:D,"*岸和田*") -> 42 | Q13: =P13/B13 -> 0.46153846
... A19: R8 | B19: =COUNTIFS([1]統計用!A:A,A19,[1]統計用!B:B,"洋画") -> 77 | C19: 24 | D19: =AVERAGEIFS([1]統計用!E:E,[1]統計用!A:A,A19,[1]統計用!B:B,"*洋画*") -> 72.571429 | E19: =COUNTIFS([1]統計用!A:A,A19,[1]統計用!B:B,"*洋画*",[1]統計用!E:E,"<40") -> 2 | F19: =COUNTIFS([1]統計用!A:A,A19,[1]統計用!B:B,"*洋画*",[1]統計用!E:E,"<20") -> 0 | G19: =COUNTIFS([1]統計用!A:A,A19,[1]統計用!B:B,"*洋画*",[1]統計用!E:E,">=20",[1]統計用!E:E,"<30") -> 1 | H19: =COUNTIFS([1]統計用!A:A,A19,[1]統計用!B:B,"*洋画*",[1]統計用!E:E,">=30",[1]統計用!E:E,"<40") -> 1 | I19: =COUNTIFS([1]統計用!A:A,A19,[1]統計用!B:B,"*洋画*",[1]統計用!E:E,">=40",[1]統計用!E:E,"<50") -> 2 | J19: =COUNTIFS([1]統計用!A:A,A19,[1]統計用!B:B,"*洋画*",[1]統計用!E:E,">=50",[1]統計用!E:E,"<60") -> 3 | K19: =COUNTIFS([1]統計用!A:A,A19,[1]統計用!B:B,"*洋画*",[1]統計用!E:E,">=60",[1]統計用!E:E,"<70") -> 11 | L19: =COUNTIFS([1]統計用!A:A,A19,[1]統計用!B:B,"*洋画*",[1]統計用!E:E,">=70",[1]統計用!E:E,"<80") -> 40 | M19: =COUNTIFS([1]統計用!A:A,A19,[1]統計用!B:B,"*洋画*",[1]統計用!E:E,">=80") -> 19 | N19: =L19+M19 -> 59 | O19: =N19/B19 -> 0.76623377 | P19: =COUNTIFS([1]統計用!A:A,A19,[1]統計用!B:B,"*洋画*",[1]統計用!D:D,"*岸和田*") -> 36 | Q19: =P19/B19 -> 0.46753247
A21: 俳画 | B21: 俳画出品人数 | C21: 初出品人数 | D21: 俳画平均年齢 | E21: 40歳未満人数 | F21: 20歳未満 | G21: 20歳以上 30歳未満 | H21: 30歳以上 40歳未満 | I21: 40歳以上 50歳未満 | J21: 50歳以上 60歳未満 | K21: 60歳以上 70歳未満 | L21: 70歳以上 80歳未満 | M21: 80歳以上 | N21: 70歳以上の人数 | O21: 70歳以上の割合 | P21: 岸和田市内 在住の人数 | Q21: 岸和田市内 在住の割合
A22: H19 | B22: =COUNTIFS([1]統計用!A:A,A22,[1]統計用!B:B,"俳画") -> 33 | C22: 4 | D22: =AVERAGEIFS([1]統計用!E:E,[1]統計用!A:A,A22,[1]統計用!B:B,"*俳画*") -> 67.878788 | E22: =COUNTIFS([1]統計用!A:A,A22,[1]統計用!B:B,"*俳画*",[1]統計用!E:E,"<40") -> 1 | F22: =COUNTIFS([1]統計用!A:A,A22,[1]統計用!B:B,"*俳画*",[1]統計用!E:E,"<20") -> 0 | G22: =COUNTIFS([1]統計用!A:A,A22,[1]統計用!B:B,"*俳画*",[1]統計用!E:E,">=20",[1]統計用!E:E,"<30") -> 0 | H22: =COUNTIFS([1]統計用!A:A,A22,[1]統計用!B:B,"*俳画*",[1]統計用!E:E,">=30",[1]統計用!E:E,"<40") -> 1 | I22: =COUNTIFS([1]統計用!A:A,A22,[1]統計用!B:B,"*俳画*",[1]統計用!E:E,">=40",[1]統計用!E:E,"<50") -> 2 | J22: =COUNTIFS([1]統計用!A:A,A22,[1]統計用!B:B,"*俳画*",[1]統計用!E:E,">=50",[1]統計用!E:E,"<60") -> 2 | K22: =COUNTIFS([1]統計用!A:A,A22,[1]統計用!B:B,"*俳画*",[1]統計用!E:E,">=60",[1]統計用!E:E,"<70") -> 10 | L22: =COUNTIFS([1]統計用!A:A,A22,[1]統計用!B:B,"*俳画*",[1]統計用!E:E,">=70",[1]統計用!E:E,"<80") -> 16 | M22: =COUNTIFS([1]統計用!A:A,A22,[1]統計用!B:B,"*俳画*",[1]統計用!E:E,">=80") -> 2 | N22: =L22+M22 -> 18 | O22: =N22/B22 -> 0.54545455 | P22: =COUNTIFS([1]統計用!A:A,A22,[1]統計用!B:B,"*俳画*",[1]統計用!D:D,"*岸和田*") -> 28 | Q22: =P22/B22 -> 0.84848485
A23: H20 | B23: =COUNTIFS([1]統計用!A:A,A23,[1]統計用!B:B,"俳画") -> 31 | C23: 2 | D23: =AVERAGEIFS([1]統計用!E:E,[1]統計用!A:A,A23,[1]統計用!B:B,"*俳画*") -> 67 | E23: =COUNTIFS([1]統計用!A:A,A23,[1]統計用!B:B,"*俳画*",[1]統計用!E:E,"<40") -> 0 | F23: =COUNTIFS([1]統計用!A:A,A23,[1]統計用!B:B,"*俳画*",[1]統計用!E:E,"<20") -> 0 | G23: =COUNTIFS([1]統計用!A:A,A23,[1]統計用!B:B,"*俳画*",[1]統計用!E:E,">=20",[1]統計用!E:E,"<30") -> 0 | H23: =COUNTIFS([1]統計用!A:A,A23,[1]統計用!B:B,"*俳画*",[1]統計用!E:E,">=30",[1]統計用!E:E,"<40") -> 0 | I23: =COUNTIFS([1]統計用!A:A,A23,[1]統計用!B:B,"*俳画*",[1]統計用!E:E,">=40",[1]統計用!E:E,"<50") -> 3 | J23: =COUNTIFS([1]統計用!A:A,A23,[1]統計用!B:B,"*俳画*",[1]統計用!E:E,">=50",[1]統計用!E:E,"<60") -> 2 | K23: =COUNTIFS([1]統計用!A:A,A23,[1]統計用!B:B,"*俳画*",[1]統計用!E:E,">=60",[1]統計用!E:E,"<70") -> 11 | L23: =COUNTIFS([1]統計用!A:A,A23,[1]統計用!B:B,"*俳画*",[1]統計用!E:E,">=70",[1]統計用!E:E,"<80") -> 12 | M23: =COUNTIFS([1]統計用!A:A,A23,[1]統計用!B:B,"*俳画*",[1]統計用!E:E,">=80") -> 2 | N23: =L23+M23 -> 14 | O23: =N23/B23 -> 0.4516129 | P23: =COUNTIFS([1]統計用!A:A,A23,[1]統計用!B:B,"*俳画*",[1]統計用!D:D,"*岸和田*") -> 25 | Q23: =P23/B23 -> 0.80645161
A24: H21 | B24: =COUNTIFS([1]統計用!A:A,A24,[1]統計用!B:B,"俳画") -> 34 | C24: 6 | D24: =AVERAGEIFS([1]統計用!E:E,[1]統計用!A:A,A24,[1]統計用!B:B,"*俳画*") -> 68.235294 | E24: =COUNTIFS([1]統計用!A:A,A24,[1]統計用!B:B,"*俳画*",[1]統計用!E:E,"<40") -> 0 | F24: =COUNTIFS([1]統計用!A:A,A24,[1]統計用!B:B,"*俳画*",[1]統計用!E:E,"<20") -> 0 | G24: =COUNTIFS([1]統計用!A:A,A24,[1]統計用!B:B,"*俳画*",[1]統計用!E:E,">=20",[1]統計用!E:E,"<30") -> 0 | H24: =COUNTIFS([1]統計用!A:A,A24,[1]統計用!B:B,"*俳画*",[1]統計用!E:E,">=30",[1]統計用!E:E,"<40") -> 0 | I24: =COUNTIFS([1]統計用!A:A,A24,[1]統計用!B:B,"*俳画*",[1]統計用!E:E,">=40",[1]統計用!E:E,"<50") -> 2 | J24: =COUNTIFS([1]統計用!A:A,A24,[1]統計用!B:B,"*俳画*",[1]統計用!E:E,">=50",[1]統計用!E:E,"<60") -> 2 | K24: =COUNTIFS([1]統計用!A:A,A24,[1]統計用!B:B,"*俳画*",[1]統計用!E:E,">=60",[1]統計用!E:E,"<70") -> 15 | L24: =COUNTIFS([1]統計用!A:A,A24,[1]統計用!B:B,"*俳画*",[1]統計用!E:E,">=70",[1]統計用!E:E,"<80") -> 11 | M24: =COUNTIFS([1]統計用!A:A,A24,[1]統計用!B:B,"*俳画*",[1]統計用!E:E,">=80") -> 4 | N24: =L24+M24 -> 15 | O24: =N24/B24 -> 0.44117647 | P24: =COUNTIFS([1]統計用!A:A,A24,[1]統計用!B:B,"*俳画*",[1]統計用!D:D,"*岸和田*") -> 25 | Q24: =P24/B24 -> 0.73529412
A25: H22 | B25: =COUNTIFS([1]統計用!A:A,A25,[1]統計用!B:B,"俳画") -> 30 | C25: 4 | D25: =AVERAGEIFS([1]統計用!E:E,[1]統計用!A:A,A25,[1]統計用!B:B,"*俳画*") -> 69.333333 | E25: =COUNTIFS([1]統計用!A:A,A25,[1]統計用!B:B,"*俳画*",[1]統計用!E:E,"<40") -> 0 | F25: =COUNTIFS([1]統計用!A:A,A25,[1]統計用!B:B,"*俳画*",[1]統計用!E:E,"<20") -> 0 | G25: =COUNTIFS([1]統計用!A:A,A25,[1]統計用!B:B,"*俳画*",[1]統計用!E:E,">=20",[1]統計用!E:E,"<30") -> 0 | H25: =COUNTIFS([1]統計用!A:A,A25,[1]統計用!B:B,"*俳画*",[1]統計用!E:E,">=30",[1]統計用!E:E,"<40") -> 0 | I25: =COUNTIFS([1]統計用!A:A,A25,[1]統計用!B:B,"*俳画*",[1]統計用!E:E,">=40",[1]統計用!E:E,"<50") -> 1 | J25: =COUNTIFS([1]統計用!A:A,A25,[1]統計用!B:B,"*俳画*",[1]統計用!E:E,">=50",[1]統計用!E:E,"<60") -> 2 | K25: =COUNTIFS([1]統計用!A:A,A25,[1]統計用!B:B,"*俳画*",[1]統計用!E:E,">=60",[1]統計用!E:E,"<70") -> 13 | L25: =COUNTIFS([1]統計用!A:A,A25,[1]統計用!B:B,"*俳画*",[1]統計用!E:E,">=70",[1]統計用!E:E,"<80") -> 9 | M25: =COUNTIFS([1]統計用!A:A,A25,[1]統計用!B:B,"*俳画*",[1]統計用!E:E,">=80") -> 5 | N25: =L25+M25 -> 14 | O25: =N25/B25 -> 0.46666667 | P25: =COUNTIFS([1]統計用!A:A,A25,[1]統計用!B:B,"*俳画*",[1]統計用!D:D,"*岸和田*") -> 23 | Q25: =P25/B25 -> 0.76666667
A26: H23 | B26: =COUNTIFS([1]統計用!A:A,A26,[1]統計用!B:B,"俳画") -> 27 | C26: 4 | D26: =AVERAGEIFS([1]統計用!E:E,[1]統計用!A:A,A26,[1]統計用!B:B,"*俳画*") -> 70.407407 | E26: =COUNTIFS([1]統計用!A:A,A26,[1]統計用!B:B,"*俳画*",[1]統計用!E:E,"<40") -> 0 | F26: =COUNTIFS([1]統計用!A:A,A26,[1]統計用!B:B,"*俳画*",[1]統計用!E:E,"<20") -> 0 | G26: =COUNTIFS([1]統計用!A:A,A26,[1]統計用!B:B,"*俳画*",[1]統計用!E:E,">=20",[1]統計用!E:E,"<30") -> 0 | H26: =COUNTIFS([1]統計用!A:A,A26,[1]統計用!B:B,"*俳画*",[1]統計用!E:E,">=30",[1]統計用!E:E,"<40") -> 0 | I26: =COUNTIFS([1]統計用!A:A,A26,[1]統計用!B:B,"*俳画*",[1]統計用!E:E,">=40",[1]統計用!E:E,"<50") -> 1 | J26: =COUNTIFS([1]統計用!A:A,A26,[1]統計用!B:B,"*俳画*",[1]統計用!E:E,">=50",[1]統計用!E:E,"<60") -> 1 | K26: =COUNTIFS([1]統計用!A:A,A26,[1]統計用!B:B,"*俳画*",[1]統計用!E:E,">=60",[1]統計用!E:E,"<70") -> 9 | L26: =COUNTIFS([1]統計用!A:A,A26,[1]統計用!B:B,"*俳画*",[1]統計用!E:E,">=70",[1]統計用!E:E,"<80") -> 11 | M26: =COUNTIFS([1]統計用!A:A,A26,[1]統計用!B:B,"*俳画*",[1]統計用!E:E,">=80") -> 5 | N26: =L26+M26 -> 16 | O26: =N26/B26 -> 0.59259259 | P26: =COUNTIFS([1]統計用!A:A,A26,[1]統計用!B:B,"*俳画*",[1]統計用!D:D,"*岸和田*") -> 17 | Q26: =P26/B26 -> 0.62962963
A27: H24 | B27: =COUNTIFS([1]統計用!A:A,A27,[1]統計用!B:B,"俳画") -> 30 | C27: 4 | D27: =AVERAGEIFS([1]統計用!E:E,[1]統計用!A:A,A27,[1]統計用!B:B,"*俳画*") -> 70.133333 | E27: =COUNTIFS([1]統計用!A:A,A27,[1]統計用!B:B,"*俳画*",[1]統計用!E:E,"<40") -> 0 | F27: =COUNTIFS([1]統計用!A:A,A27,[1]統計用!B:B,"*俳画*",[1]統計用!E:E,"<20") -> 0 | G27: =COUNTIFS([1]統計用!A:A,A27,[1]統計用!B:B,"*俳画*",[1]統計用!E:E,">=20",[1]統計用!E:E,"<30") -> 0 | H27: =COUNTIFS([1]統計用!A:A,A27,[1]統計用!B:B,"*俳画*",[1]統計用!E:E,">=30",[1]統計用!E:E,"<40") -> 0 | I27: =COUNTIFS([1]統計用!A:A,A27,[1]統計用!B:B,"*俳画*",[1]統計用!E:E,">=40",[1]統計用!E:E,"<50") -> 1 | J27: =COUNTIFS([1]統計用!A:A,A27,[1]統計用!B:B,"*俳画*",[1]統計用!E:E,">=50",[1]統計用!E:E,"<60") -> 2 | K27: =COUNTIFS([1]統計用!A:A,A27,[1]統計用!B:B,"*俳画*",[1]統計用!E:E,">=60",[1]統計用!E:E,"<70") -> 11 | L27: =COUNTIFS([1]統計用!A:A,A27,[1]統計用!B:B,"*俳画*",[1]統計用!E:E,">=70",[1]統計用!E:E,"<80") -> 11 | M27: =COUNTIFS([1]統計用!A:A,A27,[1]統計用!B:B,"*俳画*",[1]統計用!E:E,">=80") -> 5 | N27: =L27+M27 -> 16 | O27: =N27/B27 -> 0.53333333 | P27: =COUNTIFS([1]統計用!A:A,A27,[1]統計用!B:B,"*俳画*",[1]統計用!D:D,"*岸和田*") -> 20 | Q27: =P27/B27 -> 0.66666667
A28: H25 | B28: =COUNTIFS([1]統計用!A:A,A28,[1]統計用!B:B,"俳画") -> 24 | C28: 2 | D28: =AVERAGEIFS([1]統計用!E:E,[1]統計用!A:A,A28,[1]統計用!B:B,"*俳画*") -> 71.958333 | E28: =COUNTIFS([1]統計用!A:A,A28,[1]統計用!B:B,"*俳画*",[1]統計用!E:E,"<40") -> 0 | F28: =COUNTIFS([1]統計用!A:A,A28,[1]統計用!B:B,"*俳画*",[1]統計用!E:E,"<20") -> 0 | G28: =COUNTIFS([1]統計用!A:A,A28,[1]統計用!B:B,"*俳画*",[1]統計用!E:E,">=20",[1]統計用!E:E,"<30") -> 0 | H28: =COUNTIFS([1]統計用!A:A,A28,[1]統計用!B:B,"*俳画*",[1]統計用!E:E,">=30",[1]統計用!E:E,"<40") -> 0 | I28: =COUNTIFS([1]統計用!A:A,A28,[1]統計用!B:B,"*俳画*",[1]統計用!E:E,">=40",[1]統計用!E:E,"<50") -> 0 | J28: =COUNTIFS([1]統計用!A:A,A28,[1]統計用!B:B,"*俳画*",[1]統計用!E:E,">=50",[1]統計用!E:E,"<60") -> 2 | K28: =COUNTIFS([1]統計用!A:A,A28,[1]統計用!B:B,"*俳画*",[1]統計用!E:E,">=60",[1]統計用!E:E,"<70") -> 10 | L28: =COUNTIFS([1]統計用!A:A,A28,[1]統計用!B:B,"*俳画*",[1]統計用!E:E,">=70",[1]統計用!E:E,"<80") -> 8 | M28: =COUNTIFS([1]統計用!A:A,A28,[1]統計用!B:B,"*俳画*",[1]統計用!E:E,">=80") -> 4 | N28: =L28+M28 -> 12 | O28: =N28/B28 -> 0.5 | P28: =COUNTIFS([1]統計用!A:A,A28,[1]統計用!B:B,"*俳画*",[1]統計用!D:D,"*岸和田*") -> 18 | Q28: =P28/B28 -> 0.75
A29: H26 | B29: =COUNTIFS([1]統計用!A:A,A29,[1]統計用!B:B,"俳画") -> 23 | C29: 2 | D29: =AVERAGEIFS([1]統計用!E:E,[1]統計用!A:A,A29,[1]統計用!B:B,"*俳画*") -> 72.173913 | E29: =COUNTIFS([1]統計用!A:A,A29,[1]統計用!B:B,"*俳画*",[1]統計用!E:E,"<40") -> 0 | F29: =COUNTIFS([1]統計用!A:A,A29,[1]統計用!B:B,"*俳画*",[1]統計用!E:E,"<20") -> 0 | G29: =COUNTIFS([1]統計用!A:A,A29,[1]統計用!B:B,"*俳画*",[1]統計用!E:E,">=20",[1]統計用!E:E,"<30") -> 0 | H29: =COUNTIFS([1]統計用!A:A,A29,[1]統計用!B:B,"*俳画*",[1]統計用!E:E,">=30",[1]統計用!E:E,"<40") -> 0 | I29: =COUNTIFS([1]統計用!A:A,A29,[1]統計用!B:B,"*俳画*",[1]統計用!E:E,">=40",[1]統計用!E:E,"<50") -> 0 | J29: =COUNTIFS([1]統計用!A:A,A29,[1]統計用!B:B,"*俳画*",[1]統計用!E:E,">=50",[1]統計用!E:E,"<60") -> 1 | K29: =COUNTIFS([1]統計用!A:A,A29,[1]統計用!B:B,"*俳画*",[1]統計用!E:E,">=60",[1]統計用!E:E,"<70") -> 7 | L29: =COUNTIFS([1]統計用!A:A,A29,[1]統計用!B:B,"*俳画*",[1]統計用!E:E,">=70",[1]統計用!E:E,"<80") -> 11 | M29: =COUNTIFS([1]統計用!A:A,A29,[1]統計用!B:B,"*俳画*",[1]統計用!E:E,">=80") -> 4 | N29: =L29+M29 -> 15 | O29: =N29/B29 -> 0.65217391 | P29: =COUNTIFS([1]統計用!A:A,A29,[1]統計用!B:B,"*俳画*",[1]統計用!D:D,"*岸和田*") -> 16 | Q29: =P29/B29 -> 0.69565217
A30: H27 | B30: =COUNTIFS([1]統計用!A:A,A30,[1]統計用!B:B,"俳画") -> 22 | C30: 6 | D30: =AVERAGEIFS([1]統計用!E:E,[1]統計用!A:A,A30,[1]統計用!B:B,"*俳画*") -> 72.590909 | E30: =COUNTIFS([1]統計用!A:A,A30,[1]統計用!B:B,"*俳画*",[1]統計用!E:E,"<40") -> 0 | F30: =COUNTIFS([1]統計用!A:A,A30,[1]統計用!B:B,"*俳画*",[1]統計用!E:E,"<20") -> 0 | G30: =COUNTIFS([1]統計用!A:A,A30,[1]統計用!B:B,"*俳画*",[1]統計用!E:E,">=20",[1]統計用!E:E,"<30") -> 0 | H30: =COUNTIFS([1]統計用!A:A,A30,[1]統計用!B:B,"*俳画*",[1]統計用!E:E,">=30",[1]統計用!E:E,"<40") -> 0 | I30: =COUNTIFS([1]統計用!A:A,A30,[1]統計用!B:B,"*俳画*",[1]統計用!E:E,">=40",[1]統計用!E:E,"<50") -> 0 | J30: =COUNTIFS([1]統計用!A:A,A30,[1]統計用!B:B,"*俳画*",[1]統計用!E:E,">=50",[1]統計用!E:E,"<60") -> 1 | K30: =COUNTIFS([1]統計用!A:A,A30,[1]統計用!B:B,"*俳画*",[1]統計用!E:E,">=60",[1]統計用!E:E,"<70") -> 6 | L30: =COUNTIFS([1]統計用!A:A,A30,[1]統計用!B:B,"*俳画*",[1]統計用!E:E,">=70",[1]統計用!E:E,"<80") -> 10 | M30: =COUNTIFS([1]統計用!A:A,A30,[1]統計用!B:B,"*俳画*",[1]統計用!E:E,">=80") -> 5 | N30: =L30+M30 -> 15 | O30: =N30/B30 -> 0.68181818 | P30: =COUNTIFS([1]統計用!A:A,A30,[1]統計用!B:B,"*俳画*",[1]統計用!D:D,"*岸和田*") -> 21 | Q30: =P30/B30 -> 0.95454545
A31: H28 | B31: =COUNTIFS([1]統計用!A:A,A31,[1]統計用!B:B,"俳画") -> 21 | C31: 2 | D31: =AVERAGEIFS([1]統計用!E:E,[1]統計用!A:A,A31,[1]統計用!B:B,"*俳画*") -> 72.571429 | E31: =COUNTIFS([1]統計用!A:A,A31,[1]統計用!B:B,"*俳画*",[1]統計用!E:E,"<40") -> 0 | F31: =COUNTIFS([1]統計用!A:A,A31,[1]統計用!B:B,"*俳画*",[1]統計用!E:E,"<20") -> 0 | G31: =COUNTIFS([1]統計用!A:A,A31,[1]統計用!B:B,"*俳画*",[1]統計用!E:E,">=20",[1]統計用!E:E,"<30") -> 0 | H31: =COUNTIFS([1]統計用!A:A,A31,[1]統計用!B:B,"*俳画*",[1]統計用!E:E,">=30",[1]統計用!E:E,"<40") -> 0 | I31: =COUNTIFS([1]統計用!A:A,A31,[1]統計用!B:B,"*俳画*",[1]統計用!E:E,">=40",[1]統計用!E:E,"<50") -> 0 | J31: =COUNTIFS([1]統計用!A:A,A31,[1]統計用!B:B,"*俳画*",[1]統計用!E:E,">=50",[1]統計用!E:E,"<60") -> 2 | K31: =COUNTIFS([1]統計用!A:A,A31,[1]統計用!B:B,"*俳画*",[1]統計用!E:E,">=60",[1]統計用!E:E,"<70") -> 5 | L31: =COUNTIFS([1]統計用!A:A,A31,[1]統計用!B:B,"*俳画*",[1]統計用!E:E,">=70",[1]統計用!E:E,"<80") -> 10 | M31: =COUNTIFS([1]統計用!A:A,A31,[1]統計用!B:B,"*俳画*",[1]統計用!E:E,">=80") -> 4 | N31: =L31+M31 -> 14 | O31: =N31/B31 -> 0.66666667 | P31: =COUNTIFS([1]統計用!A:A,A31,[1]統計用!B:B,"*俳画*",[1]統計用!D:D,"*岸和田*") -> 19 | Q31: =P31/B31 -> 0.9047619
A32: H29 | B32: =COUNTIFS([1]統計用!A:A,A32,[1]統計用!B:B,"俳画") -> 20 | C32: 4 | D32: =AVERAGEIFS([1]統計用!E:E,[1]統計用!A:A,A32,[1]統計用!B:B,"*俳画*") -> 72.3 | E32: =COUNTIFS([1]統計用!A:A,A32,[1]統計用!B:B,"*俳画*",[1]統計用!E:E,"<40") -> 0 | F32: =COUNTIFS([1]統計用!A:A,A32,[1]統計用!B:B,"*俳画*",[1]統計用!E:E,"<20") -> 0 | G32: =COUNTIFS([1]統計用!A:A,A32,[1]統計用!B:B,"*俳画*",[1]統計用!E:E,">=20",[1]統計用!E:E,"<30") -> 0 | H32: =COUNTIFS([1]統計用!A:A,A32,[1]統計用!B:B,"*俳画*",[1]統計用!E:E,">=30",[1]統計用!E:E,"<40") -> 0 | I32: =COUNTIFS([1]統計用!A:A,A32,[1]統計用!B:B,"*俳画*",[1]統計用!E:E,">=40",[1]統計用!E:E,"<50") -> 0 | J32: =COUNTIFS([1]統計用!A:A,A32,[1]統計用!B:B,"*俳画*",[1]統計用!E:E,">=50",[1]統計用!E:E,"<60") -> 2 | K32: =COUNTIFS([1]統計用!A:A,A32,[1]統計用!B:B,"*俳画*",[1]統計用!E:E,">=60",[1]統計用!E:E,"<70") -> 5 | L32: =COUNTIFS([1]統計用!A:A,A32,[1]統計用!B:B,"*俳画*",[1]統計用!E:E,">=70",[1]統計用!E:E,"<80") -> 9 | M32: =COUNTIFS([1]統計用!A:A,A32,[1]統計用!B:B,"*俳画*",[1]統計用!E:E,">=80") -> 4 | N32: =L32+M32 -> 13 | O32: =N32/B32 -> 0.65 | P32: =COUNTIFS([1]統計用!A:A,A32,[1]統計用!B:B,"*俳画*",[1]統計用!D:D,"*岸和田*") -> 18 | Q32: =P32/B32 -> 0.9
A33: H30 | B33: =COUNTIFS([1]統計用!A:A,A33,[1]統計用!B:B,"俳画") -> 33 | C33: 17 | D33: =AVERAGEIFS([1]統計用!E:E,[1]統計用!A:A,A33,[1]統計用!B:B,"*俳画*") -> 73.030303 | E33: =COUNTIFS([1]統計用!A:A,A33,[1]統計用!B:B,"*俳画*",[1]統計用!E:E,"<40") -> 0 | F33: =COUNTIFS([1]統計用!A:A,A33,[1]統計用!B:B,"*俳画*",[1]統計用!E:E,"<20") -> 0 | G33: =COUNTIFS([1]統計用!A:A,A33,[1]統計用!B:B,"*俳画*",[1]統計用!E:E,">=20",[1]統計用!E:E,"<30") -> 0 | H33: =COUNTIFS([1]統計用!A:A,A33,[1]統計用!B:B,"*俳画*",[1]統計用!E:E,">=30",[1]統計用!E:E,"<40") -> 0 | I33: =COUNTIFS([1]統計用!A:A,A33,[1]統計用!B:B,"*俳画*",[1]統計用!E:E,">=40",[1]統計用!E:E,"<50") -> 0 | J33: =COUNTIFS([1]統計用!A:A,A33,[1]統計用!B:B,"*俳画*",[1]統計用!E:E,">=50",[1]統計用!E:E,"<60") -> 5 | K33: =COUNTIFS([1]統計用!A:A,A33,[1]統計用!B:B,"*俳画*",[1]統計用!E:E,">=60",[1]統計用!E:E,"<70") -> 2 | L33: =COUNTIFS([1]統計用!A:A,A33,[1]統計用!B:B,"*俳画*",[1]統計用!E:E,">=70",[1]統計用!E:E,"<80") -> 17 | M33: =COUNTIFS([1]統計用!A:A,A33,[1]統計用!B:B,"*俳画*",[1]統計用!E:E,">=80") -> 9 | N33: =L33+M33 -> 26 | O33: =N33/B33 -> 0.78787879 | P33: =COUNTIFS([1]統計用!A:A,A33,[1]統計用!B:B,"*俳画*",[1]統計用!D:D,"*岸和田*") -> 20 | Q33: =P33/B33 -> 0.60606061
... A39: R8 | B39: =COUNTIFS([1]統計用!A:A,A39,[1]統計用!B:B,"俳画") -> 10 | C39: 0 | D39: =AVERAGEIFS([1]統計用!E:E,[1]統計用!A:A,A39,[1]統計用!B:B,"*俳画*") -> 76.9 | E39: =COUNTIFS([1]統計用!A:A,A39,[1]統計用!B:B,"*俳画*",[1]統計用!E:E,"<40") -> 0 | F39: =COUNTIFS([1]統計用!A:A,A39,[1]統計用!B:B,"*俳画*",[1]統計用!E:E,"<20") -> 0 | G39: =COUNTIFS([1]統計用!A:A,A39,[1]統計用!B:B,"*俳画*",[1]統計用!E:E,">=20",[1]統計用!E:E,"<30") -> 0 | H39: =COUNTIFS([1]統計用!A:A,A39,[1]統計用!B:B,"*俳画*",[1]統計用!E:E,">=30",[1]統計用!E:E,"<40") -> 0 | I39: =COUNTIFS([1]統計用!A:A,A39,[1]統計用!B:B,"*俳画*",[1]統計用!E:E,">=40",[1]統計用!E:E,"<50") -> 0 | J39: =COUNTIFS([1]統計用!A:A,A39,[1]統計用!B:B,"*俳画*",[1]統計用!E:E,">=50",[1]統計用!E:E,"<60") -> 0 | K39: =COUNTIFS([1]統計用!A:A,A39,[1]統計用!B:B,"*俳画*",[1]統計用!E:E,">=60",[1]統計用!E:E,"<70") -> 2 | L39: =COUNTIFS([1]統計用!A:A,A39,[1]統計用!B:B,"*俳画*",[1]統計用!E:E,">=70",[1]統計用!E:E,"<80") -> 4 | M39: =COUNTIFS([1]統計用!A:A,A39,[1]統計用!B:B,"*俳画*",[1]統計用!E:E,">=80") -> 4 | N39: =L39+M39 -> 8 | O39: =N39/B39 -> 0.8 | P39: =COUNTIFS([1]統計用!A:A,A39,[1]統計用!B:B,"*俳画*",[1]統計用!D:D,"*岸和田*") -> 7 | Q39: =P39/B39 -> 0.7
A41: 写真 | B41: 写真出品人数 | C41: 初出品人数 | D41: 写真平均年齢 | E41: 40歳未満人数 | F41: 20歳未満 | G41: 20歳以上 30歳未満 | H41: 30歳以上 40歳未満 | I41: 40歳以上 50歳未満 | J41: 50歳以上 60歳未満 | K41: 60歳以上 70歳未満 | L41: 70歳以上 80歳未満 | M41: 80歳以上 | N41: 70歳以上の人数 | O41: 70歳以上の割合 | P41: 岸和田市内 在住の人数 | Q41: 岸和田市内 在住の割合
A42: H19 | B42: =COUNTIFS([1]統計用!A:A,A42,[1]統計用!B:B,"写真") -> 79 | C42: 10 | D42: =AVERAGEIFS([1]統計用!E:E,[1]統計用!A:A,A42,[1]統計用!B:B,"*写真*") -> 67.884615 | E42: =COUNTIFS([1]統計用!A:A,A42,[1]統計用!B:B,"*写真*",[1]統計用!E:E,"<40") -> 1 | F42: =COUNTIFS([1]統計用!A:A,A42,[1]統計用!B:B,"*写真*",[1]統計用!E:E,"<20") -> 0 | G42: =COUNTIFS([1]統計用!A:A,A42,[1]統計用!B:B,"*写真*",[1]統計用!E:E,">=20",[1]統計用!E:E,"<30") -> 1 | H42: =COUNTIFS([1]統計用!A:A,A42,[1]統計用!B:B,"*写真*",[1]統計用!E:E,">=30",[1]統計用!E:E,"<40") -> 0 | I42: =COUNTIFS([1]統計用!A:A,A42,[1]統計用!B:B,"*写真*",[1]統計用!E:E,">=40",[1]統計用!E:E,"<50") -> 1 | J42: =COUNTIFS([1]統計用!A:A,A42,[1]統計用!B:B,"*写真*",[1]統計用!E:E,">=50",[1]統計用!E:E,"<60") -> 8 | K42: =COUNTIFS([1]統計用!A:A,A42,[1]統計用!B:B,"*写真*",[1]統計用!E:E,">=60",[1]統計用!E:E,"<70") -> 34 | L42: =COUNTIFS([1]統計用!A:A,A42,[1]統計用!B:B,"*写真*",[1]統計用!E:E,">=70",[1]統計用!E:E,"<80") -> 30 | M42: =COUNTIFS([1]統計用!A:A,A42,[1]統計用!B:B,"*写真*",[1]統計用!E:E,">=80") -> 4 | N42: =L42+M42 -> 34 | O42: =N42/B42 -> 0.43037975 | P42: =COUNTIFS([1]統計用!A:A,A42,[1]統計用!B:B,"*写真*",[1]統計用!D:D,"*岸和田*") -> 41 | Q42: =P42/B42 -> 0.51898734
A43: H20 | B43: =COUNTIFS([1]統計用!A:A,A43,[1]統計用!B:B,"写真") -> 100 | C43: 20 | D43: =AVERAGEIFS([1]統計用!E:E,[1]統計用!A:A,A43,[1]統計用!B:B,"*写真*") -> 67.84 | E43: =COUNTIFS([1]統計用!A:A,A43,[1]統計用!B:B,"*写真*",[1]統計用!E:E,"<40") -> 2 | F43: =COUNTIFS([1]統計用!A:A,A43,[1]統計用!B:B,"*写真*",[1]統計用!E:E,"<20") -> 1 | G43: =COUNTIFS([1]統計用!A:A,A43,[1]統計用!B:B,"*写真*",[1]統計用!E:E,">=20",[1]統計用!E:E,"<30") -> 0 | H43: =COUNTIFS([1]統計用!A:A,A43,[1]統計用!B:B,"*写真*",[1]統計用!E:E,">=30",[1]統計用!E:E,"<40") -> 1 | I43: =COUNTIFS([1]統計用!A:A,A43,[1]統計用!B:B,"*写真*",[1]統計用!E:E,">=40",[1]統計用!E:E,"<50") -> 2 | J43: =COUNTIFS([1]統計用!A:A,A43,[1]統計用!B:B,"*写真*",[1]統計用!E:E,">=50",[1]統計用!E:E,"<60") -> 13 | K43: =COUNTIFS([1]統計用!A:A,A43,[1]統計用!B:B,"*写真*",[1]統計用!E:E,">=60",[1]統計用!E:E,"<70") -> 34 | L43: =COUNTIFS([1]統計用!A:A,A43,[1]統計用!B:B,"*写真*",[1]統計用!E:E,">=70",[1]統計用!E:E,"<80") -> 42 | M43: =COUNTIFS([1]統計用!A:A,A43,[1]統計用!B:B,"*写真*",[1]統計用!E:E,">=80") -> 7 | N43: =L43+M43 -> 49 | O43: =N43/B43 -> 0.49 | P43: =COUNTIFS([1]統計用!A:A,A43,[1]統計用!B:B,"*写真*",[1]統計用!D:D,"*岸和田*") -> 58 | Q43: =P43/B43 -> 0.58
A44: H21 | B44: =COUNTIFS([1]統計用!A:A,A44,[1]統計用!B:B,"写真") -> 83 | C44: 11 | D44: =AVERAGEIFS([1]統計用!E:E,[1]統計用!A:A,A44,[1]統計用!B:B,"*写真*") -> 69.096386 | E44: =COUNTIFS([1]統計用!A:A,A44,[1]統計用!B:B,"*写真*",[1]統計用!E:E,"<40") -> 1 | F44: =COUNTIFS([1]統計用!A:A,A44,[1]統計用!B:B,"*写真*",[1]統計用!E:E,"<20") -> 0 | G44: =COUNTIFS([1]統計用!A:A,A44,[1]統計用!B:B,"*写真*",[1]統計用!E:E,">=20",[1]統計用!E:E,"<30") -> 0 | H44: =COUNTIFS([1]統計用!A:A,A44,[1]統計用!B:B,"*写真*",[1]統計用!E:E,">=30",[1]統計用!E:E,"<40") -> 1 | I44: =COUNTIFS([1]統計用!A:A,A44,[1]統計用!B:B,"*写真*",[1]統計用!E:E,">=40",[1]統計用!E:E,"<50") -> 1 | J44: =COUNTIFS([1]統計用!A:A,A44,[1]統計用!B:B,"*写真*",[1]統計用!E:E,">=50",[1]統計用!E:E,"<60") -> 10 | K44: =COUNTIFS([1]統計用!A:A,A44,[1]統計用!B:B,"*写真*",[1]統計用!E:E,">=60",[1]統計用!E:E,"<70") -> 23 | L44: =COUNTIFS([1]統計用!A:A,A44,[1]統計用!B:B,"*写真*",[1]統計用!E:E,">=70",[1]統計用!E:E,"<80") -> 42 | M44: =COUNTIFS([1]統計用!A:A,A44,[1]統計用!B:B,"*写真*",[1]統計用!E:E,">=80") -> 6 | N44: =L44+M44 -> 48 | O44: =N44/B44 -> 0.57831325 | P44: =COUNTIFS([1]統計用!A:A,A44,[1]統計用!B:B,"*写真*",[1]統計用!D:D,"*岸和田*") -> 43 | Q44: =P44/B44 -> 0.51807229
A45: H22 | B45: =COUNTIFS([1]統計用!A:A,A45,[1]統計用!B:B,"写真") -> 108 | C45: 27 | D45: =AVERAGEIFS([1]統計用!E:E,[1]統計用!A:A,A45,[1]統計用!B:B,"*写真*") -> 68.851852 | E45: =COUNTIFS([1]統計用!A:A,A45,[1]統計用!B:B,"*写真*",[1]統計用!E:E,"<40") -> 1 | F45: =COUNTIFS([1]統計用!A:A,A45,[1]統計用!B:B,"*写真*",[1]統計用!E:E,"<20") -> 0 | G45: =COUNTIFS([1]統計用!A:A,A45,[1]統計用!B:B,"*写真*",[1]統計用!E:E,">=20",[1]統計用!E:E,"<30") -> 1 | H45: =COUNTIFS([1]統計用!A:A,A45,[1]統計用!B:B,"*写真*",[1]統計用!E:E,">=30",[1]統計用!E:E,"<40") -> 0 | I45: =COUNTIFS([1]統計用!A:A,A45,[1]統計用!B:B,"*写真*",[1]統計用!E:E,">=40",[1]統計用!E:E,"<50") -> 3 | J45: =COUNTIFS([1]統計用!A:A,A45,[1]統計用!B:B,"*写真*",[1]統計用!E:E,">=50",[1]統計用!E:E,"<60") -> 12 | K45: =COUNTIFS([1]統計用!A:A,A45,[1]統計用!B:B,"*写真*",[1]統計用!E:E,">=60",[1]統計用!E:E,"<70") -> 34 | L45: =COUNTIFS([1]統計用!A:A,A45,[1]統計用!B:B,"*写真*",[1]統計用!E:E,">=70",[1]統計用!E:E,"<80") -> 51 | M45: =COUNTIFS([1]統計用!A:A,A45,[1]統計用!B:B,"*写真*",[1]統計用!E:E,">=80") -> 7 | N45: =L45+M45 -> 58 | O45: =N45/B45 -> 0.53703704 | P45: =COUNTIFS([1]統計用!A:A,A45,[1]統計用!B:B,"*写真*",[1]統計用!D:D,"*岸和田*") -> 54 | Q45: =P45/B45 -> 0.5
A46: H23 | B46: =COUNTIFS([1]統計用!A:A,A46,[1]統計用!B:B,"写真") -> 111 | C46: 23 | D46: =AVERAGEIFS([1]統計用!E:E,[1]統計用!A:A,A46,[1]統計用!B:B,"*写真*") -> 68.27027 | E46: =COUNTIFS([1]統計用!A:A,A46,[1]統計用!B:B,"*写真*",[1]統計用!E:E,"<40") -> 2 | F46: =COUNTIFS([1]統計用!A:A,A46,[1]統計用!B:B,"*写真*",[1]統計用!E:E,"<20") -> 0 | G46: =COUNTIFS([1]統計用!A:A,A46,[1]統計用!B:B,"*写真*",[1]統計用!E:E,">=20",[1]統計用!E:E,"<30") -> 1 | H46: =COUNTIFS([1]統計用!A:A,A46,[1]統計用!B:B,"*写真*",[1]統計用!E:E,">=30",[1]統計用!E:E,"<40") -> 1 | I46: =COUNTIFS([1]統計用!A:A,A46,[1]統計用!B:B,"*写真*",[1]統計用!E:E,">=40",[1]統計用!E:E,"<50") -> 2 | J46: =COUNTIFS([1]統計用!A:A,A46,[1]統計用!B:B,"*写真*",[1]統計用!E:E,">=50",[1]統計用!E:E,"<60") -> 7 | K46: =COUNTIFS([1]統計用!A:A,A46,[1]統計用!B:B,"*写真*",[1]統計用!E:E,">=60",[1]統計用!E:E,"<70") -> 44 | L46: =COUNTIFS([1]統計用!A:A,A46,[1]統計用!B:B,"*写真*",[1]統計用!E:E,">=70",[1]統計用!E:E,"<80") -> 50 | M46: =COUNTIFS([1]統計用!A:A,A46,[1]統計用!B:B,"*写真*",[1]統計用!E:E,">=80") -> 6 | N46: =L46+M46 -> 56 | O46: =N46/B46 -> 0.5045045 | P46: =COUNTIFS([1]統計用!A:A,A46,[1]統計用!B:B,"*写真*",[1]統計用!D:D,"*岸和田*") -> 59 | Q46: =P46/B46 -> 0.53153153
A47: H24 | B47: =COUNTIFS([1]統計用!A:A,A47,[1]統計用!B:B,"写真") -> 101 | C47: 8 | D47: =AVERAGEIFS([1]統計用!E:E,[1]統計用!A:A,A47,[1]統計用!B:B,"*写真*") -> 69.930693 | E47: =COUNTIFS([1]統計用!A:A,A47,[1]統計用!B:B,"*写真*",[1]統計用!E:E,"<40") -> 2 | F47: =COUNTIFS([1]統計用!A:A,A47,[1]統計用!B:B,"*写真*",[1]統計用!E:E,"<20") -> 0 | G47: =COUNTIFS([1]統計用!A:A,A47,[1]統計用!B:B,"*写真*",[1]統計用!E:E,">=20",[1]統計用!E:E,"<30") -> 0 | H47: =COUNTIFS([1]統計用!A:A,A47,[1]統計用!B:B,"*写真*",[1]統計用!E:E,">=30",[1]統計用!E:E,"<40") -> 2 | I47: =COUNTIFS([1]統計用!A:A,A47,[1]統計用!B:B,"*写真*",[1]統計用!E:E,">=40",[1]統計用!E:E,"<50") -> 1 | J47: =COUNTIFS([1]統計用!A:A,A47,[1]統計用!B:B,"*写真*",[1]統計用!E:E,">=50",[1]統計用!E:E,"<60") -> 5 | K47: =COUNTIFS([1]統計用!A:A,A47,[1]統計用!B:B,"*写真*",[1]統計用!E:E,">=60",[1]統計用!E:E,"<70") -> 31 | L47: =COUNTIFS([1]統計用!A:A,A47,[1]統計用!B:B,"*写真*",[1]統計用!E:E,">=70",[1]統計用!E:E,"<80") -> 57 | M47: =COUNTIFS([1]統計用!A:A,A47,[1]統計用!B:B,"*写真*",[1]統計用!E:E,">=80") -> 5 | N47: =L47+M47 -> 62 | O47: =N47/B47 -> 0.61386139 | P47: =COUNTIFS([1]統計用!A:A,A47,[1]統計用!B:B,"*写真*",[1]統計用!D:D,"*岸和田*") -> 55 | Q47: =P47/B47 -> 0.54455446
A48: H25 | B48: =COUNTIFS([1]統計用!A:A,A48,[1]統計用!B:B,"写真") -> 115 | C48: 17 | D48: =AVERAGEIFS([1]統計用!E:E,[1]統計用!A:A,A48,[1]統計用!B:B,"*写真*") -> 71.278261 | E48: =COUNTIFS([1]統計用!A:A,A48,[1]統計用!B:B,"*写真*",[1]統計用!E:E,"<40") -> 0 | F48: =COUNTIFS([1]統計用!A:A,A48,[1]統計用!B:B,"*写真*",[1]統計用!E:E,"<20") -> 0 | G48: =COUNTIFS([1]統計用!A:A,A48,[1]統計用!B:B,"*写真*",[1]統計用!E:E,">=20",[1]統計用!E:E,"<30") -> 0 | H48: =COUNTIFS([1]統計用!A:A,A48,[1]統計用!B:B,"*写真*",[1]統計用!E:E,">=30",[1]統計用!E:E,"<40") -> 0 | I48: =COUNTIFS([1]統計用!A:A,A48,[1]統計用!B:B,"*写真*",[1]統計用!E:E,">=40",[1]統計用!E:E,"<50") -> 0 | J48: =COUNTIFS([1]統計用!A:A,A48,[1]統計用!B:B,"*写真*",[1]統計用!E:E,">=50",[1]統計用!E:E,"<60") -> 6 | K48: =COUNTIFS([1]統計用!A:A,A48,[1]統計用!B:B,"*写真*",[1]統計用!E:E,">=60",[1]統計用!E:E,"<70") -> 33 | L48: =COUNTIFS([1]統計用!A:A,A48,[1]統計用!B:B,"*写真*",[1]統計用!E:E,">=70",[1]統計用!E:E,"<80") -> 64 | M48: =COUNTIFS([1]統計用!A:A,A48,[1]統計用!B:B,"*写真*",[1]統計用!E:E,">=80") -> 12 | N48: =L48+M48 -> 76 | O48: =N48/B48 -> 0.66086957 | P48: =COUNTIFS([1]統計用!A:A,A48,[1]統計用!B:B,"*写真*",[1]統計用!D:D,"*岸和田*") -> 59 | Q48: =P48/B48 -> 0.51304348
A49: H26 | B49: =COUNTIFS([1]統計用!A:A,A49,[1]統計用!B:B,"写真") -> 120 | C49: 25 | D49: =AVERAGEIFS([1]統計用!E:E,[1]統計用!A:A,A49,[1]統計用!B:B,"*写真*") -> 70.555556 | E49: =COUNTIFS([1]統計用!A:A,A49,[1]統計用!B:B,"*写真*",[1]統計用!E:E,"<40") -> 1 | F49: =COUNTIFS([1]統計用!A:A,A49,[1]統計用!B:B,"*写真*",[1]統計用!E:E,"<20") -> 0 | G49: =COUNTIFS([1]統計用!A:A,A49,[1]統計用!B:B,"*写真*",[1]統計用!E:E,">=20",[1]統計用!E:E,"<30") -> 0 | H49: =COUNTIFS([1]統計用!A:A,A49,[1]統計用!B:B,"*写真*",[1]統計用!E:E,">=30",[1]統計用!E:E,"<40") -> 1 | I49: =COUNTIFS([1]統計用!A:A,A49,[1]統計用!B:B,"*写真*",[1]統計用!E:E,">=40",[1]統計用!E:E,"<50") -> 1 | J49: =COUNTIFS([1]統計用!A:A,A49,[1]統計用!B:B,"*写真*",[1]統計用!E:E,">=50",[1]統計用!E:E,"<60") -> 7 | K49: =COUNTIFS([1]統計用!A:A,A49,[1]統計用!B:B,"*写真*",[1]統計用!E:E,">=60",[1]統計用!E:E,"<70") -> 32 | L49: =COUNTIFS([1]統計用!A:A,A49,[1]統計用!B:B,"*写真*",[1]統計用!E:E,">=70",[1]統計用!E:E,"<80") -> 64 | M49: =COUNTIFS([1]統計用!A:A,A49,[1]統計用!B:B,"*写真*",[1]統計用!E:E,">=80") -> 12 | N49: =L49+M49 -> 76 | O49: =N49/B49 -> 0.63333333 | P49: =COUNTIFS([1]統計用!A:A,A49,[1]統計用!B:B,"*写真*",[1]統計用!D:D,"*岸和田*") -> 64 | Q49: =P49/B49 -> 0.53333333
A50: H27 | B50: =COUNTIFS([1]統計用!A:A,A50,[1]統計用!B:B,"写真") -> 125 | C50: 10 | D50: =AVERAGEIFS([1]統計用!E:E,[1]統計用!A:A,A50,[1]統計用!B:B,"*写真*") -> 71.41129 | E50: =COUNTIFS([1]統計用!A:A,A50,[1]統計用!B:B,"*写真*",[1]統計用!E:E,"<40") -> 0 | F50: =COUNTIFS([1]統計用!A:A,A50,[1]統計用!B:B,"*写真*",[1]統計用!E:E,"<20") -> 0 | G50: =COUNTIFS([1]統計用!A:A,A50,[1]統計用!B:B,"*写真*",[1]統計用!E:E,">=20",[1]統計用!E:E,"<30") -> 0 | H50: =COUNTIFS([1]統計用!A:A,A50,[1]統計用!B:B,"*写真*",[1]統計用!E:E,">=30",[1]統計用!E:E,"<40") -> 0 | I50: =COUNTIFS([1]統計用!A:A,A50,[1]統計用!B:B,"*写真*",[1]統計用!E:E,">=40",[1]統計用!E:E,"<50") -> 2 | J50: =COUNTIFS([1]統計用!A:A,A50,[1]統計用!B:B,"*写真*",[1]統計用!E:E,">=50",[1]統計用!E:E,"<60") -> 5 | K50: =COUNTIFS([1]統計用!A:A,A50,[1]統計用!B:B,"*写真*",[1]統計用!E:E,">=60",[1]統計用!E:E,"<70") -> 35 | L50: =COUNTIFS([1]統計用!A:A,A50,[1]統計用!B:B,"*写真*",[1]統計用!E:E,">=70",[1]統計用!E:E,"<80") -> 66 | M50: =COUNTIFS([1]統計用!A:A,A50,[1]統計用!B:B,"*写真*",[1]統計用!E:E,">=80") -> 16 | N50: =L50+M50 -> 82 | O50: =N50/B50 -> 0.656 | P50: =COUNTIFS([1]統計用!A:A,A50,[1]統計用!B:B,"*写真*",[1]統計用!D:D,"*岸和田*") -> 63 | Q50: =P50/B50 -> 0.504
A51: H28 | B51: =COUNTIFS([1]統計用!A:A,A51,[1]統計用!B:B,"写真") -> 142 | C51: 29 | D51: =AVERAGEIFS([1]統計用!E:E,[1]統計用!A:A,A51,[1]統計用!B:B,"*写真*") -> 72.422535 | E51: =COUNTIFS([1]統計用!A:A,A51,[1]統計用!B:B,"*写真*",[1]統計用!E:E,"<40") -> 0 | F51: =COUNTIFS([1]統計用!A:A,A51,[1]統計用!B:B,"*写真*",[1]統計用!E:E,"<20") -> 0 | G51: =COUNTIFS([1]統計用!A:A,A51,[1]統計用!B:B,"*写真*",[1]統計用!E:E,">=20",[1]統計用!E:E,"<30") -> 0 | H51: =COUNTIFS([1]統計用!A:A,A51,[1]統計用!B:B,"*写真*",[1]統計用!E:E,">=30",[1]統計用!E:E,"<40") -> 0 | I51: =COUNTIFS([1]統計用!A:A,A51,[1]統計用!B:B,"*写真*",[1]統計用!E:E,">=40",[1]統計用!E:E,"<50") -> 1 | J51: =COUNTIFS([1]統計用!A:A,A51,[1]統計用!B:B,"*写真*",[1]統計用!E:E,">=50",[1]統計用!E:E,"<60") -> 3 | K51: =COUNTIFS([1]統計用!A:A,A51,[1]統計用!B:B,"*写真*",[1]統計用!E:E,">=60",[1]統計用!E:E,"<70") -> 39 | L51: =COUNTIFS([1]統計用!A:A,A51,[1]統計用!B:B,"*写真*",[1]統計用!E:E,">=70",[1]統計用!E:E,"<80") -> 79 | M51: =COUNTIFS([1]統計用!A:A,A51,[1]統計用!B:B,"*写真*",[1]統計用!E:E,">=80") -> 20 | N51: =L51+M51 -> 99 | O51: =N51/B51 -> 0.6971831 | P51: =COUNTIFS([1]統計用!A:A,A51,[1]統計用!B:B,"*写真*",[1]統計用!D:D,"*岸和田*") -> 69 | Q51: =P51/B51 -> 0.48591549
A52: H29 | B52: =COUNTIFS([1]統計用!A:A,A52,[1]統計用!B:B,"写真") -> 134 | C52: 18 | D52: =AVERAGEIFS([1]統計用!E:E,[1]統計用!A:A,A52,[1]統計用!B:B,"*写真*") -> 72.373134 | E52: =COUNTIFS([1]統計用!A:A,A52,[1]統計用!B:B,"*写真*",[1]統計用!E:E,"<40") -> 2 | F52: =COUNTIFS([1]統計用!A:A,A52,[1]統計用!B:B,"*写真*",[1]統計用!E:E,"<20") -> 0 | G52: =COUNTIFS([1]統計用!A:A,A52,[1]統計用!B:B,"*写真*",[1]統計用!E:E,">=20",[1]統計用!E:E,"<30") -> 0 | H52: =COUNTIFS([1]統計用!A:A,A52,[1]統計用!B:B,"*写真*",[1]統計用!E:E,">=30",[1]統計用!E:E,"<40") -> 2 | I52: =COUNTIFS([1]統計用!A:A,A52,[1]統計用!B:B,"*写真*",[1]統計用!E:E,">=40",[1]統計用!E:E,"<50") -> 0 | J52: =COUNTIFS([1]統計用!A:A,A52,[1]統計用!B:B,"*写真*",[1]統計用!E:E,">=50",[1]統計用!E:E,"<60") -> 5 | K52: =COUNTIFS([1]統計用!A:A,A52,[1]統計用!B:B,"*写真*",[1]統計用!E:E,">=60",[1]統計用!E:E,"<70") -> 36 | L52: =COUNTIFS([1]統計用!A:A,A52,[1]統計用!B:B,"*写真*",[1]統計用!E:E,">=70",[1]統計用!E:E,"<80") -> 66 | M52: =COUNTIFS([1]統計用!A:A,A52,[1]統計用!B:B,"*写真*",[1]統計用!E:E,">=80") -> 25 | N52: =L52+M52 -> 91 | O52: =N52/B52 -> 0.67910448 | P52: =COUNTIFS([1]統計用!A:A,A52,[1]統計用!B:B,"*写真*",[1]統計用!D:D,"*岸和田*") -> 63 | Q52: =P52/B52 -> 0.47014925
A53: H30 | B53: =COUNTIFS([1]統計用!A:A,A53,[1]統計用!B:B,"写真") -> 132 | C53: 15 | D53: =AVERAGEIFS([1]統計用!E:E,[1]統計用!A:A,A53,[1]統計用!B:B,"*写真*") -> 72.416667 | E53: =COUNTIFS([1]統計用!A:A,A53,[1]統計用!B:B,"*写真*",[1]統計用!E:E,"<40") -> 2 | F53: =COUNTIFS([1]統計用!A:A,A53,[1]統計用!B:B,"*写真*",[1]統計用!E:E,"<20") -> 0 | G53: =COUNTIFS([1]統計用!A:A,A53,[1]統計用!B:B,"*写真*",[1]統計用!E:E,">=20",[1]統計用!E:E,"<30") -> 0 | H53: =COUNTIFS([1]統計用!A:A,A53,[1]統計用!B:B,"*写真*",[1]統計用!E:E,">=30",[1]統計用!E:E,"<40") -> 2 | I53: =COUNTIFS([1]統計用!A:A,A53,[1]統計用!B:B,"*写真*",[1]統計用!E:E,">=40",[1]統計用!E:E,"<50") -> 1 | J53: =COUNTIFS([1]統計用!A:A,A53,[1]統計用!B:B,"*写真*",[1]統計用!E:E,">=50",[1]統計用!E:E,"<60") -> 7 | K53: =COUNTIFS([1]統計用!A:A,A53,[1]統計用!B:B,"*写真*",[1]統計用!E:E,">=60",[1]統計用!E:E,"<70") -> 29 | L53: =COUNTIFS([1]統計用!A:A,A53,[1]統計用!B:B,"*写真*",[1]統計用!E:E,">=70",[1]統計用!E:E,"<80") -> 67 | M53: =COUNTIFS([1]統計用!A:A,A53,[1]統計用!B:B,"*写真*",[1]統計用!E:E,">=80") -> 26 | N53: =L53+M53 -> 93 | O53: =N53/B53 -> 0.70454545 | P53: =COUNTIFS([1]統計用!A:A,A53,[1]統計用!B:B,"*写真*",[1]統計用!D:D,"*岸和田*") -> 65 | Q53: =P53/B53 -> 0.49242424
... A59: R8 | B59: =COUNTIFS([1]統計用!A:A,A59,[1]統計用!B:B,"写真") -> 72 | C59: 6 | D59: =AVERAGEIFS([1]統計用!E:E,[1]統計用!A:A,A59,[1]統計用!B:B,"*写真*") -> 72.239437 | E59: =COUNTIFS([1]統計用!A:A,A59,[1]統計用!B:B,"*写真*",[1]統計用!E:E,"<40") -> 3 | F59: =COUNTIFS([1]統計用!A:A,A59,[1]統計用!B:B,"*写真*",[1]統計用!E:E,"<20") -> 0 | G59: =COUNTIFS([1]統計用!A:A,A59,[1]統計用!B:B,"*写真*",[1]統計用!E:E,">=20",[1]統計用!E:E,"<30") -> 1 | H59: =COUNTIFS([1]統計用!A:A,A59,[1]統計用!B:B,"*写真*",[1]統計用!E:E,">=30",[1]統計用!E:E,"<40") -> 2 | I59: =COUNTIFS([1]統計用!A:A,A59,[1]統計用!B:B,"*写真*",[1]統計用!E:E,">=40",[1]統計用!E:E,"<50") -> 2 | J59: =COUNTIFS([1]統計用!A:A,A59,[1]統計用!B:B,"*写真*",[1]統計用!E:E,">=50",[1]統計用!E:E,"<60") -> 4 | K59: =COUNTIFS([1]統計用!A:A,A59,[1]統計用!B:B,"*写真*",[1]統計用!E:E,">=60",[1]統計用!E:E,"<70") -> 13 | L59: =COUNTIFS([1]統計用!A:A,A59,[1]統計用!B:B,"*写真*",[1]統計用!E:E,">=70",[1]統計用!E:E,"<80") -> 30 | M59: =COUNTIFS([1]統計用!A:A,A59,[1]統計用!B:B,"*写真*",[1]統計用!E:E,">=80") -> 19 | N59: =L59+M59 -> 49 | O59: =N59/B59 -> 0.68055556 | P59: =COUNTIFS([1]統計用!A:A,A59,[1]統計用!B:B,"*写真*",[1]統計用!D:D,"*岸和田*") -> 26 | Q59: =P59/B59 -> 0.36111111
A61: 陶芸 | B61: 陶芸出品人数 | C61: 初出品人数 | D61: 陶芸平均年齢 | E61: 40歳未満人数 | F61: 20歳未満 | G61: 20歳以上 30歳未満 | H61: 30歳以上 40歳未満 | I61: 40歳以上 50歳未満 | J61: 50歳以上 60歳未満 | K61: 60歳以上 70歳未満 | L61: 70歳以上 80歳未満 | M61: 80歳以上 | N61: 70歳以上の人数 | O61: 70歳以上の割合 | P61: 岸和田市内 在住の人数 | Q61: 岸和田市内 在住の割合
A62: H19 | B62: =COUNTIFS([1]統計用!A:A,A62,[1]統計用!B:B,"陶芸") -> 52 | C62: 13 | D62: =AVERAGEIFS([1]統計用!E:E,[1]統計用!A:A,A62,[1]統計用!B:B,"*陶芸*") -> 59.882353 | E62: =COUNTIFS([1]統計用!A:A,A62,[1]統計用!B:B,"*陶芸*",[1]統計用!E:E,"<40") -> 7 | F62: =COUNTIFS([1]統計用!A:A,A62,[1]統計用!B:B,"*陶芸*",[1]統計用!E:E,"<20") -> 0 | G62: =COUNTIFS([1]統計用!A:A,A62,[1]統計用!B:B,"*陶芸*",[1]統計用!E:E,">=20",[1]統計用!E:E,"<30") -> 2 | H62: =COUNTIFS([1]統計用!A:A,A62,[1]統計用!B:B,"*陶芸*",[1]統計用!E:E,">=30",[1]統計用!E:E,"<40") -> 5 | I62: =COUNTIFS([1]統計用!A:A,A62,[1]統計用!B:B,"*陶芸*",[1]統計用!E:E,">=40",[1]統計用!E:E,"<50") -> 1 | J62: =COUNTIFS([1]統計用!A:A,A62,[1]統計用!B:B,"*陶芸*",[1]統計用!E:E,">=50",[1]統計用!E:E,"<60") -> 16 | K62: =COUNTIFS([1]統計用!A:A,A62,[1]統計用!B:B,"*陶芸*",[1]統計用!E:E,">=60",[1]統計用!E:E,"<70") -> 16 | L62: =COUNTIFS([1]統計用!A:A,A62,[1]統計用!B:B,"*陶芸*",[1]統計用!E:E,">=70",[1]統計用!E:E,"<80") -> 7 | M62: =COUNTIFS([1]統計用!A:A,A62,[1]統計用!B:B,"*陶芸*",[1]統計用!E:E,">=80") -> 4 | N62: =L62+M62 -> 11 | O62: =N62/B62 -> 0.21153846 | P62: =COUNTIFS([1]統計用!A:A,A62,[1]統計用!B:B,"*陶芸*",[1]統計用!D:D,"*岸和田*") -> 13 | Q62: =P62/B62 -> 0.25
A63: H20 | B63: =COUNTIFS([1]統計用!A:A,A63,[1]統計用!B:B,"陶芸") -> 56 | C63: 10 | D63: =AVERAGEIFS([1]統計用!E:E,[1]統計用!A:A,A63,[1]統計用!B:B,"*陶芸*") -> 61.714286 | E63: =COUNTIFS([1]統計用!A:A,A63,[1]統計用!B:B,"*陶芸*",[1]統計用!E:E,"<40") -> 6 | F63: =COUNTIFS([1]統計用!A:A,A63,[1]統計用!B:B,"*陶芸*",[1]統計用!E:E,"<20") -> 0 | G63: =COUNTIFS([1]統計用!A:A,A63,[1]統計用!B:B,"*陶芸*",[1]統計用!E:E,">=20",[1]統計用!E:E,"<30") -> 2 | H63: =COUNTIFS([1]統計用!A:A,A63,[1]統計用!B:B,"*陶芸*",[1]統計用!E:E,">=30",[1]統計用!E:E,"<40") -> 4 | I63: =COUNTIFS([1]統計用!A:A,A63,[1]統計用!B:B,"*陶芸*",[1]統計用!E:E,">=40",[1]統計用!E:E,"<50") -> 2 | J63: =COUNTIFS([1]統計用!A:A,A63,[1]統計用!B:B,"*陶芸*",[1]統計用!E:E,">=50",[1]統計用!E:E,"<60") -> 9 | K63: =COUNTIFS([1]統計用!A:A,A63,[1]統計用!B:B,"*陶芸*",[1]統計用!E:E,">=60",[1]統計用!E:E,"<70") -> 25 | L63: =COUNTIFS([1]統計用!A:A,A63,[1]統計用!B:B,"*陶芸*",[1]統計用!E:E,">=70",[1]統計用!E:E,"<80") -> 11 | M63: =COUNTIFS([1]統計用!A:A,A63,[1]統計用!B:B,"*陶芸*",[1]統計用!E:E,">=80") -> 3 | N63: =L63+M63 -> 14 | O63: =N63/B63 -> 0.25 | P63: =COUNTIFS([1]統計用!A:A,A63,[1]統計用!B:B,"*陶芸*",[1]統計用!D:D,"*岸和田*") -> 9 | Q63: =P63/B63 -> 0.16071429
A64: H21 | B64: =COUNTIFS([1]統計用!A:A,A64,[1]統計用!B:B,"陶芸") -> 59 | C64: 14 | D64: =AVERAGEIFS([1]統計用!E:E,[1]統計用!A:A,A64,[1]統計用!B:B,"*陶芸*") -> 59.559322 | E64: =COUNTIFS([1]統計用!A:A,A64,[1]統計用!B:B,"*陶芸*",[1]統計用!E:E,"<40") -> 9 | F64: =COUNTIFS([1]統計用!A:A,A64,[1]統計用!B:B,"*陶芸*",[1]統計用!E:E,"<20") -> 0 | G64: =COUNTIFS([1]統計用!A:A,A64,[1]統計用!B:B,"*陶芸*",[1]統計用!E:E,">=20",[1]統計用!E:E,"<30") -> 0 | H64: =COUNTIFS([1]統計用!A:A,A64,[1]統計用!B:B,"*陶芸*",[1]統計用!E:E,">=30",[1]統計用!E:E,"<40") -> 9 | I64: =COUNTIFS([1]統計用!A:A,A64,[1]統計用!B:B,"*陶芸*",[1]統計用!E:E,">=40",[1]統計用!E:E,"<50") -> 3 | J64: =COUNTIFS([1]統計用!A:A,A64,[1]統計用!B:B,"*陶芸*",[1]統計用!E:E,">=50",[1]統計用!E:E,"<60") -> 8 | K64: =COUNTIFS([1]統計用!A:A,A64,[1]統計用!B:B,"*陶芸*",[1]統計用!E:E,">=60",[1]統計用!E:E,"<70") -> 27 | L64: =COUNTIFS([1]統計用!A:A,A64,[1]統計用!B:B,"*陶芸*",[1]統計用!E:E,">=70",[1]統計用!E:E,"<80") -> 11 | M64: =COUNTIFS([1]統計用!A:A,A64,[1]統計用!B:B,"*陶芸*",[1]統計用!E:E,">=80") -> 1 | N64: =L64+M64 -> 12 | O64: =N64/B64 -> 0.20338983 | P64: =COUNTIFS([1]統計用!A:A,A64,[1]統計用!B:B,"*陶芸*",[1]統計用!D:D,"*岸和田*") -> 17 | Q64: =P64/B64 -> 0.28813559
A65: H22 | B65: =COUNTIFS([1]統計用!A:A,A65,[1]統計用!B:B,"陶芸") -> 46 | C65: 9 | D65: =AVERAGEIFS([1]統計用!E:E,[1]統計用!A:A,A65,[1]統計用!B:B,"*陶芸*") -> 62.26087 | E65: =COUNTIFS([1]統計用!A:A,A65,[1]統計用!B:B,"*陶芸*",[1]統計用!E:E,"<40") -> 2 | F65: =COUNTIFS([1]統計用!A:A,A65,[1]統計用!B:B,"*陶芸*",[1]統計用!E:E,"<20") -> 0 | G65: =COUNTIFS([1]統計用!A:A,A65,[1]統計用!B:B,"*陶芸*",[1]統計用!E:E,">=20",[1]統計用!E:E,"<30") -> 0 | H65: =COUNTIFS([1]統計用!A:A,A65,[1]統計用!B:B,"*陶芸*",[1]統計用!E:E,">=30",[1]統計用!E:E,"<40") -> 2 | I65: =COUNTIFS([1]統計用!A:A,A65,[1]統計用!B:B,"*陶芸*",[1]統計用!E:E,">=40",[1]統計用!E:E,"<50") -> 4 | J65: =COUNTIFS([1]統計用!A:A,A65,[1]統計用!B:B,"*陶芸*",[1]統計用!E:E,">=50",[1]統計用!E:E,"<60") -> 5 | K65: =COUNTIFS([1]統計用!A:A,A65,[1]統計用!B:B,"*陶芸*",[1]統計用!E:E,">=60",[1]統計用!E:E,"<70") -> 23 | L65: =COUNTIFS([1]統計用!A:A,A65,[1]統計用!B:B,"*陶芸*",[1]統計用!E:E,">=70",[1]統計用!E:E,"<80") -> 11 | M65: =COUNTIFS([1]統計用!A:A,A65,[1]統計用!B:B,"*陶芸*",[1]統計用!E:E,">=80") -> 1 | N65: =L65+M65 -> 12 | O65: =N65/B65 -> 0.26086957 | P65: =COUNTIFS([1]統計用!A:A,A65,[1]統計用!B:B,"*陶芸*",[1]統計用!D:D,"*岸和田*") -> 12 | Q65: =P65/B65 -> 0.26086957
A66: H23 | B66: =COUNTIFS([1]統計用!A:A,A66,[1]統計用!B:B,"陶芸") -> 43 | C66: 5 | D66: =AVERAGEIFS([1]統計用!E:E,[1]統計用!A:A,A66,[1]統計用!B:B,"*陶芸*") -> 63.953488 | E66: =COUNTIFS([1]統計用!A:A,A66,[1]統計用!B:B,"*陶芸*",[1]統計用!E:E,"<40") -> 2 | F66: =COUNTIFS([1]統計用!A:A,A66,[1]統計用!B:B,"*陶芸*",[1]統計用!E:E,"<20") -> 0 | G66: =COUNTIFS([1]統計用!A:A,A66,[1]統計用!B:B,"*陶芸*",[1]統計用!E:E,">=20",[1]統計用!E:E,"<30") -> 0 | H66: =COUNTIFS([1]統計用!A:A,A66,[1]統計用!B:B,"*陶芸*",[1]統計用!E:E,">=30",[1]統計用!E:E,"<40") -> 2 | I66: =COUNTIFS([1]統計用!A:A,A66,[1]統計用!B:B,"*陶芸*",[1]統計用!E:E,">=40",[1]統計用!E:E,"<50") -> 3 | J66: =COUNTIFS([1]統計用!A:A,A66,[1]統計用!B:B,"*陶芸*",[1]統計用!E:E,">=50",[1]統計用!E:E,"<60") -> 2 | K66: =COUNTIFS([1]統計用!A:A,A66,[1]統計用!B:B,"*陶芸*",[1]統計用!E:E,">=60",[1]統計用!E:E,"<70") -> 24 | L66: =COUNTIFS([1]統計用!A:A,A66,[1]統計用!B:B,"*陶芸*",[1]統計用!E:E,">=70",[1]統計用!E:E,"<80") -> 11 | M66: =COUNTIFS([1]統計用!A:A,A66,[1]統計用!B:B,"*陶芸*",[1]統計用!E:E,">=80") -> 1 | N66: =L66+M66 -> 12 | O66: =N66/B66 -> 0.27906977 | P66: =COUNTIFS([1]統計用!A:A,A66,[1]統計用!B:B,"*陶芸*",[1]統計用!D:D,"*岸和田*") -> 13 | Q66: =P66/B66 -> 0.30232558
A67: H24 | B67: =COUNTIFS([1]統計用!A:A,A67,[1]統計用!B:B,"陶芸") -> 46 | C67: 7 | D67: =AVERAGEIFS([1]統計用!E:E,[1]統計用!A:A,A67,[1]統計用!B:B,"*陶芸*") -> 64.478261 | E67: =COUNTIFS([1]統計用!A:A,A67,[1]統計用!B:B,"*陶芸*",[1]統計用!E:E,"<40") -> 3 | F67: =COUNTIFS([1]統計用!A:A,A67,[1]統計用!B:B,"*陶芸*",[1]統計用!E:E,"<20") -> 0 | G67: =COUNTIFS([1]統計用!A:A,A67,[1]統計用!B:B,"*陶芸*",[1]統計用!E:E,">=20",[1]統計用!E:E,"<30") -> 0 | H67: =COUNTIFS([1]統計用!A:A,A67,[1]統計用!B:B,"*陶芸*",[1]統計用!E:E,">=30",[1]統計用!E:E,"<40") -> 3 | I67: =COUNTIFS([1]統計用!A:A,A67,[1]統計用!B:B,"*陶芸*",[1]統計用!E:E,">=40",[1]統計用!E:E,"<50") -> 1 | J67: =COUNTIFS([1]統計用!A:A,A67,[1]統計用!B:B,"*陶芸*",[1]統計用!E:E,">=50",[1]統計用!E:E,"<60") -> 5 | K67: =COUNTIFS([1]統計用!A:A,A67,[1]統計用!B:B,"*陶芸*",[1]統計用!E:E,">=60",[1]統計用!E:E,"<70") -> 24 | L67: =COUNTIFS([1]統計用!A:A,A67,[1]統計用!B:B,"*陶芸*",[1]統計用!E:E,">=70",[1]統計用!E:E,"<80") -> 12 | M67: =COUNTIFS([1]統計用!A:A,A67,[1]統計用!B:B,"*陶芸*",[1]統計用!E:E,">=80") -> 1 | N67: =L67+M67 -> 13 | O67: =N67/B67 -> 0.2826087 | P67: =COUNTIFS([1]統計用!A:A,A67,[1]統計用!B:B,"*陶芸*",[1]統計用!D:D,"*岸和田*") -> 13 | Q67: =P67/B67 -> 0.2826087
A68: H25 | B68: =COUNTIFS([1]統計用!A:A,A68,[1]統計用!B:B,"陶芸") -> 45 | C68: 7 | D68: =AVERAGEIFS([1]統計用!E:E,[1]統計用!A:A,A68,[1]統計用!B:B,"*陶芸*") -> 65.511111 | E68: =COUNTIFS([1]統計用!A:A,A68,[1]統計用!B:B,"*陶芸*",[1]統計用!E:E,"<40") -> 1 | F68: =COUNTIFS([1]統計用!A:A,A68,[1]統計用!B:B,"*陶芸*",[1]統計用!E:E,"<20") -> 0 | G68: =COUNTIFS([1]統計用!A:A,A68,[1]統計用!B:B,"*陶芸*",[1]統計用!E:E,">=20",[1]統計用!E:E,"<30") -> 0 | H68: =COUNTIFS([1]統計用!A:A,A68,[1]統計用!B:B,"*陶芸*",[1]統計用!E:E,">=30",[1]統計用!E:E,"<40") -> 1 | I68: =COUNTIFS([1]統計用!A:A,A68,[1]統計用!B:B,"*陶芸*",[1]統計用!E:E,">=40",[1]統計用!E:E,"<50") -> 2 | J68: =COUNTIFS([1]統計用!A:A,A68,[1]統計用!B:B,"*陶芸*",[1]統計用!E:E,">=50",[1]統計用!E:E,"<60") -> 5 | K68: =COUNTIFS([1]統計用!A:A,A68,[1]統計用!B:B,"*陶芸*",[1]統計用!E:E,">=60",[1]統計用!E:E,"<70") -> 23 | L68: =COUNTIFS([1]統計用!A:A,A68,[1]統計用!B:B,"*陶芸*",[1]統計用!E:E,">=70",[1]統計用!E:E,"<80") -> 13 | M68: =COUNTIFS([1]統計用!A:A,A68,[1]統計用!B:B,"*陶芸*",[1]統計用!E:E,">=80") -> 1 | N68: =L68+M68 -> 14 | O68: =N68/B68 -> 0.31111111 | P68: =COUNTIFS([1]統計用!A:A,A68,[1]統計用!B:B,"*陶芸*",[1]統計用!D:D,"*岸和田*") -> 12 | Q68: =P68/B68 -> 0.26666667
A69: H26 | B69: =COUNTIFS([1]統計用!A:A,A69,[1]統計用!B:B,"陶芸") -> 32 | C69: 3 | D69: =AVERAGEIFS([1]統計用!E:E,[1]統計用!A:A,A69,[1]統計用!B:B,"*陶芸*") -> 67.78125 | E69: =COUNTIFS([1]統計用!A:A,A69,[1]統計用!B:B,"*陶芸*",[1]統計用!E:E,"<40") -> 1 | F69: =COUNTIFS([1]統計用!A:A,A69,[1]統計用!B:B,"*陶芸*",[1]統計用!E:E,"<20") -> 0 | G69: =COUNTIFS([1]統計用!A:A,A69,[1]統計用!B:B,"*陶芸*",[1]統計用!E:E,">=20",[1]統計用!E:E,"<30") -> 0 | H69: =COUNTIFS([1]統計用!A:A,A69,[1]統計用!B:B,"*陶芸*",[1]統計用!E:E,">=30",[1]統計用!E:E,"<40") -> 1 | I69: =COUNTIFS([1]統計用!A:A,A69,[1]統計用!B:B,"*陶芸*",[1]統計用!E:E,">=40",[1]統計用!E:E,"<50") -> 1 | J69: =COUNTIFS([1]統計用!A:A,A69,[1]統計用!B:B,"*陶芸*",[1]統計用!E:E,">=50",[1]統計用!E:E,"<60") -> 0 | K69: =COUNTIFS([1]統計用!A:A,A69,[1]統計用!B:B,"*陶芸*",[1]統計用!E:E,">=60",[1]統計用!E:E,"<70") -> 15 | L69: =COUNTIFS([1]統計用!A:A,A69,[1]統計用!B:B,"*陶芸*",[1]統計用!E:E,">=70",[1]統計用!E:E,"<80") -> 15 | M69: =COUNTIFS([1]統計用!A:A,A69,[1]統計用!B:B,"*陶芸*",[1]統計用!E:E,">=80") -> 0 | N69: =L69+M69 -> 15 | O69: =N69/B69 -> 0.46875 | P69: =COUNTIFS([1]統計用!A:A,A69,[1]統計用!B:B,"*陶芸*",[1]統計用!D:D,"*岸和田*") -> 9 | Q69: =P69/B69 -> 0.28125
A70: H27 | B70: =COUNTIFS([1]統計用!A:A,A70,[1]統計用!B:B,"陶芸") -> 35 | C70: 6 | D70: =AVERAGEIFS([1]統計用!E:E,[1]統計用!A:A,A70,[1]統計用!B:B,"*陶芸*") -> 68.857143 | E70: =COUNTIFS([1]統計用!A:A,A70,[1]統計用!B:B,"*陶芸*",[1]統計用!E:E,"<40") -> 0 | F70: =COUNTIFS([1]統計用!A:A,A70,[1]統計用!B:B,"*陶芸*",[1]統計用!E:E,"<20") -> 0 | G70: =COUNTIFS([1]統計用!A:A,A70,[1]統計用!B:B,"*陶芸*",[1]統計用!E:E,">=20",[1]統計用!E:E,"<30") -> 0 | H70: =COUNTIFS([1]統計用!A:A,A70,[1]統計用!B:B,"*陶芸*",[1]統計用!E:E,">=30",[1]統計用!E:E,"<40") -> 0 | I70: =COUNTIFS([1]統計用!A:A,A70,[1]統計用!B:B,"*陶芸*",[1]統計用!E:E,">=40",[1]統計用!E:E,"<50") -> 1 | J70: =COUNTIFS([1]統計用!A:A,A70,[1]統計用!B:B,"*陶芸*",[1]統計用!E:E,">=50",[1]統計用!E:E,"<60") -> 2 | K70: =COUNTIFS([1]統計用!A:A,A70,[1]統計用!B:B,"*陶芸*",[1]統計用!E:E,">=60",[1]統計用!E:E,"<70") -> 16 | L70: =COUNTIFS([1]統計用!A:A,A70,[1]統計用!B:B,"*陶芸*",[1]統計用!E:E,">=70",[1]統計用!E:E,"<80") -> 15 | M70: =COUNTIFS([1]統計用!A:A,A70,[1]統計用!B:B,"*陶芸*",[1]統計用!E:E,">=80") -> 1 | N70: =L70+M70 -> 16 | O70: =N70/B70 -> 0.45714286 | P70: =COUNTIFS([1]統計用!A:A,A70,[1]統計用!B:B,"*陶芸*",[1]統計用!D:D,"*岸和田*") -> 8 | Q70: =P70/B70 -> 0.22857143
A71: H28 | B71: =COUNTIFS([1]統計用!A:A,A71,[1]統計用!B:B,"陶芸") -> 32 | C71: 4 | D71: =AVERAGEIFS([1]統計用!E:E,[1]統計用!A:A,A71,[1]統計用!B:B,"*陶芸*") -> 68.875 | E71: =COUNTIFS([1]統計用!A:A,A71,[1]統計用!B:B,"*陶芸*",[1]統計用!E:E,"<40") -> 0 | F71: =COUNTIFS([1]統計用!A:A,A71,[1]統計用!B:B,"*陶芸*",[1]統計用!E:E,"<20") -> 0 | G71: =COUNTIFS([1]統計用!A:A,A71,[1]統計用!B:B,"*陶芸*",[1]統計用!E:E,">=20",[1]統計用!E:E,"<30") -> 0 | H71: =COUNTIFS([1]統計用!A:A,A71,[1]統計用!B:B,"*陶芸*",[1]統計用!E:E,">=30",[1]統計用!E:E,"<40") -> 0 | I71: =COUNTIFS([1]統計用!A:A,A71,[1]統計用!B:B,"*陶芸*",[1]統計用!E:E,">=40",[1]統計用!E:E,"<50") -> 1 | J71: =COUNTIFS([1]統計用!A:A,A71,[1]統計用!B:B,"*陶芸*",[1]統計用!E:E,">=50",[1]統計用!E:E,"<60") -> 2 | K71: =COUNTIFS([1]統計用!A:A,A71,[1]統計用!B:B,"*陶芸*",[1]統計用!E:E,">=60",[1]統計用!E:E,"<70") -> 14 | L71: =COUNTIFS([1]統計用!A:A,A71,[1]統計用!B:B,"*陶芸*",[1]統計用!E:E,">=70",[1]統計用!E:E,"<80") -> 12 | M71: =COUNTIFS([1]統計用!A:A,A71,[1]統計用!B:B,"*陶芸*",[1]統計用!E:E,">=80") -> 3 | N71: =L71+M71 -> 15 | O71: =N71/B71 -> 0.46875 | P71: =COUNTIFS([1]統計用!A:A,A71,[1]統計用!B:B,"*陶芸*",[1]統計用!D:D,"*岸和田*") -> 6 | Q71: =P71/B71 -> 0.1875
A72: H29 | B72: =COUNTIFS([1]統計用!A:A,A72,[1]統計用!B:B,"陶芸") -> 33 | C72: 11 | D72: =AVERAGEIFS([1]統計用!E:E,[1]統計用!A:A,A72,[1]統計用!B:B,"*陶芸*") -> 67.787879 | E72: =COUNTIFS([1]統計用!A:A,A72,[1]統計用!B:B,"*陶芸*",[1]統計用!E:E,"<40") -> 1 | F72: =COUNTIFS([1]統計用!A:A,A72,[1]統計用!B:B,"*陶芸*",[1]統計用!E:E,"<20") -> 0 | G72: =COUNTIFS([1]統計用!A:A,A72,[1]統計用!B:B,"*陶芸*",[1]統計用!E:E,">=20",[1]統計用!E:E,"<30") -> 1 | H72: =COUNTIFS([1]統計用!A:A,A72,[1]統計用!B:B,"*陶芸*",[1]統計用!E:E,">=30",[1]統計用!E:E,"<40") -> 0 | I72: =COUNTIFS([1]統計用!A:A,A72,[1]統計用!B:B,"*陶芸*",[1]統計用!E:E,">=40",[1]統計用!E:E,"<50") -> 2 | J72: =COUNTIFS([1]統計用!A:A,A72,[1]統計用!B:B,"*陶芸*",[1]統計用!E:E,">=50",[1]統計用!E:E,"<60") -> 2 | K72: =COUNTIFS([1]統計用!A:A,A72,[1]統計用!B:B,"*陶芸*",[1]統計用!E:E,">=60",[1]統計用!E:E,"<70") -> 11 | L72: =COUNTIFS([1]統計用!A:A,A72,[1]統計用!B:B,"*陶芸*",[1]統計用!E:E,">=70",[1]統計用!E:E,"<80") -> 13 | M72: =COUNTIFS([1]統計用!A:A,A72,[1]統計用!B:B,"*陶芸*",[1]統計用!E:E,">=80") -> 4 | N72: =L72+M72 -> 17 | O72: =N72/B72 -> 0.51515152 | P72: =COUNTIFS([1]統計用!A:A,A72,[1]統計用!B:B,"*陶芸*",[1]統計用!D:D,"*岸和田*") -> 9 | Q72: =P72/B72 -> 0.27272727
A73: H30 | B73: =COUNTIFS([1]統計用!A:A,A73,[1]統計用!B:B,"陶芸") -> 22 | C73: 2 | D73: =AVERAGEIFS([1]統計用!E:E,[1]統計用!A:A,A73,[1]統計用!B:B,"*陶芸*") -> 67.363636 | E73: =COUNTIFS([1]統計用!A:A,A73,[1]統計用!B:B,"*陶芸*",[1]統計用!E:E,"<40") -> 0 | F73: =COUNTIFS([1]統計用!A:A,A73,[1]統計用!B:B,"*陶芸*",[1]統計用!E:E,"<20") -> 0 | G73: =COUNTIFS([1]統計用!A:A,A73,[1]統計用!B:B,"*陶芸*",[1]統計用!E:E,">=20",[1]統計用!E:E,"<30") -> 0 | H73: =COUNTIFS([1]統計用!A:A,A73,[1]統計用!B:B,"*陶芸*",[1]統計用!E:E,">=30",[1]統計用!E:E,"<40") -> 0 | I73: =COUNTIFS([1]統計用!A:A,A73,[1]統計用!B:B,"*陶芸*",[1]統計用!E:E,">=40",[1]統計用!E:E,"<50") -> 1 | J73: =COUNTIFS([1]統計用!A:A,A73,[1]統計用!B:B,"*陶芸*",[1]統計用!E:E,">=50",[1]統計用!E:E,"<60") -> 4 | K73: =COUNTIFS([1]統計用!A:A,A73,[1]統計用!B:B,"*陶芸*",[1]統計用!E:E,">=60",[1]統計用!E:E,"<70") -> 7 | L73: =COUNTIFS([1]統計用!A:A,A73,[1]統計用!B:B,"*陶芸*",[1]統計用!E:E,">=70",[1]統計用!E:E,"<80") -> 9 | M73: =COUNTIFS([1]統計用!A:A,A73,[1]統計用!B:B,"*陶芸*",[1]統計用!E:E,">=80") -> 1 | N73: =L73+M73 -> 10 | O73: =N73/B73 -> 0.45454545 | P73: =COUNTIFS([1]統計用!A:A,A73,[1]統計用!B:B,"*陶芸*",[1]統計用!D:D,"*岸和田*") -> 8 | Q73: =P73/B73 -> 0.36363636
... A79: R8 | B79: =COUNTIFS([1]統計用!A:A,A79,[1]統計用!B:B,"陶芸") -> 11 | C79: 3 | D79: =AVERAGEIFS([1]統計用!E:E,[1]統計用!A:A,A79,[1]統計用!B:B,"*陶芸*") -> 68 | E79: =COUNTIFS([1]統計用!A:A,A79,[1]統計用!B:B,"*陶芸*",[1]統計用!E:E,"<40") -> 0 | F79: =COUNTIFS([1]統計用!A:A,A79,[1]統計用!B:B,"*陶芸*",[1]統計用!E:E,"<20") -> 0 | G79: =COUNTIFS([1]統計用!A:A,A79,[1]統計用!B:B,"*陶芸*",[1]統計用!E:E,">=20",[1]統計用!E:E,"<30") -> 0 | H79: =COUNTIFS([1]統計用!A:A,A79,[1]統計用!B:B,"*陶芸*",[1]統計用!E:E,">=30",[1]統計用!E:E,"<40") -> 0 | I79: =COUNTIFS([1]統計用!A:A,A79,[1]統計用!B:B,"*陶芸*",[1]統計用!E:E,">=40",[1]統計用!E:E,"<50") -> 1 | J79: =COUNTIFS([1]統計用!A:A,A79,[1]統計用!B:B,"*陶芸*",[1]統計用!E:E,">=50",[1]統計用!E:E,"<60") -> 2 | K79: =COUNTIFS([1]統計用!A:A,A79,[1]統計用!B:B,"*陶芸*",[1]統計用!E:E,">=60",[1]統計用!E:E,"<70") -> 2 | L79: =COUNTIFS([1]統計用!A:A,A79,[1]統計用!B:B,"*陶芸*",[1]統計用!E:E,">=70",[1]統計用!E:E,"<80") -> 6 | M79: =COUNTIFS([1]統計用!A:A,A79,[1]統計用!B:B,"*陶芸*",[1]統計用!E:E,">=80") -> 0 | N79: =L79+M79 -> 6 | O79: =N79/B79 -> 0.54545455 | P79: =COUNTIFS([1]統計用!A:A,A79,[1]統計用!B:B,"*陶芸*",[1]統計用!D:D,"*岸和田*") -> 3 | Q79: =P79/B79 -> 0.27272727
A81: 書 | B81: 書出品人数 | C81: 初出品人数 | D81: 書平均年齢 | E81: 40歳未満人数 | F81: 20歳未満 | G81: 20歳以上 30歳未満 | H81: 30歳以上 40歳未満 | I81: 40歳以上 50歳未満 | J81: 50歳以上 60歳未満 | K81: 60歳以上 70歳未満 | L81: 70歳以上 80歳未満 | M81: 80歳以上 | N81: 70歳以上の人数 | O81: 70歳以上の割合 | P81: 岸和田市内 在住の人数 | Q81: 岸和田市内 在住の割合
A82: H19 | B82: =COUNTIFS([1]統計用!A:A,A82,[1]統計用!B:B,"書") -> 48 | C82: 9 | D82: =AVERAGEIFS([1]統計用!E:E,[1]統計用!A:A,A82,[1]統計用!B:B,"*書*") -> 62.404255 | E82: =COUNTIFS([1]統計用!A:A,A82,[1]統計用!B:B,"*書*",[1]統計用!E:E,"<40") -> 5 | F82: =COUNTIFS([1]統計用!A:A,A82,[1]統計用!B:B,"*書*",[1]統計用!E:E,"<20") -> 2 | G82: =COUNTIFS([1]統計用!A:A,A82,[1]統計用!B:B,"*書*",[1]統計用!E:E,">=20",[1]統計用!E:E,"<30") -> 0 | H82: =COUNTIFS([1]統計用!A:A,A82,[1]統計用!B:B,"*書*",[1]統計用!E:E,">=30",[1]統計用!E:E,"<40") -> 3 | I82: =COUNTIFS([1]統計用!A:A,A82,[1]統計用!B:B,"*書*",[1]統計用!E:E,">=40",[1]統計用!E:E,"<50") -> 4 | J82: =COUNTIFS([1]統計用!A:A,A82,[1]統計用!B:B,"*書*",[1]統計用!E:E,">=50",[1]統計用!E:E,"<60") -> 7 | K82: =COUNTIFS([1]統計用!A:A,A82,[1]統計用!B:B,"*書*",[1]統計用!E:E,">=60",[1]統計用!E:E,"<70") -> 11 | L82: =COUNTIFS([1]統計用!A:A,A82,[1]統計用!B:B,"*書*",[1]統計用!E:E,">=70",[1]統計用!E:E,"<80") -> 16 | M82: =COUNTIFS([1]統計用!A:A,A82,[1]統計用!B:B,"*書*",[1]統計用!E:E,">=80") -> 4 | N82: =L82+M82 -> 20 | O82: =N82/B82 -> 0.41666667 | P82: =COUNTIFS([1]統計用!A:A,A82,[1]統計用!B:B,"*書*",[1]統計用!D:D,"*岸和田*") -> 32 | Q82: =P82/B82 -> 0.66666667
A83: H20 | B83: =COUNTIFS([1]統計用!A:A,A83,[1]統計用!B:B,"書") -> 30 | C83: 4 | D83: =AVERAGEIFS([1]統計用!E:E,[1]統計用!A:A,A83,[1]統計用!B:B,"*書*") -> 63.933333 | E83: =COUNTIFS([1]統計用!A:A,A83,[1]統計用!B:B,"*書*",[1]統計用!E:E,"<40") -> 1 | F83: =COUNTIFS([1]統計用!A:A,A83,[1]統計用!B:B,"*書*",[1]統計用!E:E,"<20") -> 1 | G83: =COUNTIFS([1]統計用!A:A,A83,[1]統計用!B:B,"*書*",[1]統計用!E:E,">=20",[1]統計用!E:E,"<30") -> 0 | H83: =COUNTIFS([1]統計用!A:A,A83,[1]統計用!B:B,"*書*",[1]統計用!E:E,">=30",[1]統計用!E:E,"<40") -> 0 | I83: =COUNTIFS([1]統計用!A:A,A83,[1]統計用!B:B,"*書*",[1]統計用!E:E,">=40",[1]統計用!E:E,"<50") -> 4 | J83: =COUNTIFS([1]統計用!A:A,A83,[1]統計用!B:B,"*書*",[1]統計用!E:E,">=50",[1]統計用!E:E,"<60") -> 3 | K83: =COUNTIFS([1]統計用!A:A,A83,[1]統計用!B:B,"*書*",[1]統計用!E:E,">=60",[1]統計用!E:E,"<70") -> 9 | L83: =COUNTIFS([1]統計用!A:A,A83,[1]統計用!B:B,"*書*",[1]統計用!E:E,">=70",[1]統計用!E:E,"<80") -> 11 | M83: =COUNTIFS([1]統計用!A:A,A83,[1]統計用!B:B,"*書*",[1]統計用!E:E,">=80") -> 2 | N83: =L83+M83 -> 13 | O83: =N83/B83 -> 0.43333333 | P83: =COUNTIFS([1]統計用!A:A,A83,[1]統計用!B:B,"*書*",[1]統計用!D:D,"*岸和田*") -> 24 | Q83: =P83/B83 -> 0.8
A84: H21 | B84: =COUNTIFS([1]統計用!A:A,A84,[1]統計用!B:B,"書") -> 44 | C84: 20 | D84: =AVERAGEIFS([1]統計用!E:E,[1]統計用!A:A,A84,[1]統計用!B:B,"*書*") -> 52.886364 | E84: =COUNTIFS([1]統計用!A:A,A84,[1]統計用!B:B,"*書*",[1]統計用!E:E,"<40") -> 12 | F84: =COUNTIFS([1]統計用!A:A,A84,[1]統計用!B:B,"*書*",[1]統計用!E:E,"<20") -> 12 | G84: =COUNTIFS([1]統計用!A:A,A84,[1]統計用!B:B,"*書*",[1]統計用!E:E,">=20",[1]統計用!E:E,"<30") -> 0 | H84: =COUNTIFS([1]統計用!A:A,A84,[1]統計用!B:B,"*書*",[1]統計用!E:E,">=30",[1]統計用!E:E,"<40") -> 0 | I84: =COUNTIFS([1]統計用!A:A,A84,[1]統計用!B:B,"*書*",[1]統計用!E:E,">=40",[1]統計用!E:E,"<50") -> 4 | J84: =COUNTIFS([1]統計用!A:A,A84,[1]統計用!B:B,"*書*",[1]統計用!E:E,">=50",[1]統計用!E:E,"<60") -> 4 | K84: =COUNTIFS([1]統計用!A:A,A84,[1]統計用!B:B,"*書*",[1]統計用!E:E,">=60",[1]統計用!E:E,"<70") -> 10 | L84: =COUNTIFS([1]統計用!A:A,A84,[1]統計用!B:B,"*書*",[1]統計用!E:E,">=70",[1]統計用!E:E,"<80") -> 10 | M84: =COUNTIFS([1]統計用!A:A,A84,[1]統計用!B:B,"*書*",[1]統計用!E:E,">=80") -> 4 | N84: =L84+M84 -> 14 | O84: =N84/B84 -> 0.31818182 | P84: =COUNTIFS([1]統計用!A:A,A84,[1]統計用!B:B,"*書*",[1]統計用!D:D,"*岸和田*") -> 27 | Q84: =P84/B84 -> 0.61363636
A85: H22 | B85: =COUNTIFS([1]統計用!A:A,A85,[1]統計用!B:B,"書") -> 45 | C85: 19 | D85: =AVERAGEIFS([1]統計用!E:E,[1]統計用!A:A,A85,[1]統計用!B:B,"*書*") -> 65.325581 | E85: =COUNTIFS([1]統計用!A:A,A85,[1]統計用!B:B,"*書*",[1]統計用!E:E,"<40") -> 1 | F85: =COUNTIFS([1]統計用!A:A,A85,[1]統計用!B:B,"*書*",[1]統計用!E:E,"<20") -> 0 | G85: =COUNTIFS([1]統計用!A:A,A85,[1]統計用!B:B,"*書*",[1]統計用!E:E,">=20",[1]統計用!E:E,"<30") -> 0 | H85: =COUNTIFS([1]統計用!A:A,A85,[1]統計用!B:B,"*書*",[1]統計用!E:E,">=30",[1]統計用!E:E,"<40") -> 1 | I85: =COUNTIFS([1]統計用!A:A,A85,[1]統計用!B:B,"*書*",[1]統計用!E:E,">=40",[1]統計用!E:E,"<50") -> 5 | J85: =COUNTIFS([1]統計用!A:A,A85,[1]統計用!B:B,"*書*",[1]統計用!E:E,">=50",[1]統計用!E:E,"<60") -> 7 | K85: =COUNTIFS([1]統計用!A:A,A85,[1]統計用!B:B,"*書*",[1]統計用!E:E,">=60",[1]統計用!E:E,"<70") -> 12 | L85: =COUNTIFS([1]統計用!A:A,A85,[1]統計用!B:B,"*書*",[1]統計用!E:E,">=70",[1]統計用!E:E,"<80") -> 14 | M85: =COUNTIFS([1]統計用!A:A,A85,[1]統計用!B:B,"*書*",[1]統計用!E:E,">=80") -> 4 | N85: =L85+M85 -> 18 | O85: =N85/B85 -> 0.4 | P85: =COUNTIFS([1]統計用!A:A,A85,[1]統計用!B:B,"*書*",[1]統計用!D:D,"*岸和田*") -> 38 | Q85: =P85/B85 -> 0.84444444
A86: H23 | B86: =COUNTIFS([1]統計用!A:A,A86,[1]統計用!B:B,"書") -> 42 | C86: 12 | D86: =AVERAGEIFS([1]統計用!E:E,[1]統計用!A:A,A86,[1]統計用!B:B,"*書*") -> 63.243902 | E86: =COUNTIFS([1]統計用!A:A,A86,[1]統計用!B:B,"*書*",[1]統計用!E:E,"<40") -> 2 | F86: =COUNTIFS([1]統計用!A:A,A86,[1]統計用!B:B,"*書*",[1]統計用!E:E,"<20") -> 1 | G86: =COUNTIFS([1]統計用!A:A,A86,[1]統計用!B:B,"*書*",[1]統計用!E:E,">=20",[1]統計用!E:E,"<30") -> 0 | H86: =COUNTIFS([1]統計用!A:A,A86,[1]統計用!B:B,"*書*",[1]統計用!E:E,">=30",[1]統計用!E:E,"<40") -> 1 | I86: =COUNTIFS([1]統計用!A:A,A86,[1]統計用!B:B,"*書*",[1]統計用!E:E,">=40",[1]統計用!E:E,"<50") -> 5 | J86: =COUNTIFS([1]統計用!A:A,A86,[1]統計用!B:B,"*書*",[1]統計用!E:E,">=50",[1]統計用!E:E,"<60") -> 7 | K86: =COUNTIFS([1]統計用!A:A,A86,[1]統計用!B:B,"*書*",[1]統計用!E:E,">=60",[1]統計用!E:E,"<70") -> 11 | L86: =COUNTIFS([1]統計用!A:A,A86,[1]統計用!B:B,"*書*",[1]統計用!E:E,">=70",[1]統計用!E:E,"<80") -> 12 | M86: =COUNTIFS([1]統計用!A:A,A86,[1]統計用!B:B,"*書*",[1]統計用!E:E,">=80") -> 4 | N86: =L86+M86 -> 16 | O86: =N86/B86 -> 0.38095238 | P86: =COUNTIFS([1]統計用!A:A,A86,[1]統計用!B:B,"*書*",[1]統計用!D:D,"*岸和田*") -> 37 | Q86: =P86/B86 -> 0.88095238
A87: H24 | B87: =COUNTIFS([1]統計用!A:A,A87,[1]統計用!B:B,"書") -> 64 | C87: 28 | D87: =AVERAGEIFS([1]統計用!E:E,[1]統計用!A:A,A87,[1]統計用!B:B,"*書*") -> 59.796875 | E87: =COUNTIFS([1]統計用!A:A,A87,[1]統計用!B:B,"*書*",[1]統計用!E:E,"<40") -> 12 | F87: =COUNTIFS([1]統計用!A:A,A87,[1]統計用!B:B,"*書*",[1]統計用!E:E,"<20") -> 8 | G87: =COUNTIFS([1]統計用!A:A,A87,[1]統計用!B:B,"*書*",[1]統計用!E:E,">=20",[1]統計用!E:E,"<30") -> 2 | H87: =COUNTIFS([1]統計用!A:A,A87,[1]統計用!B:B,"*書*",[1]統計用!E:E,">=30",[1]統計用!E:E,"<40") -> 2 | I87: =COUNTIFS([1]統計用!A:A,A87,[1]統計用!B:B,"*書*",[1]統計用!E:E,">=40",[1]統計用!E:E,"<50") -> 3 | J87: =COUNTIFS([1]統計用!A:A,A87,[1]統計用!B:B,"*書*",[1]統計用!E:E,">=50",[1]統計用!E:E,"<60") -> 7 | K87: =COUNTIFS([1]統計用!A:A,A87,[1]統計用!B:B,"*書*",[1]統計用!E:E,">=60",[1]統計用!E:E,"<70") -> 15 | L87: =COUNTIFS([1]統計用!A:A,A87,[1]統計用!B:B,"*書*",[1]統計用!E:E,">=70",[1]統計用!E:E,"<80") -> 22 | M87: =COUNTIFS([1]統計用!A:A,A87,[1]統計用!B:B,"*書*",[1]統計用!E:E,">=80") -> 5 | N87: =L87+M87 -> 27 | O87: =N87/B87 -> 0.421875 | P87: =COUNTIFS([1]統計用!A:A,A87,[1]統計用!B:B,"*書*",[1]統計用!D:D,"*岸和田*") -> 40 | Q87: =P87/B87 -> 0.625
A88: H25 | B88: =COUNTIFS([1]統計用!A:A,A88,[1]統計用!B:B,"書") -> 67 | C88: 14 | D88: =AVERAGEIFS([1]統計用!E:E,[1]統計用!A:A,A88,[1]統計用!B:B,"*書*") -> 65.268657 | E88: =COUNTIFS([1]統計用!A:A,A88,[1]統計用!B:B,"*書*",[1]統計用!E:E,"<40") -> 6 | F88: =COUNTIFS([1]統計用!A:A,A88,[1]統計用!B:B,"*書*",[1]統計用!E:E,"<20") -> 0 | G88: =COUNTIFS([1]統計用!A:A,A88,[1]統計用!B:B,"*書*",[1]統計用!E:E,">=20",[1]統計用!E:E,"<30") -> 3 | H88: =COUNTIFS([1]統計用!A:A,A88,[1]統計用!B:B,"*書*",[1]統計用!E:E,">=30",[1]統計用!E:E,"<40") -> 3 | I88: =COUNTIFS([1]統計用!A:A,A88,[1]統計用!B:B,"*書*",[1]統計用!E:E,">=40",[1]統計用!E:E,"<50") -> 3 | J88: =COUNTIFS([1]統計用!A:A,A88,[1]統計用!B:B,"*書*",[1]統計用!E:E,">=50",[1]統計用!E:E,"<60") -> 7 | K88: =COUNTIFS([1]統計用!A:A,A88,[1]統計用!B:B,"*書*",[1]統計用!E:E,">=60",[1]統計用!E:E,"<70") -> 18 | L88: =COUNTIFS([1]統計用!A:A,A88,[1]統計用!B:B,"*書*",[1]統計用!E:E,">=70",[1]統計用!E:E,"<80") -> 27 | M88: =COUNTIFS([1]統計用!A:A,A88,[1]統計用!B:B,"*書*",[1]統計用!E:E,">=80") -> 6 | N88: =L88+M88 -> 33 | O88: =N88/B88 -> 0.49253731 | P88: =COUNTIFS([1]統計用!A:A,A88,[1]統計用!B:B,"*書*",[1]統計用!D:D,"*岸和田*") -> 51 | Q88: =P88/B88 -> 0.76119403
A89: H26 | B89: =COUNTIFS([1]統計用!A:A,A89,[1]統計用!B:B,"書") -> 48 | C89: 8 | D89: =AVERAGEIFS([1]統計用!E:E,[1]統計用!A:A,A89,[1]統計用!B:B,"*書*") -> 68.729167 | E89: =COUNTIFS([1]統計用!A:A,A89,[1]統計用!B:B,"*書*",[1]統計用!E:E,"<40") -> 2 | F89: =COUNTIFS([1]統計用!A:A,A89,[1]統計用!B:B,"*書*",[1]統計用!E:E,"<20") -> 0 | G89: =COUNTIFS([1]統計用!A:A,A89,[1]統計用!B:B,"*書*",[1]統計用!E:E,">=20",[1]統計用!E:E,"<30") -> 0 | H89: =COUNTIFS([1]統計用!A:A,A89,[1]統計用!B:B,"*書*",[1]統計用!E:E,">=30",[1]統計用!E:E,"<40") -> 2 | I89: =COUNTIFS([1]統計用!A:A,A89,[1]統計用!B:B,"*書*",[1]統計用!E:E,">=40",[1]統計用!E:E,"<50") -> 4 | J89: =COUNTIFS([1]統計用!A:A,A89,[1]統計用!B:B,"*書*",[1]統計用!E:E,">=50",[1]統計用!E:E,"<60") -> 3 | K89: =COUNTIFS([1]統計用!A:A,A89,[1]統計用!B:B,"*書*",[1]統計用!E:E,">=60",[1]統計用!E:E,"<70") -> 9 | L89: =COUNTIFS([1]統計用!A:A,A89,[1]統計用!B:B,"*書*",[1]統計用!E:E,">=70",[1]統計用!E:E,"<80") -> 20 | M89: =COUNTIFS([1]統計用!A:A,A89,[1]統計用!B:B,"*書*",[1]統計用!E:E,">=80") -> 10 | N89: =L89+M89 -> 30 | O89: =N89/B89 -> 0.625 | P89: =COUNTIFS([1]統計用!A:A,A89,[1]統計用!B:B,"*書*",[1]統計用!D:D,"*岸和田*") -> 37 | Q89: =P89/B89 -> 0.77083333
A90: H27 | B90: =COUNTIFS([1]統計用!A:A,A90,[1]統計用!B:B,"書") -> 44 | C90: 12 | D90: =AVERAGEIFS([1]統計用!E:E,[1]統計用!A:A,A90,[1]統計用!B:B,"*書*") -> 58.840909 | E90: =COUNTIFS([1]統計用!A:A,A90,[1]統計用!B:B,"*書*",[1]統計用!E:E,"<40") -> 9 | F90: =COUNTIFS([1]統計用!A:A,A90,[1]統計用!B:B,"*書*",[1]統計用!E:E,"<20") -> 1 | G90: =COUNTIFS([1]統計用!A:A,A90,[1]統計用!B:B,"*書*",[1]統計用!E:E,">=20",[1]統計用!E:E,"<30") -> 7 | H90: =COUNTIFS([1]統計用!A:A,A90,[1]統計用!B:B,"*書*",[1]統計用!E:E,">=30",[1]統計用!E:E,"<40") -> 1 | I90: =COUNTIFS([1]統計用!A:A,A90,[1]統計用!B:B,"*書*",[1]統計用!E:E,">=40",[1]統計用!E:E,"<50") -> 4 | J90: =COUNTIFS([1]統計用!A:A,A90,[1]統計用!B:B,"*書*",[1]統計用!E:E,">=50",[1]統計用!E:E,"<60") -> 6 | K90: =COUNTIFS([1]統計用!A:A,A90,[1]統計用!B:B,"*書*",[1]統計用!E:E,">=60",[1]統計用!E:E,"<70") -> 7 | L90: =COUNTIFS([1]統計用!A:A,A90,[1]統計用!B:B,"*書*",[1]統計用!E:E,">=70",[1]統計用!E:E,"<80") -> 11 | M90: =COUNTIFS([1]統計用!A:A,A90,[1]統計用!B:B,"*書*",[1]統計用!E:E,">=80") -> 7 | N90: =L90+M90 -> 18 | O90: =N90/B90 -> 0.40909091 | P90: =COUNTIFS([1]統計用!A:A,A90,[1]統計用!B:B,"*書*",[1]統計用!D:D,"*岸和田*") -> 34 | Q90: =P90/B90 -> 0.77272727
A91: H28 | B91: =COUNTIFS([1]統計用!A:A,A91,[1]統計用!B:B,"書") -> 46 | C91: 10 | D91: =AVERAGEIFS([1]統計用!E:E,[1]統計用!A:A,A91,[1]統計用!B:B,"*書*") -> 54.521739 | E91: =COUNTIFS([1]統計用!A:A,A91,[1]統計用!B:B,"*書*",[1]統計用!E:E,"<40") -> 14 | F91: =COUNTIFS([1]統計用!A:A,A91,[1]統計用!B:B,"*書*",[1]統計用!E:E,"<20") -> 8 | G91: =COUNTIFS([1]統計用!A:A,A91,[1]統計用!B:B,"*書*",[1]統計用!E:E,">=20",[1]統計用!E:E,"<30") -> 5 | H91: =COUNTIFS([1]統計用!A:A,A91,[1]統計用!B:B,"*書*",[1]統計用!E:E,">=30",[1]統計用!E:E,"<40") -> 1 | I91: =COUNTIFS([1]統計用!A:A,A91,[1]統計用!B:B,"*書*",[1]統計用!E:E,">=40",[1]統計用!E:E,"<50") -> 2 | J91: =COUNTIFS([1]統計用!A:A,A91,[1]統計用!B:B,"*書*",[1]統計用!E:E,">=50",[1]統計用!E:E,"<60") -> 6 | K91: =COUNTIFS([1]統計用!A:A,A91,[1]統計用!B:B,"*書*",[1]統計用!E:E,">=60",[1]統計用!E:E,"<70") -> 6 | L91: =COUNTIFS([1]統計用!A:A,A91,[1]統計用!B:B,"*書*",[1]統計用!E:E,">=70",[1]統計用!E:E,"<80") -> 10 | M91: =COUNTIFS([1]統計用!A:A,A91,[1]統計用!B:B,"*書*",[1]統計用!E:E,">=80") -> 8 | N91: =L91+M91 -> 18 | O91: =N91/B91 -> 0.39130435 | P91: =COUNTIFS([1]統計用!A:A,A91,[1]統計用!B:B,"*書*",[1]統計用!D:D,"*岸和田*") -> 31 | Q91: =P91/B91 -> 0.67391304
A92: H29 | B92: =COUNTIFS([1]統計用!A:A,A92,[1]統計用!B:B,"書") -> 48 | C92: 6 | D92: =AVERAGEIFS([1]統計用!E:E,[1]統計用!A:A,A92,[1]統計用!B:B,"*書*") -> 63.4375 | E92: =COUNTIFS([1]統計用!A:A,A92,[1]統計用!B:B,"*書*",[1]統計用!E:E,"<40") -> 7 | F92: =COUNTIFS([1]統計用!A:A,A92,[1]統計用!B:B,"*書*",[1]統計用!E:E,"<20") -> 1 | G92: =COUNTIFS([1]統計用!A:A,A92,[1]統計用!B:B,"*書*",[1]統計用!E:E,">=20",[1]統計用!E:E,"<30") -> 5 | H92: =COUNTIFS([1]統計用!A:A,A92,[1]統計用!B:B,"*書*",[1]統計用!E:E,">=30",[1]統計用!E:E,"<40") -> 1 | I92: =COUNTIFS([1]統計用!A:A,A92,[1]統計用!B:B,"*書*",[1]統計用!E:E,">=40",[1]統計用!E:E,"<50") -> 2 | J92: =COUNTIFS([1]統計用!A:A,A92,[1]統計用!B:B,"*書*",[1]統計用!E:E,">=50",[1]統計用!E:E,"<60") -> 7 | K92: =COUNTIFS([1]統計用!A:A,A92,[1]統計用!B:B,"*書*",[1]統計用!E:E,">=60",[1]統計用!E:E,"<70") -> 10 | L92: =COUNTIFS([1]統計用!A:A,A92,[1]統計用!B:B,"*書*",[1]統計用!E:E,">=70",[1]統計用!E:E,"<80") -> 11 | M92: =COUNTIFS([1]統計用!A:A,A92,[1]統計用!B:B,"*書*",[1]統計用!E:E,">=80") -> 11 | N92: =L92+M92 -> 22 | O92: =N92/B92 -> 0.45833333 | P92: =COUNTIFS([1]統計用!A:A,A92,[1]統計用!B:B,"*書*",[1]統計用!D:D,"*岸和田*") -> 38 | Q92: =P92/B92 -> 0.79166667
A93: H30 | B93: =COUNTIFS([1]統計用!A:A,A93,[1]統計用!B:B,"書") -> 51 | C93: 7 | D93: =AVERAGEIFS([1]統計用!E:E,[1]統計用!A:A,A93,[1]統計用!B:B,"*書*") -> 61.823529 | E93: =COUNTIFS([1]統計用!A:A,A93,[1]統計用!B:B,"*書*",[1]統計用!E:E,"<40") -> 7 | F93: =COUNTIFS([1]統計用!A:A,A93,[1]統計用!B:B,"*書*",[1]統計用!E:E,"<20") -> 0 | G93: =COUNTIFS([1]統計用!A:A,A93,[1]統計用!B:B,"*書*",[1]統計用!E:E,">=20",[1]統計用!E:E,"<30") -> 5 | H93: =COUNTIFS([1]統計用!A:A,A93,[1]統計用!B:B,"*書*",[1]統計用!E:E,">=30",[1]統計用!E:E,"<40") -> 2 | I93: =COUNTIFS([1]統計用!A:A,A93,[1]統計用!B:B,"*書*",[1]統計用!E:E,">=40",[1]統計用!E:E,"<50") -> 4 | J93: =COUNTIFS([1]統計用!A:A,A93,[1]統計用!B:B,"*書*",[1]統計用!E:E,">=50",[1]統計用!E:E,"<60") -> 9 | K93: =COUNTIFS([1]統計用!A:A,A93,[1]統計用!B:B,"*書*",[1]統計用!E:E,">=60",[1]統計用!E:E,"<70") -> 10 | L93: =COUNTIFS([1]統計用!A:A,A93,[1]統計用!B:B,"*書*",[1]統計用!E:E,">=70",[1]統計用!E:E,"<80") -> 12 | M93: =COUNTIFS([1]統計用!A:A,A93,[1]統計用!B:B,"*書*",[1]統計用!E:E,">=80") -> 9 | N93: =L93+M93 -> 21 | O93: =N93/B93 -> 0.41176471 | P93: =COUNTIFS([1]統計用!A:A,A93,[1]統計用!B:B,"*書*",[1]統計用!D:D,"*岸和田*") -> 40 | Q93: =P93/B93 -> 0.78431373
... A99: R8 | B99: =COUNTIFS([1]統計用!A:A,A99,[1]統計用!B:B,"書") -> 30 | C99: 14 | D99: =AVERAGEIFS([1]統計用!E:E,[1]統計用!A:A,A99,[1]統計用!B:B,"*書*") -> 49.366667 | E99: =COUNTIFS([1]統計用!A:A,A99,[1]統計用!B:B,"*書*",[1]統計用!E:E,"<40") -> 10 | F99: =COUNTIFS([1]統計用!A:A,A99,[1]統計用!B:B,"*書*",[1]統計用!E:E,"<20") -> 10 | G99: =COUNTIFS([1]統計用!A:A,A99,[1]統計用!B:B,"*書*",[1]統計用!E:E,">=20",[1]統計用!E:E,"<30") -> 0 | H99: =COUNTIFS([1]統計用!A:A,A99,[1]統計用!B:B,"*書*",[1]統計用!E:E,">=30",[1]統計用!E:E,"<40") -> 0 | I99: =COUNTIFS([1]統計用!A:A,A99,[1]統計用!B:B,"*書*",[1]統計用!E:E,">=40",[1]統計用!E:E,"<50") -> 3 | J99: =COUNTIFS([1]統計用!A:A,A99,[1]統計用!B:B,"*書*",[1]統計用!E:E,">=50",[1]統計用!E:E,"<60") -> 5 | K99: =COUNTIFS([1]統計用!A:A,A99,[1]統計用!B:B,"*書*",[1]統計用!E:E,">=60",[1]統計用!E:E,"<70") -> 4 | L99: =COUNTIFS([1]統計用!A:A,A99,[1]統計用!B:B,"*書*",[1]統計用!E:E,">=70",[1]統計用!E:E,"<80") -> 2 | M99: =COUNTIFS([1]統計用!A:A,A99,[1]統計用!B:B,"*書*",[1]統計用!E:E,">=80") -> 6 | N99: =L99+M99 -> 8 | O99: =N99/B99 -> 0.26666667 | P99: =COUNTIFS([1]統計用!A:A,A99,[1]統計用!B:B,"*書*",[1]統計用!D:D,"*岸和田*") -> 20 | Q99: =P99/B99 -> 0.66666667
A101: 日本画 | B101: 日本画出品人数 | C101: 初出品人数 | D101: 日本画平均年齢 | E101: 40歳未満人数 | F101: 20歳未満 | G101: 20歳以上 30歳未満 | H101: 30歳以上 40歳未満 | I101: 40歳以上 50歳未満 | J101: 50歳以上 60歳未満 | K101: 60歳以上 70歳未満 | L101: 70歳以上 80歳未満 | M101: 80歳以上 | N101: 70歳以上の人数 | O101: 70歳以上の割合 | P101: 岸和田市内 在住の人数 | Q101: 岸和田市内 在住の割合
A102: H19 | B102: =COUNTIFS([1]統計用!A:A,A102,[1]統計用!B:B,"日本画") -> 18 | C102: 3 | D102: =AVERAGEIFS([1]統計用!E:E,[1]統計用!A:A,A102,[1]統計用!B:B,"*日本画*") -> 62.944444 | E102: =COUNTIFS([1]統計用!A:A,A102,[1]統計用!B:B,"*日本画*",[1]統計用!E:E,"<40") -> 0 | F102: =COUNTIFS([1]統計用!A:A,A102,[1]統計用!B:B,"*日本画*",[1]統計用!E:E,"<20") -> 0 | G102: =COUNTIFS([1]統計用!A:A,A102,[1]統計用!B:B,"*日本画*",[1]統計用!E:E,">=20",[1]統計用!E:E,"<30") -> 0 | H102: =COUNTIFS([1]統計用!A:A,A102,[1]統計用!B:B,"*日本画*",[1]統計用!E:E,">=30",[1]統計用!E:E,"<40") -> 0 | I102: =COUNTIFS([1]統計用!A:A,A102,[1]統計用!B:B,"*日本画*",[1]統計用!E:E,">=40",[1]統計用!E:E,"<50") -> 1 | J102: =COUNTIFS([1]統計用!A:A,A102,[1]統計用!B:B,"*日本画*",[1]統計用!E:E,">=50",[1]統計用!E:E,"<60") -> 4 | K102: =COUNTIFS([1]統計用!A:A,A102,[1]統計用!B:B,"*日本画*",[1]統計用!E:E,">=60",[1]統計用!E:E,"<70") -> 11 | L102: =COUNTIFS([1]統計用!A:A,A102,[1]統計用!B:B,"*日本画*",[1]統計用!E:E,">=70",[1]統計用!E:E,"<80") -> 2 | M102: =COUNTIFS([1]統計用!A:A,A102,[1]統計用!B:B,"*日本画*",[1]統計用!E:E,">=80") -> 0 | N102: =L102+M102 -> 2 | O102: =N102/B102 -> 0.11111111 | P102: =COUNTIFS([1]統計用!A:A,A102,[1]統計用!B:B,"*日本画*",[1]統計用!D:D,"*岸和田*") -> 12 | Q102: =P102/B102 -> 0.66666667
A103: H20 | B103: =COUNTIFS([1]統計用!A:A,A103,[1]統計用!B:B,"日本画") -> 17 | C103: 5 | D103: =AVERAGEIFS([1]統計用!E:E,[1]統計用!A:A,A103,[1]統計用!B:B,"*日本画*") -> 64.176471 | E103: =COUNTIFS([1]統計用!A:A,A103,[1]統計用!B:B,"*日本画*",[1]統計用!E:E,"<40") -> 0 | F103: =COUNTIFS([1]統計用!A:A,A103,[1]統計用!B:B,"*日本画*",[1]統計用!E:E,"<20") -> 0 | G103: =COUNTIFS([1]統計用!A:A,A103,[1]統計用!B:B,"*日本画*",[1]統計用!E:E,">=20",[1]統計用!E:E,"<30") -> 0 | H103: =COUNTIFS([1]統計用!A:A,A103,[1]統計用!B:B,"*日本画*",[1]統計用!E:E,">=30",[1]統計用!E:E,"<40") -> 0 | I103: =COUNTIFS([1]統計用!A:A,A103,[1]統計用!B:B,"*日本画*",[1]統計用!E:E,">=40",[1]統計用!E:E,"<50") -> 1 | J103: =COUNTIFS([1]統計用!A:A,A103,[1]統計用!B:B,"*日本画*",[1]統計用!E:E,">=50",[1]統計用!E:E,"<60") -> 3 | K103: =COUNTIFS([1]統計用!A:A,A103,[1]統計用!B:B,"*日本画*",[1]統計用!E:E,">=60",[1]統計用!E:E,"<70") -> 9 | L103: =COUNTIFS([1]統計用!A:A,A103,[1]統計用!B:B,"*日本画*",[1]統計用!E:E,">=70",[1]統計用!E:E,"<80") -> 4 | M103: =COUNTIFS([1]統計用!A:A,A103,[1]統計用!B:B,"*日本画*",[1]統計用!E:E,">=80") -> 0 | N103: =L103+M103 -> 4 | O103: =N103/B103 -> 0.23529412 | P103: =COUNTIFS([1]統計用!A:A,A103,[1]統計用!B:B,"*日本画*",[1]統計用!D:D,"*岸和田*") -> 8 | Q103: =P103/B103 -> 0.47058824
A104: H21 | B104: =COUNTIFS([1]統計用!A:A,A104,[1]統計用!B:B,"日本画") -> 11 | C104: 0 | D104: =AVERAGEIFS([1]統計用!E:E,[1]統計用!A:A,A104,[1]統計用!B:B,"*日本画*") -> 64.090909 | E104: =COUNTIFS([1]統計用!A:A,A104,[1]統計用!B:B,"*日本画*",[1]統計用!E:E,"<40") -> 0 | F104: =COUNTIFS([1]統計用!A:A,A104,[1]統計用!B:B,"*日本画*",[1]統計用!E:E,"<20") -> 0 | G104: =COUNTIFS([1]統計用!A:A,A104,[1]統計用!B:B,"*日本画*",[1]統計用!E:E,">=20",[1]統計用!E:E,"<30") -> 0 | H104: =COUNTIFS([1]統計用!A:A,A104,[1]統計用!B:B,"*日本画*",[1]統計用!E:E,">=30",[1]統計用!E:E,"<40") -> 0 | I104: =COUNTIFS([1]統計用!A:A,A104,[1]統計用!B:B,"*日本画*",[1]統計用!E:E,">=40",[1]統計用!E:E,"<50") -> 0 | J104: =COUNTIFS([1]統計用!A:A,A104,[1]統計用!B:B,"*日本画*",[1]統計用!E:E,">=50",[1]統計用!E:E,"<60") -> 3 | K104: =COUNTIFS([1]統計用!A:A,A104,[1]統計用!B:B,"*日本画*",[1]統計用!E:E,">=60",[1]統計用!E:E,"<70") -> 5 | L104: =COUNTIFS([1]統計用!A:A,A104,[1]統計用!B:B,"*日本画*",[1]統計用!E:E,">=70",[1]統計用!E:E,"<80") -> 3 | M104: =COUNTIFS([1]統計用!A:A,A104,[1]統計用!B:B,"*日本画*",[1]統計用!E:E,">=80") -> 0 | N104: =L104+M104 -> 3 | O104: =N104/B104 -> 0.27272727 | P104: =COUNTIFS([1]統計用!A:A,A104,[1]統計用!B:B,"*日本画*",[1]統計用!D:D,"*岸和田*") -> 8 | Q104: =P104/B104 -> 0.72727273
A105: H22 | B105: =COUNTIFS([1]統計用!A:A,A105,[1]統計用!B:B,"日本画") -> 15 | C105: 7 | D105: =AVERAGEIFS([1]統計用!E:E,[1]統計用!A:A,A105,[1]統計用!B:B,"*日本画*") -> 57.928571 | E105: =COUNTIFS([1]統計用!A:A,A105,[1]統計用!B:B,"*日本画*",[1]統計用!E:E,"<40") -> 2 | F105: =COUNTIFS([1]統計用!A:A,A105,[1]統計用!B:B,"*日本画*",[1]統計用!E:E,"<20") -> 0 | G105: =COUNTIFS([1]統計用!A:A,A105,[1]統計用!B:B,"*日本画*",[1]統計用!E:E,">=20",[1]統計用!E:E,"<30") -> 1 | H105: =COUNTIFS([1]統計用!A:A,A105,[1]統計用!B:B,"*日本画*",[1]統計用!E:E,">=30",[1]統計用!E:E,"<40") -> 1 | I105: =COUNTIFS([1]統計用!A:A,A105,[1]統計用!B:B,"*日本画*",[1]統計用!E:E,">=40",[1]統計用!E:E,"<50") -> 1 | J105: =COUNTIFS([1]統計用!A:A,A105,[1]統計用!B:B,"*日本画*",[1]統計用!E:E,">=50",[1]統計用!E:E,"<60") -> 2 | K105: =COUNTIFS([1]統計用!A:A,A105,[1]統計用!B:B,"*日本画*",[1]統計用!E:E,">=60",[1]統計用!E:E,"<70") -> 7 | L105: =COUNTIFS([1]統計用!A:A,A105,[1]統計用!B:B,"*日本画*",[1]統計用!E:E,">=70",[1]統計用!E:E,"<80") -> 2 | M105: =COUNTIFS([1]統計用!A:A,A105,[1]統計用!B:B,"*日本画*",[1]統計用!E:E,">=80") -> 0 | N105: =L105+M105 -> 2 | O105: =N105/B105 -> 0.13333333 | P105: =COUNTIFS([1]統計用!A:A,A105,[1]統計用!B:B,"*日本画*",[1]統計用!D:D,"*岸和田*") -> 10 | Q105: =P105/B105 -> 0.66666667
A106: H23 | B106: =COUNTIFS([1]統計用!A:A,A106,[1]統計用!B:B,"日本画") -> 16 | C106: 5 | D106: =AVERAGEIFS([1]統計用!E:E,[1]統計用!A:A,A106,[1]統計用!B:B,"*日本画*") -> 65 | E106: =COUNTIFS([1]統計用!A:A,A106,[1]統計用!B:B,"*日本画*",[1]統計用!E:E,"<40") -> 0 | F106: =COUNTIFS([1]統計用!A:A,A106,[1]統計用!B:B,"*日本画*",[1]統計用!E:E,"<20") -> 0 | G106: =COUNTIFS([1]統計用!A:A,A106,[1]統計用!B:B,"*日本画*",[1]統計用!E:E,">=20",[1]統計用!E:E,"<30") -> 0 | H106: =COUNTIFS([1]統計用!A:A,A106,[1]統計用!B:B,"*日本画*",[1]統計用!E:E,">=30",[1]統計用!E:E,"<40") -> 0 | I106: =COUNTIFS([1]統計用!A:A,A106,[1]統計用!B:B,"*日本画*",[1]統計用!E:E,">=40",[1]統計用!E:E,"<50") -> 1 | J106: =COUNTIFS([1]統計用!A:A,A106,[1]統計用!B:B,"*日本画*",[1]統計用!E:E,">=50",[1]統計用!E:E,"<60") -> 2 | K106: =COUNTIFS([1]統計用!A:A,A106,[1]統計用!B:B,"*日本画*",[1]統計用!E:E,">=60",[1]統計用!E:E,"<70") -> 9 | L106: =COUNTIFS([1]統計用!A:A,A106,[1]統計用!B:B,"*日本画*",[1]統計用!E:E,">=70",[1]統計用!E:E,"<80") -> 4 | M106: =COUNTIFS([1]統計用!A:A,A106,[1]統計用!B:B,"*日本画*",[1]統計用!E:E,">=80") -> 0 | N106: =L106+M106 -> 4 | O106: =N106/B106 -> 0.25 | P106: =COUNTIFS([1]統計用!A:A,A106,[1]統計用!B:B,"*日本画*",[1]統計用!D:D,"*岸和田*") -> 9 | Q106: =P106/B106 -> 0.5625
A107: H24 | B107: =COUNTIFS([1]統計用!A:A,A107,[1]統計用!B:B,"日本画") -> 15 | C107: 2 | D107: =AVERAGEIFS([1]統計用!E:E,[1]統計用!A:A,A107,[1]統計用!B:B,"*日本画*") -> 65.866667 | E107: =COUNTIFS([1]統計用!A:A,A107,[1]統計用!B:B,"*日本画*",[1]統計用!E:E,"<40") -> 0 | F107: =COUNTIFS([1]統計用!A:A,A107,[1]統計用!B:B,"*日本画*",[1]統計用!E:E,"<20") -> 0 | G107: =COUNTIFS([1]統計用!A:A,A107,[1]統計用!B:B,"*日本画*",[1]統計用!E:E,">=20",[1]統計用!E:E,"<30") -> 0 | H107: =COUNTIFS([1]統計用!A:A,A107,[1]統計用!B:B,"*日本画*",[1]統計用!E:E,">=30",[1]統計用!E:E,"<40") -> 0 | I107: =COUNTIFS([1]統計用!A:A,A107,[1]統計用!B:B,"*日本画*",[1]統計用!E:E,">=40",[1]統計用!E:E,"<50") -> 1 | J107: =COUNTIFS([1]統計用!A:A,A107,[1]統計用!B:B,"*日本画*",[1]統計用!E:E,">=50",[1]統計用!E:E,"<60") -> 2 | K107: =COUNTIFS([1]統計用!A:A,A107,[1]統計用!B:B,"*日本画*",[1]統計用!E:E,">=60",[1]統計用!E:E,"<70") -> 6 | L107: =COUNTIFS([1]統計用!A:A,A107,[1]統計用!B:B,"*日本画*",[1]統計用!E:E,">=70",[1]統計用!E:E,"<80") -> 6 | M107: =COUNTIFS([1]統計用!A:A,A107,[1]統計用!B:B,"*日本画*",[1]統計用!E:E,">=80") -> 0 | N107: =L107+M107 -> 6 | O107: =N107/B107 -> 0.4 | P107: =COUNTIFS([1]統計用!A:A,A107,[1]統計用!B:B,"*日本画*",[1]統計用!D:D,"*岸和田*") -> 9 | Q107: =P107/B107 -> 0.6
A108: H25 | B108: =COUNTIFS([1]統計用!A:A,A108,[1]統計用!B:B,"日本画") -> 10 | C108: 2 | D108: =AVERAGEIFS([1]統計用!E:E,[1]統計用!A:A,A108,[1]統計用!B:B,"*日本画*") -> 69.2 | E108: =COUNTIFS([1]統計用!A:A,A108,[1]統計用!B:B,"*日本画*",[1]統計用!E:E,"<40") -> 0 | F108: =COUNTIFS([1]統計用!A:A,A108,[1]統計用!B:B,"*日本画*",[1]統計用!E:E,"<20") -> 0 | G108: =COUNTIFS([1]統計用!A:A,A108,[1]統計用!B:B,"*日本画*",[1]統計用!E:E,">=20",[1]統計用!E:E,"<30") -> 0 | H108: =COUNTIFS([1]統計用!A:A,A108,[1]統計用!B:B,"*日本画*",[1]統計用!E:E,">=30",[1]統計用!E:E,"<40") -> 0 | I108: =COUNTIFS([1]統計用!A:A,A108,[1]統計用!B:B,"*日本画*",[1]統計用!E:E,">=40",[1]統計用!E:E,"<50") -> 0 | J108: =COUNTIFS([1]統計用!A:A,A108,[1]統計用!B:B,"*日本画*",[1]統計用!E:E,">=50",[1]統計用!E:E,"<60") -> 1 | K108: =COUNTIFS([1]統計用!A:A,A108,[1]統計用!B:B,"*日本画*",[1]統計用!E:E,">=60",[1]統計用!E:E,"<70") -> 3 | L108: =COUNTIFS([1]統計用!A:A,A108,[1]統計用!B:B,"*日本画*",[1]統計用!E:E,">=70",[1]統計用!E:E,"<80") -> 6 | M108: =COUNTIFS([1]統計用!A:A,A108,[1]統計用!B:B,"*日本画*",[1]統計用!E:E,">=80") -> 0 | N108: =L108+M108 -> 6 | O108: =N108/B108 -> 0.6 | P108: =COUNTIFS([1]統計用!A:A,A108,[1]統計用!B:B,"*日本画*",[1]統計用!D:D,"*岸和田*") -> 6 | Q108: =P108/B108 -> 0.6
A109: H26 | B109: =COUNTIFS([1]統計用!A:A,A109,[1]統計用!B:B,"日本画") -> 22 | C109: 11 | D109: =AVERAGEIFS([1]統計用!E:E,[1]統計用!A:A,A109,[1]統計用!B:B,"*日本画*") -> 67.454545 | E109: =COUNTIFS([1]統計用!A:A,A109,[1]統計用!B:B,"*日本画*",[1]統計用!E:E,"<40") -> 0 | F109: =COUNTIFS([1]統計用!A:A,A109,[1]統計用!B:B,"*日本画*",[1]統計用!E:E,"<20") -> 0 | G109: =COUNTIFS([1]統計用!A:A,A109,[1]統計用!B:B,"*日本画*",[1]統計用!E:E,">=20",[1]統計用!E:E,"<30") -> 0 | H109: =COUNTIFS([1]統計用!A:A,A109,[1]統計用!B:B,"*日本画*",[1]統計用!E:E,">=30",[1]統計用!E:E,"<40") -> 0 | I109: =COUNTIFS([1]統計用!A:A,A109,[1]統計用!B:B,"*日本画*",[1]統計用!E:E,">=40",[1]統計用!E:E,"<50") -> 1 | J109: =COUNTIFS([1]統計用!A:A,A109,[1]統計用!B:B,"*日本画*",[1]統計用!E:E,">=50",[1]統計用!E:E,"<60") -> 1 | K109: =COUNTIFS([1]統計用!A:A,A109,[1]統計用!B:B,"*日本画*",[1]統計用!E:E,">=60",[1]統計用!E:E,"<70") -> 10 | L109: =COUNTIFS([1]統計用!A:A,A109,[1]統計用!B:B,"*日本画*",[1]統計用!E:E,">=70",[1]統計用!E:E,"<80") -> 10 | M109: =COUNTIFS([1]統計用!A:A,A109,[1]統計用!B:B,"*日本画*",[1]統計用!E:E,">=80") -> 0 | N109: =L109+M109 -> 10 | O109: =N109/B109 -> 0.45454545 | P109: =COUNTIFS([1]統計用!A:A,A109,[1]統計用!B:B,"*日本画*",[1]統計用!D:D,"*岸和田*") -> 11 | Q109: =P109/B109 -> 0.5
A110: H27 | B110: =COUNTIFS([1]統計用!A:A,A110,[1]統計用!B:B,"日本画") -> 24 | C110: 8 | D110: =AVERAGEIFS([1]統計用!E:E,[1]統計用!A:A,A110,[1]統計用!B:B,"*日本画*") -> 67.75 | E110: =COUNTIFS([1]統計用!A:A,A110,[1]統計用!B:B,"*日本画*",[1]統計用!E:E,"<40") -> 0 | F110: =COUNTIFS([1]統計用!A:A,A110,[1]統計用!B:B,"*日本画*",[1]統計用!E:E,"<20") -> 0 | G110: =COUNTIFS([1]統計用!A:A,A110,[1]統計用!B:B,"*日本画*",[1]統計用!E:E,">=20",[1]統計用!E:E,"<30") -> 0 | H110: =COUNTIFS([1]統計用!A:A,A110,[1]統計用!B:B,"*日本画*",[1]統計用!E:E,">=30",[1]統計用!E:E,"<40") -> 0 | I110: =COUNTIFS([1]統計用!A:A,A110,[1]統計用!B:B,"*日本画*",[1]統計用!E:E,">=40",[1]統計用!E:E,"<50") -> 2 | J110: =COUNTIFS([1]統計用!A:A,A110,[1]統計用!B:B,"*日本画*",[1]統計用!E:E,">=50",[1]統計用!E:E,"<60") -> 1 | K110: =COUNTIFS([1]統計用!A:A,A110,[1]統計用!B:B,"*日本画*",[1]統計用!E:E,">=60",[1]統計用!E:E,"<70") -> 8 | L110: =COUNTIFS([1]統計用!A:A,A110,[1]統計用!B:B,"*日本画*",[1]統計用!E:E,">=70",[1]統計用!E:E,"<80") -> 13 | M110: =COUNTIFS([1]統計用!A:A,A110,[1]統計用!B:B,"*日本画*",[1]統計用!E:E,">=80") -> 0 | N110: =L110+M110 -> 13 | O110: =N110/B110 -> 0.54166667 | P110: =COUNTIFS([1]統計用!A:A,A110,[1]統計用!B:B,"*日本画*",[1]統計用!D:D,"*岸和田*") -> 12 | Q110: =P110/B110 -> 0.5
A111: H28 | B111: =COUNTIFS([1]統計用!A:A,A111,[1]統計用!B:B,"日本画") -> 21 | C111: 2 | D111: =AVERAGEIFS([1]統計用!E:E,[1]統計用!A:A,A111,[1]統計用!B:B,"*日本画*") -> 70.428571 | E111: =COUNTIFS([1]統計用!A:A,A111,[1]統計用!B:B,"*日本画*",[1]統計用!E:E,"<40") -> 0 | F111: =COUNTIFS([1]統計用!A:A,A111,[1]統計用!B:B,"*日本画*",[1]統計用!E:E,"<20") -> 0 | G111: =COUNTIFS([1]統計用!A:A,A111,[1]統計用!B:B,"*日本画*",[1]統計用!E:E,">=20",[1]統計用!E:E,"<30") -> 0 | H111: =COUNTIFS([1]統計用!A:A,A111,[1]統計用!B:B,"*日本画*",[1]統計用!E:E,">=30",[1]統計用!E:E,"<40") -> 0 | I111: =COUNTIFS([1]統計用!A:A,A111,[1]統計用!B:B,"*日本画*",[1]統計用!E:E,">=40",[1]統計用!E:E,"<50") -> 1 | J111: =COUNTIFS([1]統計用!A:A,A111,[1]統計用!B:B,"*日本画*",[1]統計用!E:E,">=50",[1]統計用!E:E,"<60") -> 0 | K111: =COUNTIFS([1]統計用!A:A,A111,[1]統計用!B:B,"*日本画*",[1]統計用!E:E,">=60",[1]統計用!E:E,"<70") -> 7 | L111: =COUNTIFS([1]統計用!A:A,A111,[1]統計用!B:B,"*日本画*",[1]統計用!E:E,">=70",[1]統計用!E:E,"<80") -> 12 | M111: =COUNTIFS([1]統計用!A:A,A111,[1]統計用!B:B,"*日本画*",[1]統計用!E:E,">=80") -> 1 | N111: =L111+M111 -> 13 | O111: =N111/B111 -> 0.61904762 | P111: =COUNTIFS([1]統計用!A:A,A111,[1]統計用!B:B,"*日本画*",[1]統計用!D:D,"*岸和田*") -> 12 | Q111: =P111/B111 -> 0.57142857
A112: H29 | B112: =COUNTIFS([1]統計用!A:A,A112,[1]統計用!B:B,"日本画") -> 21 | C112: 1 | D112: =AVERAGEIFS([1]統計用!E:E,[1]統計用!A:A,A112,[1]統計用!B:B,"*日本画*") -> 69.619048 | E112: =COUNTIFS([1]統計用!A:A,A112,[1]統計用!B:B,"*日本画*",[1]統計用!E:E,"<40") -> 0 | F112: =COUNTIFS([1]統計用!A:A,A112,[1]統計用!B:B,"*日本画*",[1]統計用!E:E,"<20") -> 0 | G112: =COUNTIFS([1]統計用!A:A,A112,[1]統計用!B:B,"*日本画*",[1]統計用!E:E,">=20",[1]統計用!E:E,"<30") -> 0 | H112: =COUNTIFS([1]統計用!A:A,A112,[1]統計用!B:B,"*日本画*",[1]統計用!E:E,">=30",[1]統計用!E:E,"<40") -> 0 | I112: =COUNTIFS([1]統計用!A:A,A112,[1]統計用!B:B,"*日本画*",[1]統計用!E:E,">=40",[1]統計用!E:E,"<50") -> 1 | J112: =COUNTIFS([1]統計用!A:A,A112,[1]統計用!B:B,"*日本画*",[1]統計用!E:E,">=50",[1]統計用!E:E,"<60") -> 1 | K112: =COUNTIFS([1]統計用!A:A,A112,[1]統計用!B:B,"*日本画*",[1]統計用!E:E,">=60",[1]統計用!E:E,"<70") -> 4 | L112: =COUNTIFS([1]統計用!A:A,A112,[1]統計用!B:B,"*日本画*",[1]統計用!E:E,">=70",[1]統計用!E:E,"<80") -> 13 | M112: =COUNTIFS([1]統計用!A:A,A112,[1]統計用!B:B,"*日本画*",[1]統計用!E:E,">=80") -> 2 | N112: =L112+M112 -> 15 | O112: =N112/B112 -> 0.71428571 | P112: =COUNTIFS([1]統計用!A:A,A112,[1]統計用!B:B,"*日本画*",[1]統計用!D:D,"*岸和田*") -> 10 | Q112: =P112/B112 -> 0.47619048
A113: H30 | B113: =COUNTIFS([1]統計用!A:A,A113,[1]統計用!B:B,"日本画") -> 23 | C113: 5 | D113: =AVERAGEIFS([1]統計用!E:E,[1]統計用!A:A,A113,[1]統計用!B:B,"*日本画*") -> 69.521739 | E113: =COUNTIFS([1]統計用!A:A,A113,[1]統計用!B:B,"*日本画*",[1]統計用!E:E,"<40") -> 1 | F113: =COUNTIFS([1]統計用!A:A,A113,[1]統計用!B:B,"*日本画*",[1]統計用!E:E,"<20") -> 1 | G113: =COUNTIFS([1]統計用!A:A,A113,[1]統計用!B:B,"*日本画*",[1]統計用!E:E,">=20",[1]統計用!E:E,"<30") -> 0 | H113: =COUNTIFS([1]統計用!A:A,A113,[1]統計用!B:B,"*日本画*",[1]統計用!E:E,">=30",[1]統計用!E:E,"<40") -> 0 | I113: =COUNTIFS([1]統計用!A:A,A113,[1]統計用!B:B,"*日本画*",[1]統計用!E:E,">=40",[1]統計用!E:E,"<50") -> 1 | J113: =COUNTIFS([1]統計用!A:A,A113,[1]統計用!B:B,"*日本画*",[1]統計用!E:E,">=50",[1]統計用!E:E,"<60") -> 1 | K113: =COUNTIFS([1]統計用!A:A,A113,[1]統計用!B:B,"*日本画*",[1]統計用!E:E,">=60",[1]統計用!E:E,"<70") -> 4 | L113: =COUNTIFS([1]統計用!A:A,A113,[1]統計用!B:B,"*日本画*",[1]統計用!E:E,">=70",[1]統計用!E:E,"<80") -> 12 | M113: =COUNTIFS([1]統計用!A:A,A113,[1]統計用!B:B,"*日本画*",[1]統計用!E:E,">=80") -> 4 | N113: =L113+M113 -> 16 | O113: =N113/B113 -> 0.69565217 | P113: =COUNTIFS([1]統計用!A:A,A113,[1]統計用!B:B,"*日本画*",[1]統計用!D:D,"*岸和田*") -> 8 | Q113: =P113/B113 -> 0.34782609
... A119: R8 | B119: =COUNTIFS([1]統計用!A:A,A119,[1]統計用!B:B,"日本画") -> 9 | C119: 1 | D119: =AVERAGEIFS([1]統計用!E:E,[1]統計用!A:A,A119,[1]統計用!B:B,"*日本画*") -> 81 | E119: =COUNTIFS([1]統計用!A:A,A119,[1]統計用!B:B,"*日本画*",[1]統計用!E:E,"<40") -> 0 | F119: =COUNTIFS([1]統計用!A:A,A119,[1]統計用!B:B,"*日本画*",[1]統計用!E:E,"<20") -> 0 | G119: =COUNTIFS([1]統計用!A:A,A119,[1]統計用!B:B,"*日本画*",[1]統計用!E:E,">=20",[1]統計用!E:E,"<30") -> 0 | H119: =COUNTIFS([1]統計用!A:A,A119,[1]統計用!B:B,"*日本画*",[1]統計用!E:E,">=30",[1]統計用!E:E,"<40") -> 0 | I119: =COUNTIFS([1]統計用!A:A,A119,[1]統計用!B:B,"*日本画*",[1]統計用!E:E,">=40",[1]統計用!E:E,"<50") -> 0 | J119: =COUNTIFS([1]統計用!A:A,A119,[1]統計用!B:B,"*日本画*",[1]統計用!E:E,">=50",[1]統計用!E:E,"<60") -> 0 | K119: =COUNTIFS([1]統計用!A:A,A119,[1]統計用!B:B,"*日本画*",[1]統計用!E:E,">=60",[1]統計用!E:E,"<70") -> 0 | L119: =COUNTIFS([1]統計用!A:A,A119,[1]統計用!B:B,"*日本画*",[1]統計用!E:E,">=70",[1]統計用!E:E,"<80") -> 5 | M119: =COUNTIFS([1]統計用!A:A,A119,[1]統計用!B:B,"*日本画*",[1]統計用!E:E,">=80") -> 4 | N119: =L119+M119 -> 9 | O119: =N119/B119 -> 1 | P119: =COUNTIFS([1]統計用!A:A,A119,[1]統計用!B:B,"*日本画*",[1]統計用!D:D,"*岸和田*") -> 4 | Q119: =P119/B119 -> 0.44444444
A121: 全部門 | B121: 全部門一般出品者合計人数 | C121: 初出品人数 （内数） | D121: 全部門40歳未満合計人数 | E121: 全部門40歳未満人数の割合
A122: H19 | B122: =B2+B22+B42+B62+B82+B102 -> 338 | C122: =C2+C22+C42+C62+C82+C102 -> 61 | D122: =E2+E22+E42+E62+E82+E102 -> 18 | E122: =D122/B122 -> 0.053254438
A123: H20 | B123: =B3+B23+B43+B63+B83+B103 -> 348 | C123: =C3+C23+C43+C63+C83+C103 -> 73 | D123: =E3+E23+E43+E63+E83+E103 -> 13 | E123: =D123/B123 -> 0.037356322
A124: H21 | B124: =B4+B24+B44+B64+B84+B104 -> 343 | C124: =C4+C24+C44+C64+C84+C104 -> 73 | D124: =E4+E24+E44+E64+E84+E104 -> 29 | E124: =D124/B124 -> 0.084548105
A125: H22 | B125: =B5+B25+B45+B65+B85+B105 -> 349 | C125: =C5+C25+C45+C65+C85+C105 -> 93 | D125: =E5+E25+E45+E65+E85+E105 -> 6 | E125: =D125/B125 -> 0.017191977
A126: H23 | B126: =B6+B26+B46+B66+B86+B106 -> 341 | C126: =C6+C26+C46+C66+C86+C106 -> 66 | D126: =E6+E26+E46+E66+E86+E106 -> 6 | E126: =D126/B126 -> 0.017595308
A127: H24 | B127: =B7+B27+B47+B67+B87+B107 -> 356 | C127: =C7+C27+C47+C67+C87+C107 -> 60 | D127: =E7+E27+E47+E67+E87+E107 -> 19 | E127: =D127/B127 -> 0.053370787
A128: H25 | B128: =B8+B28+B48+B68+B88+B108 -> 366 | C128: =C8+C28+C48+C68+C88+C108 -> 60 | D128: =E8+E28+E48+E68+E88+E108 -> 7 | E128: =D128/B128 -> 0.019125683
A129: H26 | B129: =B9+B29+B49+B69+B89+B109 -> 345 | C129: =C9+C29+C49+C69+C89+C109 -> 56 | D129: =E9+E29+E49+E69+E89+E109 -> 5 | E129: =D129/B129 -> 0.014492754
A130: H27 | B130: =B10+B30+B50+B70+B90+B110 -> 356 | C130: =C10+C30+C50+C70+C90+C110 -> 60 | D130: =E10+E30+E50+E70+E90+E110 -> 9 | E130: =D130/B130 -> 0.025280899
A131: H28 | B131: =B11+B31+B51+B71+B91+B111 -> 355 | C131: =C11+C31+C51+C71+C91+C111 -> 55 | D131: =E11+E31+E51+E71+E91+E111 -> 15 | E131: =D131/B131 -> 0.042253521
A132: H29 | B132: =B12+B32+B52+B72+B92+B112 -> 348 | C132: =C12+C32+C52+C72+C92+C112 -> 46 | D132: =E12+E32+E52+E72+E92+E112 -> 11 | E132: =D132/B132 -> 0.031609195
A133: H30 | B133: =B13+B33+B53+B73+B93+B113 -> 352 | C133: =C13+C33+C53+C73+C93+C113 -> 59 | D133: =E13+E33+E53+E73+E93+E113 -> 11 | E133: =D133/B133 -> 0.03125
... A139: R8 | B139: =B19+B39+B59+B79+B99+B119 -> 209 | C139: =C19+C39+C59+C79+C99+C119 -> 48 | D139: =E19+E39+E59+E79+E99+E119 -> 15 | E139: =D139/B139 -> 0.071770335
