Workbook

Sheet まとめ
A1: 洋画 | B1: 洋画出品人数 | C1: 初出品人数 | D1: 洋画平均年齢 | E1: 40歳未満人数 | F1: 20歳未満 | G1: 20歳以上 30歳未満 | H1: 30歳以上 40歳未満 | I1: 40歳以上 50歳未満 | J1: 50歳以上 60歳未満 | K1: 60歳以上 70歳未満 | L1: 70歳以上 80歳未満 | M1: 80歳以上 | N1: 70歳以上の人数 | O1: 70歳以上の割合 | P1: 岸和田市内 在住の人数 | Q1: 岸和田市内 在住の割合
A2: H19 | B2: =COUNTIFS([1]統計用!A:A,A2,[1]統計用!B:B,"洋画") -> 108 | C2: 22 | D2: =AVERAGEIFS([1]統計用!E:E,[1]統計用!A:A,A2,[1]統計用!B:B,"*洋画*") -> 64.768519 | E2: =COUNTIFS([1]統計用!A:A,A2,[1]統計用!B:B,"*洋画*",[1]統計用!E:E,"<40") -> 4 | F2: =COUNTIFS([1]統計用!A:A,A2,[1]統計用!B:B,"*洋画*",[1]統計用!E:E,"<20") -> 0 | G2: =COUNTIFS([1]統計用!A:A,A2,[1]統計用!B:B,"*洋画*",[1]統計用!E:E,">=20",[1]統計用!E:E,"<30") -> 0 | H2: =COUNTIFS([1]統計用!A:A,A2,[1]統計用!B:B,"*洋画*",[1]統計用!E:E,">=30",[1]統計用!E:E,"<40") -> 4 | I2: =COUNTIFS([1]統計用!A:A,A2,[1]統計用!B:B,"*洋画*",[1]統計用!E:E,">=40",[1]統計用!E:E,"<50") -> 2 | J2: =COUNTIFS([1]統計用!A:A,A2,[1]統計用!B:B,"*洋画*",[1]統計用!E:E,">=50",[1]統計用!E:E,"<60") -> 26 | K2: =COUNTIFS([1]統計用!A:A,A2,[1]統計用!B:B,"*洋画*",[1]統計用!E:E,">=60",[1]統計用!E:E,"<70") -> 42 | L2: =COUNTIFS([1]統計用!A:A,A2,[1]統計用!B:B,"*洋画*",[1]統計用!E:E,">=70",[1]統計用!E:E,"<80") -> 29 | M2: =COUNTIFS([1]統計用!A:A,A2,[1]統計用!B:B,"*洋画*",[1]統計用!E:E,">=80") -> 5 | N2: =L2+M2 -> 34 | O2: =N2/B2 -> 0.31481481 | P2: =COUNTIFS([1]統計用!A:A,A2,[1]統計用!B:B,"*洋画*",[1]統計用!D:D,"*岸和田*") -> 72 | Q2: =P2/B2 -> 0.66666667
A3: H20 | B3: =COUNTIFS([1]統計用!A:A,A3,[1]統計用!B:B,"洋画") -> 114 | C3: 32 | D3: =AVERAGEIFS([1]統計用!E:E,[1]統計用!A:A,A3,[1]統計用!B:B,"*洋画*") -> 65.473684 | E3: =COUNTIFS([1]統計用!A:A,A3,[1]統計用!B:B,"*洋画*",[1]統計用!E:E,"<40") -> 4 | F3: =COUNTIFS([1]統計用!A:A,A3,[1]統計用!B:B,"*洋画*",[1]統計用!E:E,"<20") -> 0 | G3: =COUNTIFS([1]統計用!A:A,A3,[1]統計用!B:B,"*洋画*",[1]統計用!E:E,">=20",[1]統計用!E:E,"<30") -> 0 | H3: =COUNTIFS([1]統計用!A:A,A3,[1]統計用!B:B,"*洋画*",[1]統計用!E:E,">=30",[1]統計用!E:E,"<40") -> 4 | I3: =COUNTIFS([1]統計用!A:A,A3,[1]統計用!B:B,"*洋画*",[1]統計用!E:E,">=40",[1]統計用!E:E,"<50") -> 2 | J3: =COUNTIFS([1]統計用!A:A,A3,[1]統計用!B:B,"*洋画*",[1]統計用!E:E,">=50",[1]統計用!E:E,"<60") -> 23 | K3: =COUNTIFS([1]統計用!A:A,A3,[1]統計用!B:B,"*洋画*",[1]統計用!E:E,">=60",[1]統計用!E:E,"<70") -> 43 | L3: =COUNTIFS([1]統計用!A:A,A3,[1]統計用!B:B,"*洋画*",[1]統計用!E:E,">=70",[1]統計用!E:E,"<80") -> 35 | M3: =COUNTIFS([1]統計用!A:A,A3,[1]統計用!B:B,"*洋画*",[1]統計用!E:E,">=80") -> 7 | N3: =L3+M3 -> 42 | O3: =N3/B3 -> 0.36842105 | P3: =COUNTIFS([1]統計用!A:A,A3,[1]統計用!B:B,"*洋画*",[1]統計用!D:D,"*岸和田*") -> 63 | Q3: =P3/B3 -> 0.55263158
A4: H21 | B4: =COUNTIFS([1]統計用!A:A,A4,[1]統計用!B:B,"洋画") -> 112 | C4: 22 | D4: =AVERAGEIFS([1]統計用!E:E,[1]統計用!A:A,A4,[1]統計用!B:B,"*洋画*") -> 64.455357 | E4: =COUNTIFS([1]統計用!A:A,A4,[1]統計用!B:B,"*洋画*",[1]統計用!E:E,"<40") -> 7 | F4: =COUNTIFS([1]統計用!A:A,A4,[1]統計用!B:B,"*洋画*",[1]統計用!E:E,"<20") -> 3 | G4: =COUNTIFS([1]統計用!A:A,A4,[1]統計用!B:B,"*洋画*",[1]統計用!E:E,">=20",[1]統計用!E:E,"<30") -> 2 | H4: =COUNTIFS([1]統計用!A:A,A4,[1]統計用!B:B,"*洋画*",[1]統計用!E:E,">=30",[1]統計用!E:E,"<40") -> 2 | I4: =COUNTIFS([1]統計用!A:A,A4,[1]統計用!B:B,"*洋画*",[1]統計用!E:E,">=40",[1]統計用!E:E,"<50") -> 4 | J4: =COUNTIFS([1]統計用!A:A,A4,[1]統計用!B:B,"*洋画*",[1]統計用!E:E,">=50",[1]統計用!E:E,"<60") -> 11 | K4: =COUNTIFS([1]統計用!A:A,A4,[1]統計用!B:B,"*洋画*",[1]統計用!E:E,">=60",[1]統計用!E:E,"<70") -> 52 | L4: =COUNTIFS([1]統計用!A:A,A4,[1]統計用!B:B,"*洋画*",[1]統計用!E:E,">=70",[1]統計用!E:E,"<80") -> 30 | M4: =COUNTIFS([1]統計用!A:A,A4,[1]統計用!B:B,"*洋画*",[1]統計用!E:E,">=80") -> 8 | N4: =L4+M4 -> 38 | O4: =N4/B4 -> 0.33928571 | P4: =COUNTIFS([1]統計用!A:A,A4,[1]統計用!B:B,"*洋画*",[1]統計用!D:D,"*岸和田*") -> 65 | Q4: =P4/B4 -> 0.58035714
A5: H22 | B5: =COUNTIFS([1]統計用!A:A,A5,[1]統計用!B:B,"洋画") -> 105 | C5: 27 | D5: =AVERAGEIFS([1]統計用!E:E,[1]統計用!A:A,A5,[1]統計用!B:B,"*洋画*") -> 67.209524 | E5: =COUNTIFS([1]統計用!A:A,A5,[1]統計用!B:B,"*洋画*",[1]統計用!E:E,"<40") -> 0 | F5: =COUNTIFS([1]統計用!A:A,A5,[1]統計用!B:B,"*洋画*",[1]統計用!E:E,"<20") -> 0 | G5: =COUNTIFS([1]統計用!A:A,A5,[1]統計用!B:B,"*洋画*",[1]統計用!E:E,">=20",[1]統計用!E:E,"<30") -> 0 | H5: =COUNTIFS([1]統計用!A:A,A5,[1]統計用!B:B,"*洋画*",[1]統計用!E:E,">=30",[1]統計用!E:E,"<40") -> 0 | I5: =COUNTIFS([1]統計用!A:A,A5,[1]統計用!B:B,"*洋画*",[1]統計用!E:E,">=40",[1]統計用!E:E,"<50") -> 2 | J5: =COUNTIFS([1]統計用!A:A,A5,[1]統計用!B:B,"*洋画*",[1]統計用!E:E,">=50",[1]統計用!E:E,"<60") -> 14 | K5: =COUNTIFS([1]統計用!A:A,A5,[1]統計用!B:B,"*洋画*",[1]統計用!E:E,">=60",[1]統計用!E:E,"<70") -> 53 | L5: =COUNTIFS([1]統計用!A:A,A5,[1]統計用!B:B,"*洋画*",[1]統計用!E:E,">=70",[1]統計用!E:E,"<80") -> 28 | M5: =COUNTIFS([1]統計用!A:A,A5,[1]統計用!B:B,"*洋画*",[1]統計用!E:E,">=80") -> 8 | N5: =L5+M5 -> 36 | O5: =N5/B5 -> 0.34285714 | P5: =COUNTIFS([1]統計用!A:A,A5,[1]統計用!B:B,"*洋画*",[1]統計用!D:D,"*岸和田*") -> 55 | Q5: =P5/B5 -> 0.52380952
A6: H23 | B6: =COUNTIFS([1]統計用!A:A,A6,[1]統計用!B:B,"洋画") -> 102 | C6: 17 | D6: =AVERAGEIFS([1]統計用!E:E,[1]統計用!A:A,A6,[1]統計用!B:B,"*洋画*") -> 68.754902 | E6: =COUNTIFS([1]統計用!A:A,A6,[1]統計用!B:B,"*洋画*",[1]統計用!E:E,"<40") -> 0 | F6: =COUNTIFS([1]統計用!A:A,A6,[1]統計用!B:B,"*洋画*",[1]統計用!E:E,"<20") -> 0 | G6: =COUNTIFS([1]統計用!A:A,A6,[1]統計用!B:B,"*洋画*",[1]統計用!E:E,">=20",[1]統計用!E:E,"<30") -> 0 | H6: =COUNTIFS([1]統計用!A:A,A6,[1]統計用!B:B,"*洋画*",[1]統計用!E:E,">=30",[1]統計用!E:E,"<40") -> 0 | I6: =COUNTIFS([1]統計用!A:A,A6,[1]統計用!B:B,"*洋画*",[1]統計用!E:E,">=40",[1]統計用!E:E,"<50") -> 0 | J6: =COUNTIFS([1]統計用!A:A,A6,[1]統計用!B:B,"*洋画*",[1]統計用!E:E,">=50",[1]統計用!E:E,"<60") -> 10 | K6: =COUNTIFS([1]統計用!A:A,A6,[1]統計用!B:B,"*洋画*",[1]統計用!E:E,">=60",[1]統計用!E:E,"<70") -> 49 | L6: =COUNTIFS([1]統計用!A:A,A6,[1]統計用!B:B,"*洋画*",[1]統計用!E:E,">=70",[1]統計用!E:E,"<80") -> 34 | M6: =COUNTIFS([1]統計用!A:A,A6,[1]統計用!B:B,"*洋画*",[1]統計用!E:E,">=80") -> 9 | N6: =L6+M6 -> 43 | O6: =N6/B6 -> 0.42156863 | P6: =COUNTIFS([1]統計用!A:A,A6,[1]統計用!B:B,"*洋画*",[1]統計用!D:D,"*岸和田*") -> 54 | Q6: =P6/B6 -> 0.52941176
A7: H24 | B7: =COUNTIFS([1]統計用!A:A,A7,[1]統計用!B:B,"洋画") -> 100 | C7: 11 | D7: =AVERAGEIFS([1]統計用!E:E,[1]統計用!A:A,A7,[1]統計用!B:B,"*洋画*") -> 68.38 | E7: =COUNTIFS([1]統計用!A:A,A7,[1]統計用!B:B,"*洋画*",[1]統計用!E:E,"<40") -> 2 | F7: =COUNTIFS([1]統計用!A:A,A7,[1]統計用!B:B,"*洋画*",[1]統計用!E:E,"<20") -> 0 | G7: =COUNTIFS([1]統計用!A:A,A7,[1]統計用!B:B,"*洋画*",[1]統計用!E:E,">=20",[1]統計用!E:E,"<30") -> 2 | H7: =COUNTIFS([1]統計用!A:A,A7,[1]統計用!B:B,"*洋画*",[1]統計用!E:E,">=30",[1]統計用!E:E,"<40") -> 0 | I7: =COUNTIFS([1]統計用!A:A,A7,[1]統計用!B:B,"*洋画*",[1]統計用!E:E,">=40",[1]統計用!E:E,"<50") -> 0 | J7: =COUNTIFS([1]統計用!A:A,A7,[1]統計用!B:B,"*洋画*",[1]統計用!E:E,">=50",[1]統計用!E:E,"<60") -> 8 | K7: =COUNTIFS([1]統計用!A:A,A7,[1]統計用!B:B,"*洋画*",[1]統計用!E:E,">=60",[1]統計用!E:E,"<70") -> 44 | L7: =COUNTIFS([1]統計用!A:A,A7,[1]統計用!B:B,"*洋画*",[1]統計用!E:E,">=70",[1]統計用!E:E,"<80") -> 38 | M7: =COUNTIFS([1]統計用!A:A,A7,[1]統計用!B:B,"*洋画*",[1]統計用!E:E,">=80") -> 8 | N7: =L7+M7 -> 46 | O7: =N7/B7 -> 0.46 | P7: =COUNTIFS([1]統計用!A:A,A7,[1]統計用!B:B,"*洋画*",[1]統計用!D:D,"*岸和田*") -> 49 | Q7: =P7/B7 -> 0.49
A8: H25 | B8: =COUNTIFS([1]統計用!A:A,A8,[1]統計用!B:B,"洋画") -> 105 | C8: 18 | D8: =AVERAGEIFS([1]統計用!E:E,[1]統計用!A:A,A8,[1]統計用!B:B,"*洋画*") -> 69.742857 | E8: =COUNTIFS([1]統計用!A:A,A8,[1]統計用!B:B,"*洋画*",[1]統計用!E:E,"<40") -> 0 | F8: =COUNTIFS([1]統計用!A:A,A8,[1]統計用!B:B,"*洋画*",[1]統計用!E:E,"<20") -> 0 | G8: =COUNTIFS([1]統計用!A:A,A8,[1]統計用!B:B,"*洋画*",[1]統計用!E:E,">=20",[1]統計用!E:E,"<30") -> 0 | H8: =COUNTIFS([1]統計用!A:A,A8,[1]統計用!B:B,"*洋画*",[1]統計用!E:E,">=30",[1]統計用!E:E,"<40") -> 0 | I8: =COUNTIFS([1]統計用!A:A,A8,[1]統計用!B:B,"*洋画*",[1]統計用!E:E,">=40",[1]統計用!E:E,"<50") -> 0 | J8: =COUNTIFS([1]統計用!A:A,A8,[1]統計用!B:B,"*洋画*",[1]統計用!E:E,">=50",[1]統計用!E:E,"<60") -> 7 | K8: =COUNTIFS([1]統計用!A:A,A8,[1]統計用!B:B,"*洋画*",[1]統計用!E:E,">=60",[1]統計用!E:E,"<70") -> 45 | L8: =COUNTIFS([1]統計用!A:A,A8,[1]統計用!B:B,"*洋画*",[1]統計用!E:E,">=70",[1]統計用!E:E,"<80") -> 45 | M8: =COUNTIFS([1]統計用!A:A,A8,[1]統計用!B:B,"*洋画*",[1]統計用!E:E,">=80") -> 8 | N8: =L8+M8 -> 53 | O8: =N8/B8 -> 0.5047619 | P8: =COUNTIFS([1]統計用!A:A,A8,[1]統計用!B:B,"*洋画*",[1]統計用!D:D,"*岸和田*") -> 45 | Q8: =P8/B8 -> 0.42857143
A9: H26 | B9: =COUNTIFS([1]統計用!A:A,A9,[1]統計用!B:B,"洋画") -> 100 | C9: 7 | D9: =AVERAGEIFS([1]統計用!E:E,[1]統計用!A:A,A9,[1]統計用!B:B,"*洋画*") -> 70.28 | E9: =COUNTIFS([1]統計用!A:A,A9,[1]統計用!B:B,"*洋画*",[1]統計用!E:E,"<40") -> 1 | F9: =COUNTIFS([1]統計用!A:A,A9,[1]統計用!B:B,"*洋画*",[1]統計用!E:E,"<20") -> 0 | G9: =COUNTIFS([1]統計用!A:A,A9,[1]統計用!B:B,"*洋画*",[1]統計用!E:E,">=20",[1]統計用!E:E,"<30") -> 0 | H9: =COUNTIFS([1]統計用!A:A,A9,[1]統計用!B:B,"*洋画*",[1]統計用!E:E,">=30",[1]統計用!E:E,"<40") -> 1 | I9: =COUNTIFS([1]統計用!A:A,A9,[1]統計用!B:B,"*洋画*",[1]統計用!E:E,">=40",[1]統計用!E:E,"<50") -> 0 | J9: =COUNTIFS([1]統計用!A:A,A9,[1]統計用!B:B,"*洋画*",[1]統計用!E:E,">=50",[1]統計用!E:E,"<60") -> 3 | K9: =COUNTIFS([1]統計用!A:A,A9,[1]統計用!B:B,"*洋画*",[1]統計用!E:E,">=60",[1]統計用!E:E,"<70") -> 41 | L9: =COUNTIFS([1]統計用!A:A,A9,[1]統計用!B:B,"*洋画*",[1]統計用!E:E,">=70",[1]統計用!E:E,"<80") -> 47 | M9: =COUNTIFS([1]統計用!A:A,A9,[1]統計用!B:B,"*洋画*",[1]統計用!E:E,">=80") -> 8 | N9: =L9+M9 -> 55 | O9: =N9/B9 -> 0.55 | P9: =COUNTIFS([1]統計用!A:A,A9,[1]統計用!B:B,"*洋画*",[1]統計用!D:D,"*岸和田*") -> 47 | Q9: =P9/B9 -> 0.47
A10: H27 | B10: =COUNTIFS([1]統計用!A:A,A10,[1]統計用!B:B,"洋画") -> 106 | C10: 18 | D10: =AVERAGEIFS([1]統計用!E:E,[1]統計用!A:A,A10,[1]統計用!B:B,"*洋画*") -> 69.632075 | E10: =COUNTIFS([1]統計用!A:A,A10,[1]統計用!B:B,"*洋画*",[1]統計用!E:E,"<40") -> 0 | F10: =COUNTIFS([1]統計用!A:A,A10,[1]統計用!B:B,"*洋画*",[1]統計用!E:E,"<20") -> 0 | G10: =COUNTIFS([1]統計用!A:A,A10,[1]統計用!B:B,"*洋画*",[1]統計用!E:E,">=20",[1]統計用!E:E,"<30") -> 0 | H10: =COUNTIFS([1]統計用!A:A,A10,[1]統計用!B:B,"*洋画*",[1]統計用!E:E,">=30",[1]統計用!E:E,"<40") -> 0 | I10: =COUNTIFS([1]統計用!A:A,A10,[1]統計用!B:B,"*洋画*",[1]統計用!E:E,">=40",[1]統計用!E:E,"<50") -> 1 | J10: =COUNTIFS([1]統計用!A:A,A10,[1]統計用!B:B,"*洋画*",[1]統計用!E:E,">=50",[1]統計用!E:E,"<60") -> 5 | K10: =COUNTIFS([1]統計用!A:A,A10,[1]統計用!B:B,"*洋画*",[1]統計用!E:E,">=60",[1]統計用!E:E,"<70") -> 41 | L10: =COUNTIFS([1]統計用!A:A,A10,[1]統計用!B:B,"*洋画*",[1]統計用!E:E,">=70",[1]統計用!E:E,"<80") -> 53 | M10: =COUNTIFS([1]統計用!A:A,A10,[1]統計用!B:B,"*洋画*",[1]統計用!E:E,">=80") -> 6 | N10: =L10+M10 -> 59 | O10: =N10/B10 -> 0.55660377 | P10: =COUNTIFS([1]統計用!A:A,A10,[1]統計用!B:B,"*洋画*",[1]統計用!D:D,"*岸和田*") -> 51 | Q10: =P10/B10 -> 0.48113208
A11: H28 | B11: =COUNTIFS([1]統計用!A:A,A11,[1]統計用!B:B,"洋画") -> 93 | C11: 8 | D11: =AVERAGEIFS([1]統計用!E:E,[1]統計用!A:A,A11,[1]統計用!B:B,"*洋画*") -> 70.763441 | E11: =COUNTIFS([1]統計用!A:A,A11,[1]統計用!B:B,"*洋画*",[1]統計用!E:E,"<40") -> 1 | F11: =COUNTIFS([1]統計用!A:A,A11,[1]統計用!B:B,"*洋画*",[1]統計用!E:E,"<20") -> 0 | G11: =COUNTIFS([1]統計用!A:A,A11,[1]統計用!B:B,"*洋画*",[1]統計用!E:E,">=20",[1]統計用!E:E,"<30") -> 0 | H11: =COUNTIFS([1]統計用!A:A,A11,[1]統計用!B:B,"*洋画*",[1]統計用!E:E,">=30",[1]統計用!E:E,"<40") -> 1 | I11: =COUNTIFS([1]統計用!A:A,A11,[1]統計用!B:B,"*洋画*",[1]統計用!E:E,">=40",[1]統計用!E:E,"<50") -> 0 | J11: =COUNTIFS([1]統計用!A:A,A11,[1]統計用!B:B,"*洋画*",[1]統計用!E:E,">=50",[1]統計用!E:E,"<60") -> 2 | K11: =COUNTIFS([1]統計用!A:A,A11,[1]統計用!B:B,"*洋画*",[1]統計用!E:E,">=60",[1]統計用!E:E,"<70") -> 38 | L11: =COUNTIFS([1]統計用!A:A,A11,[1]統計用!B:B,"*洋画*",[1]統計用!E:E,">=70",[1]統計用!E:E,"<80") -> 44 | M11: =COUNTIFS([1]統計用!A:A,A11,[1]統計用!B:B,"*洋画*",[1]統計用!E:E,">=80") -> 8 | N11: =L11+M11 -> 52 | O11: =N11/B11 -> 0.55913978 | P11: =COUNTIFS([1]統計用!A:A,A11,[1]統計用!B:B,"*洋画*",[1]統計用!D:D,"*岸和田*") -> 44 | Q11: =P11/B11 -> 0.47311828
A12: H29 | B12: =COUNTIFS([1]統計用!A:A,A12,[1]統計用!B:B,"洋画") -> 92 | C12: 6 | D12: =AVERAGEIFS([1]統計用!E:E,[1]統計用!A:A,A12,[1]統計用!B:B,"*洋画*") -> 70.891304 | E12: =COUNTIFS([1]統計用!A:A,A12,[1]統計用!B:B,"*洋画*",[1]統計用!E:E,"<40") -> 1 | F12: =COUNTIFS([1]統計用!A:A,A12,[1]統計用!B:B,"*洋画*",[1]統計用!E:E,"<20") -> 0 | G12: =COUNTIFS([1]統計用!A:A,A12,[1]統計用!B:B,"*洋画*",[1]統計用!E:E,">=20",[1]統計用!E:E,"<30") -> 0 | H12: =COUNTIFS([1]統計用!A:A,A12,[1]統計用!B:B,"*洋画*",[1]統計用!E:E,">=30",[1]統計用!E:E,"<40") -> 1 | I12: =COUNTIFS([1]統計用!A:A,A12,[1]統計用!B:B,"*洋画*",[1]統計用!E:E,">=40",[1]統計用!E:E,"<50") -> 0 | J12: =COUNTIFS([1]統計用!A:A,A12,[1]統計用!B:B,"*洋画*",[1]統計用!E:E,">=50",[1]統計用!E:E,"<60") -> 3 | K12: =COUNTIFS([1]統計用!A:A,A12,[1]統計用!B:B,"*洋画*",[1]統計用!E:E,">=60",[1]統計用!E:E,"<70") -> 36 | L12: =COUNTIFS([1]統計用!A:A,A12,[1]統計用!B:B,"*洋画*",[1]統計用!E:E,">=70",[1]統計用!E:E,"<80") -> 42 | M12: =COUNTIFS([1]統計用!A:A,A12,[1]統計用!B:B,"*洋画*",[1]統計用!E:E,">=80") -> 10 | N12: =L12+M12 -> 52 | O12: =N12/B12 -> 0.56521739 | P12: =COUNTIFS([1]統計用!A:A,A12,[1]統計用!B:B,"*洋画*",[1]統計用!D:D,"*岸和田*") -> 43 | Q12: =P12/B12 -> 0.4673913
A13: H30 | B13: =COUNTIFS([1]統計用!A:A,A13,[1]統計用!B:B,"洋画") -> 91 | C13: 13 | D13: =AVERAGEIFS([1]統計用!E:E,[1]統計用!A:A,A13,[1]統計用!B:B,"*洋画*") -> 70.955556 | E13: =COUNTIFS([1]統計用!A:A,A13,[1]統計用!B:B,"*洋画*",[1]統計用!E:E,"<40") -> 1 | F13: =COUNTIFS([1]統計用!A:A,A13,[1]統計用!B:B,"*洋画*",[1]統計用!E:E,"<20") -> 0 | G13: =COUNTIFS([1]統計用!A:A,A13,[1]統計用!B:B,"*洋画*",[1]統計用!E:E,">=20",[1]統計用!E:E,"<30") -> 0 | H13: =COUNTIFS([1]統計用!A:A,A13,[1]統計用!B:B,"*洋画*",[1]統計用!E:E,">=30",[1]統計用!E:E,"<40") -> 1 | I13: =COUNTIFS([1]統計用!A:A,A13,[1]統計用!B:B,"*洋画*",[1]統計用!E:E,">=40",[1]統計用!E:E,"<50") -> 2 | J13: =COUNTIFS([1]統計用!A:A,A13,[1]統計用!B:B,"*洋画*",[1]統計用!E:E,">=50",[1]統計用!E:E,"<60") -> 1 | K13: =COUNTIFS([1]統計用!A:A,A13,[1]統計用!B:B,"*洋画*",[1]統計用!E:E,">=60",[1]統計用!E:E,"<70") -> 33 | L13: =COUNTIFS([1]統計用!A:A,A13,[1]統計用!B:B,"*洋画*",[1]統計用!E:E,">=70",[1]統計用!E:E,"<80") -> 43 | M13: =COUNTIFS([1]統計用!A:A,A13,[1]統計用!B:B,"*洋画*",[1]統計用!E:E,">=80") -> 10 | N13: =L13+M13 -> 53 | O13: =N13/B13 -> 0.58241758 | P13: =COUNTIFS([1]統計用!A:A,A13,[1]統計用!B:B,"*洋画*",[1]統計用!D:D,"*岸和田*") -> 42 | Q13: =P13/B13 -> 0.46153846
... A19: R8 | B19: =COUNTIFS([1]統計用!A:A,A19,[1]統計用!B:B,"洋画") -> 77 | C19: 24 | D19: =AVERAGEIFS([1]統計用!E:E,[1]統計用!A:A,A19,[1]統計用!B:B,"*洋画*") -> 72.571429 | E19: =COUNTIFS([1]統計用!A:A,A19,[1]統計用!B:B,"*洋画*",[1]統計用!E:E,"<40") -> 2 | F19: =COUNTIFS([1]統計用!A:A,A19,[1]統計用!B:B,"*洋画*",[1]統計用!E:E,"<20") -> 0 | G19: =COUNTIFS([1]統計用!A:A,A19,[1]統計用!B:B,"*洋画*",[1]統計用!E:E,">=20",[1]統計用!E:E,"<30") -> 1 | H19: =COUNTIFS([1]統計用!A:A,A19,[1]統計用!B:B,"*洋画*",[1]統計用!E:E,">=30",[1]統計用!E:E,"<40") -> 1 | I19: =COUNTIFS([1]統計用!A:A,A19,[1]統計用!B:B,"*洋画*",[1]統計用!E:E,">=40",[1]統計用!E:E,"<50") -> 2 | J19: =COUNTIFS([1]統計用!A:A,A19,[1]統計用!B:B,"*洋画*",[1]統計用!E:E,">=50",[1]統計用!E:E,"<60") -> 3 | K19: =COUNTIFS([1]統計用!A:A,A19,[1]統計用!B:B,"*洋画*",[1]統計用!E:E,">=60",[1]統計用!E:E,"<70") -> 11 | L19: =COUNTIFS([1]統計用!A:A,A19,[1]統計用!B:B,"*洋画*",[1]統計用!E:E,">=70",[1]統計用!E:E,"<80") -> 40 | M19: =COUNTIFS([1]統計用!A:A,A19,[1]統計用!B:B,"*洋画*",[1]統計用!E:E,">=80") -> 19 | N19: =L19+M19 -> 59 | O19: =N19/B19 -> 0.76623377 | P19: =COUNTIFS([1]統計用!A:A,A19,[1]統計用!B:B,"*洋画*",[1]統計用!D:D,"*岸和田*") -> 36 | Q19: =P19/B19 -> 0.46753247
A21: 俳画 | B21: 俳画出品人数 | C21: 初出品人数 | D21: 俳画平均年齢 | E21: 40歳未満人数 | F21: 20歳未満 | G21: 20歳以上 30歳未満 | H21: 30歳以上 40歳未満 | I21: 40歳以上 50歳未満 | J21: 50歳以上 60歳未満 | K21: 60歳以上 70歳未満 | L21: 70歳以上 80歳未満 | M21: 80歳以上 | N21: 70歳以上の人数 | O21: 70歳以上の割合 | P21: 岸和田市内 在住の人数 | Q21: 岸和田市内 在住の割合
A22: H19 | B22: =COUNTIFS([1]統計用!A:A,A22,[1]統計用!B:B,"俳画") -> 33 | C22: 4 | D22: =AVERAGEIFS([1]統計用!E:E,[1]統計用!A:A,A22,[1]統計用!B:B,"*俳画*") -> 67.878788 | E22: =COUNTIFS([1]統計用!A:A,A22,[1]統計用!B:B,"*俳画*",[1]統計用!E:E,"<40") -> 1 | F22: =COUNTIFS([1]統計用!A:A,A22,[1]統計用!B:B,"*俳画*",[1]統計用!E:E,"<20") -> 0 | G22: =COUNTIFS([1]統計用!A:A,A22,[1]統計用!B:B,"*俳画*",[1]統計用!E:E,">=20",[1]統計用!E:E,"<30") -> 0 | H22: =COUNTIFS([1]統計用!A:A,A22,[1]統計用!B:B,"*俳画*",[1]統計用!E:E,">=30",[1]統計用!E:E,"<40") -> 1 | I22: =COUNTIFS([1]統計用!A:A,A22,[1]統計用!B:B,"*俳画*",[1]統計用!E:E,">=40",[1]統計用!E:E,"<50") -> 2 | J22: =COUNTIFS([1]統計用!A:A,A22,[1]統計用!B:B,"*俳画*",[1]統計用!E:E,">=50",[1]統計用!E:E,"<60") -> 2 | K22: =COUNTIFS([1]統計用!A:A,A22,[1]統計用!B:B,"*俳画*",[1]統計用!E:E,">=60",[1]統計用!E:E,"<70") -> 10 | L22: =COUNTIFS([1]統計用!A:A,A22,[1]統計用!B:B,"*俳画*",[1]統計用!E:E,">=70",[1]統計用!E:E,"<80") -> 16 | M22: =COUNTIFS([1]統計用!A:A,A22,[1]統計用!B:B,"*俳画*",[1]統計用!E:E,">=80") -> 2 | N22: =L22+M22 -> 18 | O22: =N22/B22 -> 0.54545455 | P22: =COUNTIFS([1]統計用!A:A,A22,[1]統計用!B:B,"*俳画*",[1]統計用!D:D,"*岸和田*") -> 28 | Q22: =P22/B22 -> 0.84848485
A23: H20 | B23: =COUNTIFS([1]統計用!A:A,A23,[1]統計用!B:B,"俳画") -> 31 | C23: 2 | D23: =AVERAGEIFS([1]統計用!E:E,[1]統計用!A:A,A23,[1]統計用!B:B,"*俳画*") -> 67 | E23: =COUNTIFS([1]統計用!A:A,A23,[1]統計用!B:B,"*俳画*",[1]統計用!E:E,"<40") -> 0 | F23: =COUNTIFS([1]統計用!A:A,A23,[1]統計用!B:B,"*俳画*",[1]統計用!E:E,"<20") -> 0 | G23: =COUNTIFS([1]統計用!A:A,A23,[1]統計用!B:B,"*俳画*",[1]統計用!E:E,">=20",[1]統計用!E:E,"<30") -> 0 | H23: =COUNTIFS([1]統計用!A:A,A23,[1]統計用!B:B,"*俳画*",[1]統計用!E:E,">=30",[1]統計用!E:E,"<40") -> 0 | I23: =COUNTIFS([1]統計用!A:A,A23,[1]統計用!B:B,"*俳画*",[1]統計用!E:E,">=40",[1]統計用!E:E,"<50") -> 3 | J23: =COUNTIFS([1]統計用!A:A,A23,[1]統計用!B:B,"*俳画*",[1]統計用!E:E,">=50",[1]統計用!E:E,"<60") -> 2 | K23: =COUNTIFS([1]統計用!A:A,A23,[1]統計用!B:B,"*俳画*",[1]統計用!E:E,">=60",[1]統計用!E:E,"<70") -> 11 | L23: =COUNTIFS([1]統計用!A:A,A23,[1]統計用!B:B,"*俳画*",[1]統計用!E:E,">=70",[1]統計用!E:E,"<80") -> 12 | M23: =COUNTIFS([1]統計用!A:A,A23,[1]統計用!B:B,"*俳画*",[1]統計用!E:E,">=80") -> 2 | N23: =L23+M23 -> 14 | O23: =N23/B23 -> 0.4516129 | P23: =COUNTIFS([1]統計用!A:A,A23,[1]統計用!B:B,"*俳画*",[1]統計用!D:D,"*岸和田*") -> 25 | Q23: =P23/B23 -> 0.80645161
A24: H21 | B24: =COUNTIFS([1]統計用!A:A,A24,[1]統計用!B:B,"俳画") -> 34 | C24: 6 | D24: =AVERAGEIFS([1]統計用!E:E,[1]統計用!A:A,A24,[1]統計用!B:B,"*俳画*") -> 68.235294 | E24: =COUNTIFS([1]統計用!A:A,A24,[1]統計用!B:B,"*俳画*",[1]統計用!E:E,"<40") -> 0 | F24: =COUNTIFS([1]統計用!A:A,A24,[1]統計用!B:B,"*俳画*",[1]統計用!E:E,"<20") -> 0 | G24: =COUNTIFS([1]統計用!A:A,A24,[1]統計用!B:B,"*俳画*",[1]統計用!E:E,">=20",[1]統計用!E:E,"<30") -> 0 | H24: =COUNTIFS([1]統計用!A:A,A24,[1]統計用!B:B,"*俳画*",[1]統計用!E:E,">=30",[1]統計用!E:E,"<40") -> 0 | I24: =COUNTIFS([1]統計用!A:A,A24,[1]統計用!B:B,"*俳画*",[1]統計用!E:E,">=40",[1]統計用!E:E,"<50") -> 2 | J24: =COUNTIFS([1]統計用!A:A,A24,[1]統計用!B:B,"*俳画*",[1]統計用!E:E,">=50",[1]統計用!E:E,"<60") -> 2 | K24: =COUNTIFS([1]統計用!A:A,A24,[1]統計用!B:B,"*俳画*",[1]統計用!E:E,">=60",[1]統計用!E:E,"<70") -> 15 | L24: =COUNTIFS([1]統計用!A:A,A24,[1]統計用!B:B,"*俳画*",[1]統計用!E:E,">=70",[1]統計用!E:E,"<80") -> 11 | M24: =COUNTIFS([1]統計用!A:A,A24,[1]統計用!B:B,"*俳画*",[1]統計用!E:E,">=80") -> 4 | N24: =L24+M24 -> 15 | O24: =N24/B24 -> 0.44117647 | P24: =COUNTIFS([1]統計用!A:A,A24,[1]統計用!B:B,"*俳画*",[1]統計用!D:D,"*岸和田*") -> 25 | Q24: =P24/B24 -> 0.73529412
A25: H22 | B25: =COUNTIFS([1]統計用!A:A,A25,[1]統計用!B:B,"俳画") -> 30 | C25: 4 | D25: =AVERAGEIFS([1]統計用!E:E,[1]統計用!A:A,A25,[1]統計用!B:B,"*俳画*") -> 69.333333 | E25: =COUNTIFS([1]統計用!A:A,A25,[1]統計用!B:B,"*俳画*",[1]統計用!E:E,"<40") -> 0 | F25: =COUNTIFS([1]統計用!A:A,A25,[1]統計用!B:B,"*俳画*",[1]統計用!E:E,"<20") -> 0 | G25: =COUNTIFS([1]統計用!A:A,A25,[1]統計用!B:B,"*俳画*",[1]統計用!E:E,">=20",[1]統計用!E:E,"<30") -> 0 | H25: =COUNTIFS([1]統計用!A:A,A25,[1]統計用!B:B,"*俳画*",[1]統計用!E:E,">=30",[1]統計用!E:E,"<40") -> 0 | I25: =COUNTIFS([1]統計用!A:A,A25,[1]統計用!B:B,"*俳画*",[1]統計用!E:E,">=40",[1]統計用!E:E,"<50") -> 1 | J25: =COUNTIFS([1]統計用!A:A,A25,[1]統計用!B:B,"*俳画*",[1]統計用!E:E,">=50",[1]統計用!E:E,"<60") -> 2 | K25: =COUNTIFS([1]統計用!A:A,A25,[1]統計用!B:B,"*俳画*",[1]統計用!E:E,">=60",[1]統計用!E:E,"<70") -> 13 | L25: =COUNTIFS([1]統計用!A:A,A25,[1]統計用!B:B,"*俳画*",[1]統計用!E:E,">=70",[1]統計用!E:E,"<80") -> 9 | M25: =COUNTIFS([1]統計用!A:A,A25,[1]統計用!B:B,"*俳画*",[1]統計用!E:E,">=80") -> 5 | N25: =L25+M25 -> 14 | O25: =N25/B25 -> 0.46666667 | P25: =COUNTIFS([1]統計用!A:A,A25,[1]統計用!B:B,"*俳画*",[1]統計用!D:D,"*岸和田*") -> 23 | Q25: =P25/B25 -> 0.76666667
A26: H23 | B26: =COUNTIFS([1]統計用!A:A,A26,[1]統計用!B:B,"俳画") -> 27 | C26: 4 | D26: =AVERAGEIFS([1]統計用!E:E,[1]統計用!A:A,A26,[1]統計用!B:B,"*俳画*") -> 70.407407 | E26: =COUNTIFS([1]統計用!A:A,A26,[1]統計用!B:B,"*俳画*",[1]統計用!E:E,"<40") -> 0 | F26: =COUNTIFS([1]統計用!A:A,A26,[1]統計用!B:B,"*俳画*",[1]統計用!E:E,"<20") -> 0 | G26: =COUNTIFS([1]統計用!A:A,A26,[1]統計用!B:B,"*俳画*",[1]統計用!E:E,">=20",[1]統計用!E:E,"<30") -> 0 | H26: =COUNTIFS([1]統計用!A:A,A26,[1]統計用!B:B,"*俳画*",[1]統計用!E:E,">=30",[1]統計用!E:E,"<40") -> 0 | I26: =COUNTIFS([1]統計用!A:A,A26,[1]統計用!B:B,"*俳画*",[1]統計用!E:E,">=40",[1]統計用!E:E,"<50") -> 1 | J26: =COUNTIFS([1]統計用!A:A,A26,[1]統計用!B:B,"*俳画*",[1]統計用!E:E,">=50",[1]統計用!E:E,"<60") -> 1 | K26: =COUNTIFS([1]統計用!A:A,A26,[1]統計用!B:B,"*俳画*",[1]統計用!E:E,">=60",[1]統計用!E:E,"<70") -> 9 | L26: =COUNTIFS([1]統計用!A:A,A26,[1]統計用!B:B,"*俳画*",[1]統計用!E:E,">=70",[1]統計用!E:E,"<80") -> 11 | M26: =COUNTIFS([1]統計用!A:A,A26,[1]統計用!B:B,"*俳画*",[1]統計用!E:E,">=80") -> 5 | N26: =L26+M26 -> 16 | O26: =N26/B26 -> 0.59259259 | P26: =COUNTIFS([1]統計用!A:A,A26,[1]統計用!B:B,"*俳画*",[1]統計用!D:D,"*岸和田*") -> 17 | Q26: =P26/B26 -> 0.62962963
A27: H24 | B27: =COUNTIFS([1]統計用!A:A,A27,[1]統計用!B:B,"俳画") -> 30 | C27: 4 | D27: =AVERAGEIFS([1]統計用!E:E,[1]統計用!A:A,A27,[1]統計用!B:B,"*俳画*") -> 70.133333 | E27: =COUNTIFS([1]統計用!A:A,A27,[1]統計用!B:B,"*俳画*",[1]統計用!E:E,"<40") -> 0 | F27: =COUNTIFS([1]統計用!A:A,A27,[1]統計用!B:B,"*俳画*",[1]統計用!E:E,"<20") -> 0 | G27: =COUNTIFS([1]統計用!A:A,A27,[1]統計用!B:B,"*俳画*",[1]統計用!E:E,">=20",[1]統計用!E:E,"<30") -> 0 | H27: =COUNTIFS([1]統計用!A:A,A27,[1]統計用!B:B,"*俳画*",[1]統計用!E:E,">=30",[1]統計用!E:E,"<40") -> 0 | I27: =COUNTIFS([1]統計用!A:A,A27,[1]統計用!B:B,"*俳画*",[1]統計用!E:E,">=40",[1]統計用!E:E,"<50") -> 1 | J27: =COUNTIFS([1]統計用!A:A,A27,[1]統計用!B:B,"*俳画*",[1]統計用!E:E,">=50",[1]統計用!E:E,"<60") -> 2 | K27: =COUNTIFS([1]統計用!A:A,A27,[1]統計用!B:B,"*俳画*",[1]統計用!E:E,">=60",[1]統計用!E:E,"<70") -> 11 | L27: =COUNTIFS([1]統計用!A:A,A27,[1]統計用!B:B,"*俳画*",[1]統計用!E:E,">=70",[1]統計用!E:E,"<80") -> 11 | M27: =COUNTIFS([1]統計用!A:A,A27,[1]統計用!B:B,"*俳画*",[1]統計用!E:E,">=80") -> 5 | N27: =L27+M27 -> 16 | O27: =N27/B27 -> 0.53333333 | P27: =COUNTIFS([1]統計用!A:A,A27,[1]統計用!B:B,"*俳画*",[1]統計用!D:D,"*岸和田*") -> 20 | Q27: =P27/B27 -> 0.66666667
A28: H25 | B28: =COUNTIFS([1]統計用!A:A,A28,[1]統計用!B:B,"俳画") -> 24 | C28: 2 | D28: =AVERAGEIFS([1]統計用!E:E,[1]統計用!A:A,A28,[1]統計用!B:B,"*俳画*") -> 71.958333 | E28: =COUNTIFS([1]統計用!A:A,A28,[1]統計用!B:B,"*俳画*",[1]統計用!E:E,"<40") -> 0 | F28: =COUNTIFS([1]統計用!A:A,A28,[1]統計用!B:B,"*俳画*",[1]統計用!E:E,"<20") -> 0 | G28: =COUNTIFS([1]統計用!A:A,A28,[1]統計用!B:B,"*俳画*",[1]統計用!E:E,">=20",[1]統計用!E:E,"<30") -> 0 | H28: =COUNTIFS([1]統計用!A:A,A28,[1]統計用!B:B,"*俳画*",[1]統計用!E:E,">=30",[1]統計用!E:E,"<40") -> 0 | I28: =COUNTIFS([1]統計用!A:A,A28,[1]統計用!B:B,"*俳画*",[1]統計用!E:E,">=40",[1]統計用!E:E,"<50") -> 0 | J28: =COUNTIFS([1]統計用!A:A,A28,[1]統計用!B:B,"*俳画*",[1]統計用!E:E,">=50",[1]統計用!E:E,"<60") -> 2 | K28: =COUNTIFS([1]統計用!A:A,A28,[1]統計用!B:B,"*俳画*",[1]統計用!E:E,">=60",[1]統計用!E:E,"<70") -> 10 | L28: =COUNTIFS([1]統計用!A:A,A28,[1]統計用!B:B,"*俳画*",[1]統計用!E:E,">=70",[1]統計用!E:E,"<80") -> 8 | M28: =COUNTIFS([1]統計用!A:A,A28,[1]統計用!B:B,"*俳画*",[1]統計用!E:E,">=80") -> 4 | N28: =L28+M28 -> 12 | O28: =N28/B28 -> 0.5 | P28: =COUNTIFS([1]統計用!A:A,A28,[1]統計用!B:B,"*俳画*",[1]統計用!D:D,"*岸和田*") -> 18 | Q28: =P28/B28 -> 0.75
A29: H26 | B29: =COUNTIFS([1]統計用!A:A,A29,[1]統計用!B:B,"俳画") -> 23 | C29: 2 | D29: =AVERAGEIFS([1]統計用!E:E,[1]統計用!A:A,A29,[1]統計用!B:B,"*俳画*") -> 72.173913 | E29: =COUNTIFS([1]統計用!A:A,A29,[1]統計用!B:B,"*俳画*",[1]統計用!E:E,"<40") -> 0 | F29: =COUNTIFS([1]統計用!A:A,A29,[1]統計用!B:B,"*俳画*",[1]統計用!E:E,"<20") -> 0 | G29: =COUNTIFS([1]統計用!A:A,A29,[1]統計用!B:B,"*俳画*",[1]統計用!E:E,">=20",[1]統計用!E:E,"<30") -> 0 | H29: =COUNTIFS([1]統計用!A:A,A29,[1]統計用!B:B,"*俳画*",[1]統計用!E:E,">=30",[1]統計用!E:E,"<40") -> 0 | I29: =COUNTIFS([1]統計用!A:A,A29,[1]統計用!B:B,"*俳画*",[1]統計用!E:E,">=40",[1]統計用!E:E,"<50") -> 0 | J29: =COUNTIFS([1]統計用!A:A,A29,[1]統計用!B:B,"*俳画*",[1]統計用!E:E,">=50",[1]統計用!E:E,"<60") -> 1 | K29: =COUNTIFS([1]統計用!A:A,A29,[1]統計用!B:B,"*俳画*",[1]統計用!E:E,">=60",[1]統計用!E:E,"<70") -> 7 | L29: =COUNTIFS([1]統計用!A:A,A29,[1]統計用!B:B,"*俳画*",[1]統計用!E:E,">=70",[1]統計用!E:E,"<80") -> 11 | M29: =COUNTIFS([1]統計用!A:A,A29,[1]統計用!B:B,"*俳画*",[1]統計用!E:E,">=80") -> 4 | N29: =L29+M29 -> 15 | O29: =N29/B29 -> 0.65217391 | P29: =COUNTIFS([1]統計用!A:A,A29,[1]統計用!B:B,"*俳画*",[1]統計用!D:D,"*岸和田*") -> 16 | Q29: =P29/B29 -> 0.69565217
A30: H27 | B30: =COUNTIFS([1]統計用!A:A,A30,[1]統計用!B:B,"俳画") -> 22 | C30: 6 | D30: =AVERAGEIFS([1]統計用!E:E,[1]統計用!A:A,A30,[1]統計用!B:B,"*俳画*") -> 72.590909 | E30: =COUNTIFS([1]統計用!A:A,A30,[1]統計用!B:B,"*俳画*",[1]統計用!E:E,"<40") -> 0 | F30: =COUNTIFS([1]統計用!A:A,A30,[1]統計用!B:B,"*俳画*",[1]統計用!E:E,"<20") -> 0 | G30: =COUNTIFS([1]統計用!A:A,A30,[1]統計用!B:B,"*俳画*",[1]統計用!E:E,">=20",[1]統計用!E:E,"<30") -> 0 | H30: =COUNTIFS([1]統計用!A:A,A30,[1]統計用!B:B,"*俳画*",[1]統計用!E:E,">=30",[1]統計用!E:E,"<40") -> 0 | I30: =COUNTIFS([1]統計用!A:A,A30,[1]統計用!B:B,"*俳画*",[1]統計用!E:E,">=40",[1]統計用!E:E,"<50") -> 0 | J30: =COUNTIFS([1]統計用!A:A,A30,[1]統計用!B:B,"*俳画*",[1]統計用!E:E,">=50",[1]統計用!E:E,"<60") -> 1 | K30: =COUNTIFS([1]統計用!A:A,A30,[1]統計用!B:B,"*俳画*",[1]統計用!E:E,">=60",[1]統計用!E:E,"<70") -> 6 | L30: =COUNTIFS([1]統計用!A:A,A30,[1]統計用!B:B,"*俳画*",[1]統計用!E:E,">=70",[1]統計用!E:E,"<80") -> 10 | M30: =COUNTIFS([1]統計用!A:A,A30,[1]統計用!B:B,"*俳画*",[1]統計用!E:E,">=80") -> 5 | N30: =L30+M30 -> 15 | O30: =N30/B30 -> 0.68181818 | P30: =COUNTIFS([1]統計用!A:A,A30,[1]統計用!B:B,"*俳画*",[1]統計用!D:D,"*岸和田*") -> 21 | Q30: =P30/B30 -> 0.95454545
A31: H28 | B31: =COUNTIFS([1]統計用!A:A,A31,[1]統計用!B:B,"俳画") -> 21 | C31: 2 | D31: =AVERAGEIFS([1]統計用!E:E,[1]統計用!A:A,A31,[1]統計用!B:B,"*俳画*") -> 72.571429 | E31: =COUNTIFS([1]統計用!A:A,A31,[1]統計用!B:B,"*俳画*",[1]統計用!E:E,"<40") -> 0 | F31: =COUNTIFS([1]統計用!A:A,A31,[1]統計用!B:B,"*俳画*",[1]統計用!E:E,"<20") -> 0 | G31: =COUNTIFS([1]統計用!A:A,A31,[1]統計用!B:B,"*俳画*",[1]統計用!E:E,">=20",[1]統計用!E:E,"<30") -> 0 | H31: =COUNTIFS([1]統計用!A:A,A31,[1]統計用!B:B,"*俳画*",[1]統計用!E:E,">=30",[1]統計用!E:E,"<40") -> 0 | I31: =COUNTIFS([1]統計用!A:A,A31,[1]統計用!B:B,"*俳画*",[1]統計用!E:E,">=40",[1]統計用!E:E,"<50") -> 0 | J31: =COUNTIFS([1]統計用!A:A,A31,[1]統計用!B:B,"*俳画*",[1]統計用!E:E,">=50",[1]統計用!E:E,"<60") -> 2 | K31: =COUNTIFS([1]統計用!A:A,A31,[1]統計用!B:B,"*俳画*",[1]統計用!E:E,">=60",[1]統計用!E:E,"<70") -> 5 | L31: =COUNTIFS([1]統計用!A:A,A31,[1]統計用!B:B,"*俳画*",[1]統計用!E:E,">=70",[1]統計用!E:E,"<80") -> 10 | M31: =COUNTIFS([1]統計用!A:A,A31,[1]統計用!B:B,"*俳画*",[1]統計用!E:E,">=80") -> 4 | N31: =L31+M31 -> 14 | O31: =N31/B31 -> 0.66666667 | P31: =COUNTIFS([1]統計用!A:A,A31,[1]統計用!B:B,"*俳画*",[1]統計用!D:D,"*岸和田*") -> 19 | Q31: =P31/B31 -> 0.9047619
A32: H29 | B32: =COUNTIFS([1]統計用!A:A,A32,[1]統計用!B:B,"俳画") -> 20 | C32: 4 | D32: =AVERAGEIFS([1]統計用!E:E,[1]統計用!A:A,A32,[1]統計用!B:B,"*俳画*") -> 72.3 | E32: =COUNTIFS([1]統計用!A:A,A32,[1]統計用!B:B,"*俳画*",[1]統計用!E:E,"<40") -> 0 | F32: =COUNTIFS([1]統計用!A:A,A32,[1]統計用!B:B,"*俳画*",[1]統計用!E:E,"<20") -> 0 | G32: =COUNTIFS([1]統計用!A:A,A32,[1]統計用!B:B,"*俳画*",[1]統計用!E:E,">=20",[1]統計用!E:E,"<30") -> 0 | H32: =COUNTIFS([1]統計用!A:A,A32,[1]統計用!B:B,"*俳画*",[1]統計用!E:E,">=30",[1]統計用!E:E,"<40") -> 0 | I32: =COUNTIFS([1]統計用!A:A,A32,[1]統計用!B:B,"*俳画*",[1]統計用!E:E,">=40",[1]統計用!E:E,"<50") -> 0 | J32: =COUNTIFS([1]統計用!A:A,A32,[1]統計用!B:B,"*俳画*",[1]統計用!E:E,">=50",[1]統計用!E:E,"<60") -> 2 | K32: =COUNTIFS([1]統計用!A:A,A32,[1]統計用!B:B,"*俳画*",[1]統計用!E:E,">=60",[1]統計用!E:E,"<70") -> 5 | L32: =COUNTIFS([1]統計用!A:A,A32,[1]統計用!B:B,"*俳画*",[1]統計用!E:E,">=70",[1]統計用!E:E,"<80") -> 9 | M32: =COUNTIFS([1]統計用!A:A,A32,[1]統計用!B:B,"*俳画*",[1]統計用!E:E,">=80") -> 4 | N32: =L32+M32 -> 13 | O32: =N32/B32 -> 0.65 | P32: =COUNTIFS([1]統計用!A:A,A32,[1]統計用!B:B,"*俳画*",[1]統計用!D:D,"*岸和田*") -> 18 | Q32: =P32/B32 -> 0.9
A33: H30 | B33: =COUNTIFS([1]統計用!A:A,A33,[1]統計用!B:B,"俳画") -> 33 | C33: 17 | D33: =AVERAGEIFS([1]統計用!E:E,[1]統計用!A:A,A33,[1]統計用!B:B,"*俳画*") -> 73.030303 | E33: =COUNTIFS([1]統計用!A:A,A33,[1]統計用!B:B,"*俳画*",[1]統計用!E:E,"<40") -> 0 | F33: =COUNTIFS([1]統計用!A:A,A33,[1]統計用!B:B,"*俳画*",[1]統計用!E:E,"<20") -> 0 | G33: =COUNTIFS([1]統計用!A:A,A33,[1]統計用!B:B,"*俳画*",[1]統計用!E:E,">=20",[1]統計用!E:E,"<30") -> 0 | H33: =COUNTIFS([1]統計用!A:A,A33,[1]統計用!B:B,"*俳画*",[1]統計用!E:E,">=30",[1]統計用!E:E,"<40") -> 0 | I33: =COUNTIFS([1]統計用!A:A,A33,[1]統計用!B:B,"*俳画*",[1]統計用!E:E,">=40",[1]統計用!E:E,"<50") -> 0 | J33: =COUNTIFS([1]統計用!A:A,A33,[1]統計用!B:B,"*俳画*",[1]統計用!E:E,">=50",[1]統計用!E:E,"<60") -> 5 | K33: =COUNTIFS([1]統計用!A:A,A33,[1]統計用!B:B,"*俳画*",[1]統計用!E:E,">=60",[1]統計用!E:E,"<70") -> 2 | L33: =COUNTIFS([1]統計用!A:A,A33,[1]統計用!B:B,"*俳画*",[1]統計用!E:E,">=70",[1]統計用!E:E,"<80") -> 17 | M33: =COUNTIFS([1]統計用!A:A,A33,[1]統計用!B:B,"*俳画*",[1]統計用!E:E,">=80") -> 9 | N33: =L33+M33 -> 26 | O33: =N33/B33 -> 0.78787879 | P33: =COUNTIFS([1]統計用!A:A,A33,[1]統計用!B:B,"*俳画*",[1]統計用!D:D,"*岸和田*") -> 20 | Q33: =P33/B33 -> 0.60606061
... A39: R8 | B39: =COUNTIFS([1]統計用!A:A,A39,[1]統計用!B:B,"俳画") -> 10 | C39: 0 | D39: =AVERAGEIFS([1]統計用!E:E,[1]統計用!A:A,A39,[1]統計用!B:B,"*俳画*") -> 76.9 | E39: =COUNTIFS([1]統計用!A:A,A39,[1]統計用!B:B,"*俳画*",[1]統計用!E:E,"<40") -> 0 | F39: =COUNTIFS([1]統計用!A:A,A39,[1]統計用!B:B,"*俳画*",[1]統計用!E:E,"<20") -> 0 | G39: =COUNTIFS([1]統計用!A:A,A39,[1]統計用!B:B,"*俳画*",[1]統計用!E:E,">=20",[1]統計用!E:E,"<30") -> 0 | H39: =COUNTIFS([1]統計用!A:A,A39,[1]統計用!B:B,"*俳画*",[1]統計用!E:E,">=30",[1]統計用!E:E,"<40") -> 0 | I39: =COUNTIFS([1]統計用!A:A,A39,[1]統計用!B:B,"*俳画*",[1]統計用!E:E,">=40",[1]統計用!E:E,"<50") -> 0 | J39: =COUNTIFS([1]統計用!A:A,A39,[1]統計用!B:B,"*俳画*",[1]統計用!E:E,">=50",[1]統計用!E:E,"<60") -> 0 | K39: =COUNTIFS([1]統計用!A:A,A39,[1]統計用!B:B,"*俳画*",[1]統計用!E:E,">=60",[1]統計用!E:E,"<70") -> 2 | L39: =COUNTIFS([1]統計用!A:A,A39,[1]統計用!B:B,"*俳画*",[1]統計用!E:E,">=70",[1]統計用!E:E,"<80") -> 4 | M39: =COUNTIFS([1]統計用!A:A,A39,[1]統計用!B:B,"*俳画*",[1]統計用!E:E,">=80") -> 4 | N39: =L39+M39 -> 8 | O39: =N39/B39 -> 0.8 | P39: =COUNTIFS([1]統計用!A:A,A39,[1]統計用!B:B,"*俳画*",[1]統計用!D:D,"*岸和田*") -> 7 | Q39: =P39/B39 -> 0.7
A41: 写真 | B41: 写真出品人数 | C41: 初出品人数 | D41: 写真平均年齢 | E41: 40歳未満人数 | F41: 20歳未満 | G41: 20歳以上 30歳未満 | H41: 30歳以上 40歳未満 | I41: 40歳以上 50歳未満 | J41: 50歳以上 60歳未満 | K41: 60歳以上 70歳未満 | L41: 70歳以上 80歳未満 | M41: 80歳以上 | N41: 70歳以上の人数 | O41: 70歳以上の割合 | P41: 岸和田市内 在住の人数 | Q41: 岸和田市内 在住の割合
A42: H19 | B42: =COUNTIFS([1]統計用!A:A,A42,[1]統計用!B:B,"写真") -> 79 | C42: 10 | D42: =AVERAGEIFS([1]統計用!E:E,[1]統計用!A:A,A42,[1]統計用!B:B,"*写真*") -> 67.884615 | E42: =COUNTIFS([1]統計用!A:A,A42,[1]統計用!B:B,"*写真*",[1]統計用!E:E,"<40") -> 1 | F42: =COUNTIFS([1]統計用!A:A,A42,[1]統計用!B:B,"*写真*",[1]統計用!E:E,"<20") -> 0 | G42: =COUNTIFS([1]統計用!A:A,A42,[1]統計用!B:B,"*写真*",[1]統計用!E:E,">=20",[1]統計用!E:E,"<30") -> 1 | H42: =COUNTIFS([1]統計用!A:A,A42,[1]統計用!B:B,"*写真*",[1]統計用!E:E,">=30",[1]統計用!E:E,"<40") -> 0 | I42: =COUNTIFS([1]統計用!A:A,A42,[1]統計用!B:B,"*写真*",[1]統計用!E:E,">=40",[1]統計用!E:E,"<50") -> 1 | J42: =COUNTIFS([1]統計用!A:A,A42,[1]統計用!B:B,"*写真*",[1]統計用!E:E,">=50",[1]統計用!E:E,"<60") -> 8 | K42: =COUNTIFS([1]統計用!A:A,A42,[1]統計用!B:B,"*写真*",[1]統計用!E:E,">=60",[1]統計用!E:E,"<70") -> 34 | L42: =COUNTIFS([1]統計用!A:A,A42,[1]統計用!B:B,"*写真*",[1]統計用!E:E,">=70",[1]統計用!E:E,"<80") -> 30 | M42: =COUNTIFS([1]統計用!A:A,A42,[1]統計用!B:B,"*写真*",[1]統計用!E:E,">=80") -> 4 | N42: =L42+M42 -> 34 | O42: =N42/B42 -> 0.43037975 | P42: =COUNTIFS([1]統計用!A:A,A42,[1]統計用!B:B,"*写真*",[1]統計用!D:D,"*岸和田*") -> 41 | Q42: =P42/B42 -> 0.51898734
A43: H20 | B43: =COUNTIFS([1]統計用!A:A,A43,[1]統計用!B:B,"写真") -> 100 | C43: 20 | D43: =AVERAGEIFS([1]統計用!E:E,[1]統計用!A:A,A43,[1]統計用!B:B,"*写真*") -> 67.84 | E43: =COUNTIFS([1]統計用!A:A,A43,[1]統計用!B:B,"*写真*",[1]統計用!E:E,"<40") -> 2 | F43: =COUNTIFS([1]統計用!A:A,A43,[1]統計用!B:B,"*写真*",[1]統計用!E:E,"<20") -> 1 | G43: =COUNTIFS([1]統計用!A:A,A43,[1]統計用!B:B,"*写真*",[1]統計用!E:E,">=20",[1]統計用!E:E,"<30") -> 0 | H43: =COUNTIFS([1]統計用!A:A,A43,[1]統計用!B:B,"*写真*",[1]統計用!E:E,">=30",[1]統計用!E:E,"<40") -> 1 | I43: =COUNTIFS([1]統計用!A:A,A43,[1]統計用!B:B,"*写真*",[1]統計用!E:E,">=40",[1]統計用!E:E,"<50") -> 2 | J43: =COUNTIFS([1]統計用!A:A,A43,[1]統計用!B:B,"*写真*",[1]統計用!E:E,">=50",[1]統計用!E:E,"<60") -> 13 | K43: =COUNTIFS([1]統計用!A:A,A43,[1]統計用!B:B,"*写真*",[1]統計用!E:E,">=60",[1]統計用!E:E,"<70") -> 34 | L43: =COUNTIFS([1]統計用!A:A,A43,[1]統計用!B:B,"*写真*",[1]統計用!E:E,">=70",[1]統計用!E:E,"<80") -> 42 | M43: =COUNTIFS([1]統計用!A:A,A43,[1]統計用!B:B,"*写真*",[1]統計用!E:E,">=80") -> 7 | N43: =L43+M43 -> 49 | O43: =N43/B43 -> 0.49 | P43: =COUNTIFS([1]統計用!A:A,A43,[1]統計用!B:B,"*写真*",[1]統計用!D:D,"*岸和田*") -> 58 | Q43: =P43/B43 -> 0.58
A44: H21 | B44: =COUNTIFS([1]統計用!A:A,A44,[1]統計用!B:B,"写真") -> 83 | C44: 11 | D44: =AVERAGEIFS([1]統計用!E:E,[1]統計用!A:A,A44,[1]統計用!B:B,"*写真*") -> 69.096386 | E44: =COUNTIFS([1]統計用!A:A,A44,[1]統計用!B:B,"*写真*",[1]統計用!E:E,"<40") -> 1 | F44: =COUNTIFS([1]統計用!A:A,A44,[1]統計用!B:B,"*写真*",[1]統計用!E:E,"<20") -> 0 | G44: =COUNTIFS([1]統計用!A:A,A44,[1]統計用!B:B,"*写真*",[1]統計用!E:E,">=20",[1]統計用!E:E,"<30") -> 0 | H44: =COUNTIFS([1]統計用!A:A,A44,[1]統計用!B:B,"*写真*",[1]統計用!E:E,">=30",[1]統計用!E:E,"<40") -> 1 | I44: =COUNTIFS([1]統計用!A:A,A44,[1]統計用!B:B,"*写真*",[1]統計用!E:E,">=40",[1]統計用!E:E,"<50") -> 1 | J44: =COUNTIFS([1]統計用!A:A,A44,[1]統計用!B:B,"*写真*",[1]統計用!E:E,">=50",[1]統計用!E:E,"<60") -> 10 | K44: =COUNTIFS([1]統計用!A:A,A44,[1]統計用!B:B,"*写真*",[1]統計用!E:E,">=60",[1]統計用!E:E,"<70") -> 23 | L44: =COUNTIFS([1]統計用!A:A,A44,[1]統計用!B:B,"*写真*",[1]統計用!E:E,">=70",[1]統計用!E:E,"<80") -> 42 | M44: =COUNTIFS([1]統計用!A:A,A44,[1]統計用!B:B,"*写真*",[1]統計用!E:E,">=80") -> 6 | N44: =L44+M44 -> 48 | O44: =N44/B44 -> 0.57831325 | P44: =COUNTIFS([1]統計用!A:A,A44,[1]統計用!B:B,"*写真*",[1]統計用!D:D,"*岸和田*") -> 43 | Q44: =P44/B44 -> 0.51807229
A45: H22 | B45: =COUNTIFS([1]統計用!A:A,A45,[1]統計用!B:B,"写真") -> 108 | C45: 27 | D45: =AVERAGEIFS([1]統計用!E:E,[1]統計用!A:A,A45,[1]統計用!B:B,"*写真*") -> 68.851852 | E45: =COUNTIFS([1]統計用!A:A,A45,[1]統計用!B:B,"*写真*",[1]統計用!E:E,"<40") -> 1 | F45: =COUNTIFS([1]統計用!A:A,A45,[1]統計用!B:B,"*写真*",[1]統計用!E:E,"<20") -> 0 | G45: =COUNTIFS([1]統計用!A:A,A45,[1]統計用!B:B,"*写真*",[1]統計用!E:E,">=20",[1]統計用!E:E,"<30") -> 1 | H45: =COUNTIFS([1]統計用!A:A,A45,[1]統計用!B:B,"*写真*",[1]統計用!E:E,">=30",[1]統計用!E:E,"<40") -> 0 | I45: =COUNTIFS([1]統計用!A:A,A45,[1]統計用!B:B,"*写真*",[1]統計用!E:E,">=40",[1]統計用!E:E,"<50") -> 3 | J45: =COUNTIFS([1]統計用!A:A,A45,[1]統計用!B:B,"*写真*",[1]統計用!E:E,">=50",[1]統計用!E:E,"<60") -> 12 | K45: =COUNTIFS([1]統計用!A:A,A45,[1]統計用!B:B,"*写真*",[1]統計用!E:E,">=60",[1]統計用!E:E,"<70") -> 34 | L45: =COUNTIFS([1]統計用!A:A,A45,[1]統計用!B:B,"*写真*",[1]統計用!E:E,">=70",[1]統計用!E:E,"<80") -> 51 | M45: =COUNTIFS([1]統計用!A:A,A45,[1]統計用!B:B,"*写真*",[1]統計用!E:E,">=80") -> 7 | N45: =L45+M45 -> 58 | O45: =N45/B45 -> 0.53703704 | P45: =COUNTIFS([1]統計用!A:A,A45,[1]統計用!B:B,"*写真*",[1]統計用!D:D,"*岸和田*") -> 54 | Q45: =P45/B45 -> 0.5
A46: H23 | B46: =COUNTIFS([1]統計用!A:A,A46,[1]統計用!B:B,"写真") -> 111 | C46: 23 | D46: =AVERAGEIFS([1]統計用!E:E,[1]統計用!A:A,A46,[1]統計用!B:B,"*写真*") -> 68.27027 | E46: =COUNTIFS([1]統計用!A:A,A46,[1]統計用!B:B,"*写真*",[1]統計用!E:E,"<40") -> 2 | F46: =COUNTIFS([1]統計用!A:A,A46,[1]統計用!B:B,"*写真*",[1]統計用!E:E,"<20") -> 0 | G46: =COUNTIFS([1]統計用!A:A,A46,[1]統計用!B:B,"*写真*",[1]統計用!E:E,">=20",[1]統計用!E:E,"<30") -> 1 | H46: =COUNTIFS([1]統計用!A:A,A46,[1]統計用!B:B,"*写真*",[1]統計用!E:E,">=30",[1]統計用!E:E,"<40") -> 1 | I46: =COUNTIFS([1]統計用!A:A,A46,[1]統計用!B:B,"*写真*",[1]統計用!E:E,">=40",[1]統計用!E:E,"<50") -> 2 | J46: =COUNTIFS([1]統計用!A:A,A46,[1]統計用!B:B,"*写真*",[1]統計用!E:E,">=50",[1]統計用!E:E,"<60") -> 7 | K46: =COUNTIFS([1]統計用!A:A,A46,[1]統計用!B:B,"*写真*",[1]統計用!E:E,">=60",[1]統計用!E:E,"<70") -> 44 | L46: =COUNTIFS([1]統計用!A:A,A46,[1]統計用!B:B,"*写真*",[1]統計用!E:E,">=70",[1]統計用!E:E,"<80") -> 50 | M46: =COUNTIFS([1]統計用!A:A,A46,[1]統計用!B:B,"*写真*",[1]統計用!E:E,">=80") -> 6 | N46: =L46+M46 -> 56 | O46: =N46/B46 -> 0.5045045 | P46: =COUNTIFS([1]統計用!A:A,A46,[1]統計用!B:B,"*写真*",[1]統計用!D:D,"*岸和田*") -> 59 | Q46: =P46/B46 -> 0.53153153
A47: H24 | B47: =COUNTIFS([1]統計用!A:A,A47,[1]統計用!B:B,"写真") -> 101 | C47: 8 | D47: =AVERAGEIFS([1]統計用!E:E,[1]統計用!A:A,A47,[1]統計用!B:B,"*写真*") -> 69.930693 | E47: =COUNTIFS([1]統計用!A:A,A47,[1]統計用!B:B,"*写真*",[1]統計用!E:E,"<40") -> 2 | F47: =COUNTIFS([1]統計用!A:A,A47,[1]統計用!B:B,"*写真*",[1]統計用!E:E,"<20") -> 0 | G47: =COUNTIFS([1]統計用!A:A,A47,[1]統計用!B:B,"*写真*",[1]統計用!E:E,">=20",[1]統計用!E:E,"<30") -> 0 | H47: =COUNTIFS([1]統計用!A:A,A47,[1]統計用!B:B,"*写真*",[1]統計用!E:E,">=30",[1]統計用!E:E,"<40") -> 2 | I47: =COUNTIFS([1]統計用!A:A,A47,[1]統計用!B:B,"*写真*",[1]統計用!E:E,">=40",[1]統計用!E:E,"<50") -> 1 | J47: =COUNTIFS([1]統計用!A:A,A47,[1]統計用!B:B,"*写真*",[1]統計用!E:E,">=50",[1]統計用!E:E,"<60") -> 5 | K47: =COUNTIFS([1]統計用!A:A,A47,[1]統計用!B:B,"*写真*",[1]統計用!E:E,">=60",[1]統計用!E:E,"<70") -> 31 | L47: =COUNTIFS([1]統計用!A:A,A47,[1]統計用!B:B,"*写真*",[1]統計用!E:E,">=70",[1]統計用!E:E,"<80") -> 57 | M47: =COUNTIFS([1]統計用!A:A,A47,[1]統計用!B:B,"*写真*",[1]統計用!E:E,">=80") -> 5 | N47: =L47+M47 -> 62 | O47: =N47/B47 -> 0.61386139 | P47: =COUNTIFS([1]統計用!A:A,A47,[1]統計用!B:B,"*写真*",[1]統計用!D:D,"*岸和田*") -> 55 | Q47: =P47/B47 -> 0.54455446
A48: H25 | B48: =COUNTIFS([1]統計用!A:A,A48,[1]統計用!B:B,"写真") -> 115 | C48: 17 | D48: =AVERAGEIFS([1]統計用!E:E,[1]統計用!A:A,A48,[1]統計用!B:B,"*写真*") -> 71.278261 | E48: =COUNTIFS([1]統計用!A:A,A48,[1]統計用!B:B,"*写真*",[1]統計用!E:E,"<40") -> 0 | F48: =COUNTIFS([1]統計用!A:A,A48,[1]統計用!B:B,"*写真*",[1]統計用!E:E,"<20") -> 0 | G48: =COUNTIFS([1]統計用!A:A,A48,[1]統計用!B:B,"*写真*",[1]統計用!E:E,">=20",[1]統計用!E:E,"<30") -> 0 | H48: =COUNTIFS([1]統計用!A:A,A48,[1]統計用!B:B,"*写真*",[1]統計用!E:E,">=30",[1]統計用!E:E,"<40") -> 0 | I48: =COUNTIFS([1]統計用!A:A,A48,[1]統計用!B:B,"*写真*",[1]統計用!E:E,">=40",[1]統計用!E:E,"<50") -> 0 | J48: =COUNTIFS([1]統計用!A:A,A48,[1]統計用!B:B,"*写真*",[1]統計用!E:E,">=50",[1]統計用!E:E,"<60") -> 6 | K48: =COUNTIFS([1]統計用!A:A,A48,[1]統計用!B:B,"*写真*",[1]統計用!E:E,">=60",[1]統計用!E:E,"<70") -> 33 | L48: =COUNTIFS([1]統計用!A:A,A48,[1]統計用!B:B,"*写真*",[1]統計用!E:E,">=70",[1]統計用!E:E,"<80") -> 64 | M48: =COUNTIFS([1]統計用!A:A,A48,[1]統計用!B:B,"*写真*",[1]統計用!E:E,">=80") -> 12 | N48: =L48+M48 -> 76 | O48: =N48/B48 -> 0.66086957 | P48: =COUNTIFS([1]統計用!A:A,A48,[1]統計用!B:B,"*写真*",[1]統計用!D:D,"*岸和田*") -> 59 | Q48: =P48/B48 -> 0.51304348
A49: H26 | B49: =COUNTIFS([1]統計用!A:A,A49,[1]統計用!B:B,"写真") -> 120 | C49: 25 | D49: =AVERAGEIFS([1]統計用!E:E,[1]統計用!A:A,A49,[1]統計用!B:B,"*写真*") -> 70.555556 | E49: =COUNTIFS([1]統計用!A:A,A49,[1]統計用!B:B,"*写真*",[1]統計用!E:E,"<40") -> 1 | F49: =COUNTIFS([1]統計用!A:A,A49,[1]統計用!B:B,"*写真*",[1]統計用!E:E,"<20") -> 0 | G49: =COUNTIFS([1]統計用!A:A,A49,[1]統計用!B:B,"*写真*",[1]統計用!E:E,">=20",[1]統計用!E:E,"<30") -> 0 | H49: =COUNTIFS([1]統計用!A:A,A49,[1]統計用!B:B,"*写真*",[1]統計用!E:E,">=30",[1]統計用!E:E,"<40") -> 1 | I49: =COUNTIFS([1]統計用!A:A,A49,[1]統計用!B:B,"*写真*",[1]統計用!E:E,">=40",[1]統計用!E:E,"<50") -> 1 | J49: =COUNTIFS([1]統計用!A:A,A49,[1]統計用!B:B,"*写真*",[1]統計用!E:E,">=50",[1]統計用!E:E,"<60") -> 7 | K49: =COUNTIFS([1]統計用!A:A,A49,[1]統計用!B:B,"*写真*",[1]統計用!E:E,">=60",[1]統計用!E:E,"<70") -> 32 | L49: =COUNTIFS([1]統計用!A:A,A49,[1]統計用!B:B,"*写真*",[1]統計用!E:E,">=70",[1]統計用!E:E,"<80") -> 64 | M49: =COUNTIFS([1]統計用!A:A,A49,[1]統計用!B:B,"*写真*",[1]統計用!E:E,">=80") -> 12 | N49: =L49+M49 -> 76 | O49: =N49/B49 -> 0.63333333 | P49: =COUNTIFS([1]統計用!A:A,A49,[1]統計用!B:B,"*写真*",[1]統計用!D:D,"*岸和田*") -> 64 | Q49: =P49/B49 -> 0.53333333
A50: H27 | B50: =COUNTIFS([1]統計用!A:A,A50,[1]統計用!B:B,"写真") -> 125 | C50: 10 | D50: =AVERAGEIFS([1]統計用!E:E,[1]統計用!A:A,A50,[1]統計用!B:B,"*写真*") -> 71.41129 | E50: =COUNTIFS([1]統計用!A:A,A50,[1]統計用!B:B,"*写真*",[1]統計用!E:E,"<40") -> 0 | F50: =COUNTIFS([1]統計用!A:A,A50,[1]統計用!B:B,"*写真*",[1]統計用!E:E,"<20") -> 0 | G50: =COUNTIFS([1]統計用!A:A,A50,[1]統計用!B:B,"*写真*",[1]統計用!E:E,">=20",[1]統計用!E:E,"<30") -> 0 | H50: =COUNTIFS([1]統計用!A:A,A50,[1]統計用!B:B,"*写真*",[1]統計用!E:E,">=30",[1]統計用!E:E,"<40") -> 0 | I50: =COUNTIFS([1]統計用!A:A,A50,[1]統計用!B:B,"*写真*",[1]統計用!E:E,">=40",[1]統計用!E:E,"<50") -> 2 | J50: =COUNTIFS([1]統計用!A:A,A50,[1]統計用!B:B,"*写真*",[1]統計用!E:E,">=50",[1]統計用!E:E,"<60") -> 5 | K50: =COUNTIFS([1]統計用!A:A,A50,[1]統計用!B:B,"*写真*",[1]統計用!E:E,">=60",[1]統計用!E:E,"<70") -> 35 | L50: =COUNTIFS([1]統計用!A:A,A50,[1]統計用!B:B,"*写真*",[1]統計用!E:E,">=70",[1]統計用!E:E,"<80") -> 66 | M50: =COUNTIFS([1]統計用!A:A,A50,[1]統計用!B:B,"*写真*",[1]統計用!E:E,">=80") -> 16 | N50: =L50+M50 -> 82 | O50: =N50/B50 -> 0.656 | P50: =COUNTIFS([1]統計用!A:A,A50,[1]統計用!B:B,"*写真*",[1]統計用!D:D,"*岸和田*") -> 63 | Q50: =P50/B50 -> 0.504
A51: H28 | B51: =COUNTIFS([1]統計用!A:A,A51,[1]統計用!B:B,"写真") -> 142 | C51: 29 | D51: =AVERAGEIFS([1]統計用!E:E,[1]統計用!A:A,A51,[1]統計用!B:B,"*写真*") -> 72.422535 | E51: =COUNTIFS([1]統計用!A:A,A51,[1]統計用!B:B,"*写真*",[1]統計用!E:E,"<40") -> 0 | F51: =COUNTIFS([1]統計用!A:A,A51,[1]統計用!B:B,"*写真*",[1]統計用!E:E,"<20") -> 0 | G51: =COUNTIFS([1]統計用!A:A,A51,[1]統計用!B:B,"*写真*",[1]統計用!E:E,">=20",[1]統計用!E:E,"<30") -> 0 | H51: =COUNTIFS([1]統計用!A:A,A51,[1]統計用!B:B,"*写真*",[1]統計用!E:E,">=30",[1]統計用!E:E,"<40") -> 0 | I51: =COUNTIFS([1]統計用!A:A,A51,[1]統計用!B:B,"*写真*",[1]統計用!E:E,">=40",[1]統計用!E:E,"<50") -> 1 | J51: =COUNTIFS([1]統計用!A:A,A51,[1]統計用!B:B,"*写真*",[1]統計用!E:E,">=50",[1]統計用!E:E,"<60") -> 3 | K51: =COUNTIFS([1]統計用!A:A,A51,[1]統計用!B:B,"*写真*",[1]統計用!E:E,">=60",[1]統計用!E:E,"<70") -> 39 | L51: =COUNTIFS([1]統計用!A:A,A51,[1]統計用!B:B,"*写真*",[1]統計用!E:E,">=70",[1]統計用!E:E,"<80") -> 79 | M51: =COUNTIFS([1]統計用!A:A,A51,[1]統計用!B:B,"*写真*",[1]統計用!E:E,">=80") -> 20 | N51: =L51+M51 -> 99 | O51: =N51/B51 -> 0.6971831 | P51: =COUNTIFS([1]統計用!A:A,A51,[1]統計用!B:B,"*写真*",[1]統計用!D:D,"*岸和田*") -> 69 | Q51: =P51/B51 -> 0.48591549
A52: H29 | B52: =COUNTIFS([1]統計用!A:A,A52,[1]統計用!B:B,"写真") -> 134 | C52: 18 | D52: =AVERAGEIFS([1]統計用!E:E,[1]統計用!A:A,A52,[1]統計用!B:B,"*写真*") -> 72.373134 | E52: =COUNTIFS([1]統計用!A:A,A52,[1]統計用!B:B,"*写真*",[1]統計用!E:E,"<40") -> 2 | F52: =COUNTIFS([1]統計用!A:A,A52,[1]統計用!B:B,"*写真*",[1]統計用!E:E,"<20") -> 0 | G52: =COUNTIFS([1]統計用!A:A,A52,[1]統計用!B:B,"*写真*",[1]統計用!E:E,">=20",[1]統計用!E:E,"<30") -> 0 | H52: =COUNTIFS([1]統計用!A:A,A52,[1]統計用!B:B,"*写真*",[1]統計用!E:E,">=30",[1]統計用!E:E,"<40") -> 2 | I52: =COUNTIFS([1]統計用!A:A,A52,[1]統計用!B:B,"*写真*",[1]統計用!E:E,">=40",[1]統計用!E:E,"<50") -> 0 | J52: =COUNTIFS([1]統計用!A:A,A52,[1]統計用!B:B,"*写真*",[1]統計用!E:E,">=50",[1]統計用!E:E,"<60") -> 5 | K52: =COUNTIFS([1]統計用!A:A,A52,[1]統計用!B:B,"*写真*",[1]統計用!E:E,">=60",[1]統計用!E:E,"<70") -> 36 | L52: =COUNTIFS([1]統計用!A:A,A52,[1]統計用!B:B,"*写真*",[1]統計用!E:E,">=70",[1]統計用!E:E,"<80") -> 66 | M52: =COUNTIFS([1]統計用!A:A,A52,[1]統計用!B:B,"*写真*",[1]統計用!E:E,">=80") -> 25 | N52: =L52+M52 -> 91 | O52: =N52/B52 -> 0.67910448 | P52: =COUNTIFS([1]統計用!A:A,A52,[1]統計用!B:B,"*写真*",[1]統計用!D:D,"*岸和田*") -> 63 | Q52: =P52/B52 -> 0.47014925
...
